BEGIN:VCALENDAR
VERSION:2.0
PRODID:-//AU Schedule - ECPv6.9.0//NONSGML v1.0//EN
CALSCALE:GREGORIAN
METHOD:PUBLISH
X-WR-CALNAME:AU Agenda
X-ORIGINAL-URL:https://au-agenda.com
X-WR-CALDESC:Events for AU Schedule
REFRESH-INTERVAL;VALUE=DURATION:PT1H
X-Robots-Tag:noindex
X-PUBLISHED-TTL:PT1H
BEGIN:VTIMEZONE
TZID:Europe/Madrid
BEGIN:DAYLIGHT
TZOFFSETFROM:+0100
TZOFFSETTO:+0200
TZNAME:CEST
DTSTART:20260329T010000
END:DAYLIGHT
BEGIN:STANDARD
TZOFFSETFROM:+0200
TZOFFSETTO:+0100
TZNAME:CET
DTSTART:20261025T010000
END:STANDARD
END:VTIMEZONE
BEGIN:VEVENT
DTSTART;TZID=Europe/Madrid:20260418T170000
DTEND;TZID=Europe/Madrid:20260418T170000
DTSTAMP:20260420T025305
CREATED:20260325T101512Z
LAST-MODIFIED:20260325T101512Z
UID:10033472-1776531600-1776531600@au-agenda.com
SUMMARY:Dona Festival
DESCRIPTION:
URL:https://au-agenda.com/evento/dona-festival/
LOCATION:Parc Central\, Filipines\, s/n\, Valencia\, Valencia\, España
CATEGORIES:Música
END:VEVENT
BEGIN:VEVENT
DTSTART;TZID=Europe/Madrid:20260124T100000
DTEND;TZID=Europe/Madrid:20260124T100000
DTSTAMP:20260420T025305
CREATED:20260122T080104Z
LAST-MODIFIED:20260122T080104Z
UID:10031326-1769248800-1769248800@au-agenda.com
SUMMARY:Esports al Barri
DESCRIPTION:La nova edició del programa ‘Esports al Barri’\, impulsat per l’Ajuntament per a promoure la pràctica esportiva des d’edats primerenques\, comença dissabte que ve 24 de gener en el Parc Central. En este parc urbà s’habilitaran diferents espais perquè les famílies coneguen les possibilitats que oferix la Fundació Esportiva Municipal en totes les seues instal·lacions repartides pels diferents barris de la ciutat. \nDissabte que ve\, en el Parc Central s’habilitaran espais destinats a la pràctica de diferents esports com a hoquei\, triatló\, vóley\, escacs\, pàdel\, pilota valenciana i handbol\, among many others; i amb el suport d’El Corte Inglés es desenrotllaran activitats destinades als més xicotets i xicotetes\, com pinta cares i globoflèxia.
URL:https://au-agenda.com/evento/esports-al-barri/
LOCATION:Parc Central\, Filipines\, s/n\, Valencia\, Valencia\, España
CATEGORIES:Altres
END:VEVENT
END:VCALENDAR