BEGIN:VCALENDAR
VERSION:2.0
PRODID:-//AU Schedule - ECPv6.9.0//NONSGML v1.0//EN
CALSCALE:GREGORIAN
METHOD:PUBLISH
X-WR-CALNAME:AU Agenda
X-ORIGINAL-URL:https://au-agenda.com
X-WR-CALDESC:Events for AU Schedule
REFRESH-INTERVAL;VALUE=DURATION:PT1H
X-Robots-Tag:noindex
X-PUBLISHED-TTL:PT1H
BEGIN:VTIMEZONE
TZID:Europe/Madrid
BEGIN:DAYLIGHT
TZOFFSETFROM:+0100
TZOFFSETTO:+0200
TZNAME:CEST
DTSTART:20250330T010000
END:DAYLIGHT
BEGIN:STANDARD
TZOFFSETFROM:+0200
TZOFFSETTO:+0100
TZNAME:CET
DTSTART:20251026T010000
END:STANDARD
BEGIN:DAYLIGHT
TZOFFSETFROM:+0100
TZOFFSETTO:+0200
TZNAME:CEST
DTSTART:20260329T010000
END:DAYLIGHT
BEGIN:STANDARD
TZOFFSETFROM:+0200
TZOFFSETTO:+0100
TZNAME:CET
DTSTART:20261025T010000
END:STANDARD
END:VTIMEZONE
BEGIN:VEVENT
DTSTART;TZID=Europe/Madrid:20260303T180000
DTEND;TZID=Europe/Madrid:20260303T180000
DTSTAMP:20260419T155313
CREATED:20260302T122552Z
LAST-MODIFIED:20260302T122552Z
UID:10032932-1772560800-1772560800@au-agenda.com
SUMMARY:Manuel Benedito 1875-1963
DESCRIPTION:The Consortium of Museums of the Valencian Community (CMCV) y el Ayuntamiento de València invitan a profundizar en la figura del pintor valenciano Manuel Benedito\, a través de una conferencia a cargo del jefe de Colección de Pintura del siglo XIX en el Museo del Prado\, Javier Barón.  on tuesday 3 de marzo\, at 18.00 horas\, Barón impartirá la conferencia ‘Manuel Benedito 1875- 1963’\, en el Museo de la Ciudad\, donde se exhibe la exposición monográfica que conmemora el 150 aniversario del nacimiento del artista\, ‘Manuel Benedito. El pintor y los modelos’\, that can be seen until 29 of March. \nAcompañado por el comisario de la exposición\, Pascual Masiá\, Javier Barón ahondará en la pintura del maestro valenciano\, discípulo de Sorolla\, más allá de su conocida faceta como retratista. Barón ha destacado que “la personalidad artística de Manuel Benedito\, a lo largo de su trayectoria\, es la de un pintor dotado de una gran capacidad técnica que manifestó a través de distintos géneros”. “Aunque es muy conocido como retratista vale la pena fijarse también en sus cuadros de género y en las campañas que hizo en el norte de Europa durante la primera década del siglo”\, ha añadido el experto. \nPrecisamente de esta etapa la exposición muestra una selección de obras resultado de una campaña de trabajo del pintor en Holanda a principios de 1900\, “cuando un Benedito en plenas facultades sintetiza todo su saber pictórico en cuadros que siempre fueron considerados por la crítica entre lo mejor de su producción y que fueron premiados en diversos concursos y exposiciones” ha explicado Masiá. \nDe este período es también el ‘Autorretrato con la vuelta del trabajo’ (1905)\, que se muestra por primera vez al público\, after its acquisition by the Prado Museum in 2024. \nDibujos inéditos \nLa exposición ‘Manuel Benedito. El pintor y los modelos’ reúne 65 obras\, 50 pinturas y 15 dibujos que repasan algunos de los grandes hitos en su trayectoria. Gran parte de la exposición está compuesta por obras de la Fundación Manuel Benedito de Madrid\, junto a piezas procedentes del Museo del Prado\, de la Colección Carmen Thyssen-Bornemisza\, del Museo Sorolla\, la Colección Banco Santander\, el Museo de Bellas Artes de València\, del Ministerio de Asuntos Exteriores y de diversas colecciones particulares. Entre sus grandes retratos se muestra uno de Cléo de Mérode\, estrella de la Ópera de París e icono de la Belle Époque\, o una serie de dibujos de desnudos de Concha Piquer que nunca se habían expuesto y que “evidencia la relación de complicidad que se establecía entre el pintor y sus modelos” explica Masiá. \nJavier Barón\, experto en la pintura del siglo XIX \nJavier Barón es experto en pintura del siglo XIX. Doctor en Historia del Arte por la Universidad de Oviedo\, ingresó en el Museo del Prado en 2003 como jefe de Departamento de Pintura del Siglo XIX. Es autor de numerosas publicaciones y comisario de exposiciones acerca de la pintura de los siglos XIX y XX\, como ‘El siglo XIX en el Prado\, Joaquín Sorolla (1863-1923)’\, ‘Turner y los maestros’\, ‘El paisajista Martín Rico (1833-1908)’\, o ‘El Greco y la pintura moderna o Fortuny (1838-1874)’. Asimismo\, forma parte del consejo asesor del Archivo Español de Arte y es miembro del Real Instituto de Estudios Asturianos\, de la Real Academia de la Historia\, de la Real Academia de Bellas Artes de San Fernando\, del Patronato de la Fundación Museo Sorolla y de la Junta de Valoración de Obras de Arte del Ayuntamiento de Madrid.
URL:https://au-agenda.com/evento/manuel-benedito-1875-1963/
LOCATION:Museu de la Ciutat\, l'Arquebisbe\, 3\, Valencia\, Valencia\, 46003\, España
CATEGORIES:Confèrencia-Debat
END:VEVENT
BEGIN:VEVENT
DTSTART;TZID=Europe/Madrid:20251212T100000
DTEND;TZID=Europe/Madrid:20260329T200000
DTSTAMP:20260419T155313
CREATED:20251212T170543Z
LAST-MODIFIED:20260208T200243Z
UID:10029140-1765533600-1774814400@au-agenda.com
SUMMARY:Manuel Benedito. El pintor y los modelos
DESCRIPTION:The Consortium of Museums of the Valencian Community (CMCV) and the Valencia City Council pay tribute to the Valencian painter Manuel Benedito in the 150 aniversario de su nacimiento\, con una muestra en el Museo de la Ciudad que reúne algunos de sus mejores cuadros y que evidencia la complejidad de su pintura\, showing his creation processes and the vitality of his portraits. \nEl Consorcio de Museos\, which he already did in 2005 una exposición antológica del pintor\, propone ahora un recorrido por sus obras a través de una serie de cuadros importantes de su producción\, de distintos temas\, y\, junto a ellos\, los bocetos y estudios preparatorios\, that allow you to know the different phases of your creative process until the final result. La exposición se centra en los encargos de retrato\, in the compositions that involved a more complex process and in the painter's approach to certain popular themes and types. \nDestacan entre las obras de autorretrato con ‘La vuelta del trabajo’ (1905) que se exhibe por primera vez\, after its acquisition by the Prado Museum in 2024 and that belonged to a private collection since its creation. Asimismo\, The upper part of the large diptych 'Canto VII of the Divine Comedy' is exhibited. ‘El Infierno de Dante’\, which leaves the Manuel Benedito Foundation for the first time and which was in the painter's studio.
URL:https://au-agenda.com/evento/manuel-benedito-el-pintor-y-los-modelos/
LOCATION:Museu de la Ciutat\, l'Arquebisbe\, 3\, Valencia\, Valencia\, 46003\, España
CATEGORIES:Exposiciones
ATTACH;FMTTYPE=image/jpeg:https://au-agenda.com/wp-content/uploads/2025/12/Captura-de-Pantalla-2025-12-12-a-las-18.00.20.jpg
END:VEVENT
END:VCALENDAR