BEGIN:VCALENDAR
VERSION:2.0
PRODID:-//AU Schedule - ECPv6.9.0//NONSGML v1.0//EN
CALSCALE:GREGORIAN
METHOD:PUBLISH
X-WR-CALNAME:AU Agenda
X-ORIGINAL-URL:https://au-agenda.com
X-WR-CALDESC:Events for AU Schedule
REFRESH-INTERVAL;VALUE=DURATION:PT1H
X-Robots-Tag:noindex
X-PUBLISHED-TTL:PT1H
BEGIN:VTIMEZONE
TZID:Europe/Madrid
BEGIN:DAYLIGHT
TZOFFSETFROM:+0100
TZOFFSETTO:+0200
TZNAME:CEST
DTSTART:20250330T010000
END:DAYLIGHT
BEGIN:STANDARD
TZOFFSETFROM:+0200
TZOFFSETTO:+0100
TZNAME:CET
DTSTART:20251026T010000
END:STANDARD
END:VTIMEZONE
BEGIN:VEVENT
DTSTART;TZID=Europe/Madrid:20251226T123000
DTEND;TZID=Europe/Madrid:20251226T123000
DTSTAMP:20260424T031056
CREATED:20251122T090200Z
LAST-MODIFIED:20251122T090200Z
UID:10028304-1766752200-1766752200@au-agenda.com
SUMMARY:II Festival Mundial de Magia
DESCRIPTION:Tras el éxito arrollador de su primera edición\, which attracted more than 6.000 espectadores y convirtió a Valencia en el epicentro de la ilusión\, el Festival Mundial de Magia “Valencia es Magia” regresa con más fuerza que nunca. Este año\, y gracias a la increíble acogida del público\, el festival duplica sus funciones\, offering 18 espectáculos únicos que reunirán a más de 13.000 personas dispuestas a dejarse sorprender\, emocionar y maravillar. \nValencia es Magia promete una experiencia inigualable\, con artistas de primer nivel llegados desde Corea\, China\, Francia y España\, que traerán al escenario lo mejor del ilusionismo mundial. Cada función será un viaje por lo imposible: ilusiones visuales\, números impresionantes\, humor\, misterio y emoción se darán la mano para crear momentos inolvidables. \nLa ciudad de Valencia volverá a llenarse de fantasía\, aplausos y magia en estado puro. This is not just a show: es un festival internacional que celebra el arte de asombrar\, de emocionar y de hacer soñar a públicos de todas las edades.
URL:https://au-agenda.com/evento/ii-festival-mundial-de-magia/
LOCATION:La PlaZeta\, San Bruno\, 21\, Valencia\, Valencia\, 46009\, España
CATEGORIES:Magia
END:VEVENT
BEGIN:VEVENT
DTSTART;TZID=Europe/Madrid:20251226T110000
DTEND;TZID=Europe/Madrid:20251226T110000
DTSTAMP:20260424T031056
CREATED:20251213T064444Z
LAST-MODIFIED:20251213T064717Z
UID:10029151-1766746800-1766746800@au-agenda.com
SUMMARY:Valencia Christmas Market
DESCRIPTION:Of the 23 from December to 4 de enero\, la zona exterior del teatro La Plazeta acogerá el Valencia Christmas Market\, with free access and endless proposals designed to enjoy with the family. Entre sus principales atractivos estará una de las pistas de patinaje sobre hielo real y cubierta más grandes de València\, that will allow you to live a unique winter experience in the city. \nEl market contará también con un espectacular hinchable de más de 900 m²\, el más grande de València\, designed so that children and adults can overcome different levels of challenge and enjoy an exciting adventure during the holidays. \nComo novedad\, el espacio incluirá una zona de gel ball\, where teams of all ages can have fun with a safe battle of gel balls that do not hurt or stain. The offer is completed with a food truck area and a recreational area. Aunque el acceso es gratuito\, The public will be able to reserve time slots to avoid queues and guarantee a more comfortable visit. \n+info
URL:https://au-agenda.com/evento/valencia-christmas-market/2025-12-26/
LOCATION:La PlaZeta\, San Bruno\, 21\, Valencia\, Valencia\, 46009\, España
CATEGORIES:Altres
ATTACH;FMTTYPE=image/jpeg:https://au-agenda.com/wp-content/uploads/2025/12/Plazeta_Pista-de-hielo.jpg
END:VEVENT
BEGIN:VEVENT
DTSTART;TZID=Europe/Madrid:20251225T200000
DTEND;TZID=Europe/Madrid:20251225T200000
DTSTAMP:20260424T031056
CREATED:20251122T085349Z
LAST-MODIFIED:20251122T085349Z
UID:10028297-1766692800-1766692800@au-agenda.com
SUMMARY:Toyland
DESCRIPTION:De los creadores de la saga Ante el Magnífico y Onirika llega Estas Navidades\, el Teatro La PlaZeta abre las puertas de Toyland\, a place where imagination has no limits and toys come to life to celebrate the magic of Christmas.
URL:https://au-agenda.com/evento/toyland-5/
LOCATION:La PlaZeta\, San Bruno\, 21\, Valencia\, Valencia\, 46009\, España
CATEGORIES:Escena
END:VEVENT
BEGIN:VEVENT
DTSTART;TZID=Europe/Madrid:20251225T180000
DTEND;TZID=Europe/Madrid:20251225T180000
DTSTAMP:20260424T031056
CREATED:20251213T064444Z
LAST-MODIFIED:20251213T064717Z
UID:10029150-1766685600-1766685600@au-agenda.com
SUMMARY:Valencia Christmas Market
DESCRIPTION:Of the 23 from December to 4 de enero\, la zona exterior del teatro La Plazeta acogerá el Valencia Christmas Market\, with free access and endless proposals designed to enjoy with the family. Entre sus principales atractivos estará una de las pistas de patinaje sobre hielo real y cubierta más grandes de València\, that will allow you to live a unique winter experience in the city. \nEl market contará también con un espectacular hinchable de más de 900 m²\, el más grande de València\, designed so that children and adults can overcome different levels of challenge and enjoy an exciting adventure during the holidays. \nComo novedad\, el espacio incluirá una zona de gel ball\, where teams of all ages can have fun with a safe battle of gel balls that do not hurt or stain. The offer is completed with a food truck area and a recreational area. Aunque el acceso es gratuito\, The public will be able to reserve time slots to avoid queues and guarantee a more comfortable visit. \n+info
URL:https://au-agenda.com/evento/valencia-christmas-market/2025-12-25/
LOCATION:La PlaZeta\, San Bruno\, 21\, Valencia\, Valencia\, 46009\, España
CATEGORIES:Altres
ATTACH;FMTTYPE=image/jpeg:https://au-agenda.com/wp-content/uploads/2025/12/Plazeta_Pista-de-hielo.jpg
END:VEVENT
BEGIN:VEVENT
DTSTART;TZID=Europe/Madrid:20251224T120000
DTEND;TZID=Europe/Madrid:20251224T120000
DTSTAMP:20260424T031056
CREATED:20251122T085313Z
LAST-MODIFIED:20251122T085313Z
UID:10028298-1766577600-1766577600@au-agenda.com
SUMMARY:Toyland
DESCRIPTION:De los creadores de la saga Ante el Magnífico y Onirika llega Estas Navidades\, el Teatro La PlaZeta abre las puertas de Toyland\, a place where imagination has no limits and toys come to life to celebrate the magic of Christmas.
URL:https://au-agenda.com/evento/toyland-4/
LOCATION:La PlaZeta\, San Bruno\, 21\, Valencia\, Valencia\, 46009\, España
CATEGORIES:Escena
END:VEVENT
BEGIN:VEVENT
DTSTART;TZID=Europe/Madrid:20251224T110000
DTEND;TZID=Europe/Madrid:20251224T110000
DTSTAMP:20260424T031056
CREATED:20251213T064444Z
LAST-MODIFIED:20251213T064717Z
UID:10029149-1766574000-1766574000@au-agenda.com
SUMMARY:Valencia Christmas Market
DESCRIPTION:Of the 23 from December to 4 de enero\, la zona exterior del teatro La Plazeta acogerá el Valencia Christmas Market\, with free access and endless proposals designed to enjoy with the family. Entre sus principales atractivos estará una de las pistas de patinaje sobre hielo real y cubierta más grandes de València\, that will allow you to live a unique winter experience in the city. \nEl market contará también con un espectacular hinchable de más de 900 m²\, el más grande de València\, designed so that children and adults can overcome different levels of challenge and enjoy an exciting adventure during the holidays. \nComo novedad\, el espacio incluirá una zona de gel ball\, where teams of all ages can have fun with a safe battle of gel balls that do not hurt or stain. The offer is completed with a food truck area and a recreational area. Aunque el acceso es gratuito\, The public will be able to reserve time slots to avoid queues and guarantee a more comfortable visit. \n+info
URL:https://au-agenda.com/evento/valencia-christmas-market/2025-12-24/
LOCATION:La PlaZeta\, San Bruno\, 21\, Valencia\, Valencia\, 46009\, España
CATEGORIES:Altres
ATTACH;FMTTYPE=image/jpeg:https://au-agenda.com/wp-content/uploads/2025/12/Plazeta_Pista-de-hielo.jpg
END:VEVENT
BEGIN:VEVENT
DTSTART;TZID=Europe/Madrid:20251223T160000
DTEND;TZID=Europe/Madrid:20251223T160000
DTSTAMP:20260424T031056
CREATED:20251213T064444Z
LAST-MODIFIED:20251213T064717Z
UID:10029148-1766505600-1766505600@au-agenda.com
SUMMARY:Valencia Christmas Market
DESCRIPTION:Of the 23 from December to 4 de enero\, la zona exterior del teatro La Plazeta acogerá el Valencia Christmas Market\, with free access and endless proposals designed to enjoy with the family. Entre sus principales atractivos estará una de las pistas de patinaje sobre hielo real y cubierta más grandes de València\, that will allow you to live a unique winter experience in the city. \nEl market contará también con un espectacular hinchable de más de 900 m²\, el más grande de València\, designed so that children and adults can overcome different levels of challenge and enjoy an exciting adventure during the holidays. \nComo novedad\, el espacio incluirá una zona de gel ball\, where teams of all ages can have fun with a safe battle of gel balls that do not hurt or stain. The offer is completed with a food truck area and a recreational area. Aunque el acceso es gratuito\, The public will be able to reserve time slots to avoid queues and guarantee a more comfortable visit. \n+info
URL:https://au-agenda.com/evento/valencia-christmas-market/2025-12-23/
LOCATION:La PlaZeta\, San Bruno\, 21\, Valencia\, Valencia\, 46009\, España
CATEGORIES:Altres
ATTACH;FMTTYPE=image/jpeg:https://au-agenda.com/wp-content/uploads/2025/12/Plazeta_Pista-de-hielo.jpg
END:VEVENT
BEGIN:VEVENT
DTSTART;TZID=Europe/Madrid:20251223T120000
DTEND;TZID=Europe/Madrid:20251223T120000
DTSTAMP:20260424T031056
CREATED:20251122T085247Z
LAST-MODIFIED:20251122T085247Z
UID:10028296-1766491200-1766491200@au-agenda.com
SUMMARY:Toyland
DESCRIPTION:De los creadores de la saga Ante el Magnífico y Onirika llega Estas Navidades\, el Teatro La PlaZeta abre las puertas de Toyland\, a place where imagination has no limits and toys come to life to celebrate the magic of Christmas.
URL:https://au-agenda.com/evento/toyland-3/
LOCATION:La PlaZeta\, San Bruno\, 21\, Valencia\, Valencia\, 46009\, España
CATEGORIES:Escena
END:VEVENT
BEGIN:VEVENT
DTSTART;TZID=Europe/Madrid:20251221T120000
DTEND;TZID=Europe/Madrid:20251221T120000
DTSTAMP:20260424T031056
CREATED:20251122T085221Z
LAST-MODIFIED:20251122T085221Z
UID:10028295-1766318400-1766318400@au-agenda.com
SUMMARY:Toyland
DESCRIPTION:De los creadores de la saga Ante el Magnífico y Onirika llega Estas Navidades\, el Teatro La PlaZeta abre las puertas de Toyland\, a place where imagination has no limits and toys come to life to celebrate the magic of Christmas.
URL:https://au-agenda.com/evento/toyland-2/
LOCATION:La PlaZeta\, San Bruno\, 21\, Valencia\, Valencia\, 46009\, España
CATEGORIES:Escena
END:VEVENT
BEGIN:VEVENT
DTSTART;TZID=Europe/Madrid:20251221T110000
DTEND;TZID=Europe/Madrid:20251221T110000
DTSTAMP:20260424T031056
CREATED:20251213T064444Z
LAST-MODIFIED:20251213T064717Z
UID:10029147-1766314800-1766314800@au-agenda.com
SUMMARY:Valencia Christmas Market
DESCRIPTION:Of the 23 from December to 4 de enero\, la zona exterior del teatro La Plazeta acogerá el Valencia Christmas Market\, with free access and endless proposals designed to enjoy with the family. Entre sus principales atractivos estará una de las pistas de patinaje sobre hielo real y cubierta más grandes de València\, that will allow you to live a unique winter experience in the city. \nEl market contará también con un espectacular hinchable de más de 900 m²\, el más grande de València\, designed so that children and adults can overcome different levels of challenge and enjoy an exciting adventure during the holidays. \nComo novedad\, el espacio incluirá una zona de gel ball\, where teams of all ages can have fun with a safe battle of gel balls that do not hurt or stain. The offer is completed with a food truck area and a recreational area. Aunque el acceso es gratuito\, The public will be able to reserve time slots to avoid queues and guarantee a more comfortable visit. \n+info
URL:https://au-agenda.com/evento/valencia-christmas-market/2025-12-21/
LOCATION:La PlaZeta\, San Bruno\, 21\, Valencia\, Valencia\, 46009\, España
CATEGORIES:Altres
ATTACH;FMTTYPE=image/jpeg:https://au-agenda.com/wp-content/uploads/2025/12/Plazeta_Pista-de-hielo.jpg
END:VEVENT
BEGIN:VEVENT
DTSTART;TZID=Europe/Madrid:20251220T120000
DTEND;TZID=Europe/Madrid:20251220T120000
DTSTAMP:20260424T031056
CREATED:20251122T085119Z
LAST-MODIFIED:20251122T085119Z
UID:10028294-1766232000-1766232000@au-agenda.com
SUMMARY:Toyland
DESCRIPTION:De los creadores de la saga Ante el Magnífico y Onirika llega Estas Navidades\, el Teatro La PlaZeta abre las puertas de Toyland\, a place where imagination has no limits and toys come to life to celebrate the magic of Christmas.
URL:https://au-agenda.com/evento/toyland/
LOCATION:La PlaZeta\, San Bruno\, 21\, Valencia\, Valencia\, 46009\, España
CATEGORIES:Escena
END:VEVENT
BEGIN:VEVENT
DTSTART;TZID=Europe/Madrid:20251220T110000
DTEND;TZID=Europe/Madrid:20251220T110000
DTSTAMP:20260424T031056
CREATED:20251213T064444Z
LAST-MODIFIED:20251213T064717Z
UID:10029145-1766228400-1766228400@au-agenda.com
SUMMARY:Valencia Christmas Market
DESCRIPTION:Of the 23 from December to 4 de enero\, la zona exterior del teatro La Plazeta acogerá el Valencia Christmas Market\, with free access and endless proposals designed to enjoy with the family. Entre sus principales atractivos estará una de las pistas de patinaje sobre hielo real y cubierta más grandes de València\, that will allow you to live a unique winter experience in the city. \nEl market contará también con un espectacular hinchable de más de 900 m²\, el más grande de València\, designed so that children and adults can overcome different levels of challenge and enjoy an exciting adventure during the holidays. \nComo novedad\, el espacio incluirá una zona de gel ball\, where teams of all ages can have fun with a safe battle of gel balls that do not hurt or stain. The offer is completed with a food truck area and a recreational area. Aunque el acceso es gratuito\, The public will be able to reserve time slots to avoid queues and guarantee a more comfortable visit. \n+info
URL:https://au-agenda.com/evento/valencia-christmas-market/2025-12-20/
LOCATION:La PlaZeta\, San Bruno\, 21\, Valencia\, Valencia\, 46009\, España
CATEGORIES:Altres
ATTACH;FMTTYPE=image/jpeg:https://au-agenda.com/wp-content/uploads/2025/12/Plazeta_Pista-de-hielo.jpg
END:VEVENT
BEGIN:VEVENT
DTSTART;TZID=Europe/Madrid:20251216T180000
DTEND;TZID=Europe/Madrid:20251216T180000
DTSTAMP:20260424T031056
CREATED:20251122T084610Z
LAST-MODIFIED:20251122T084610Z
UID:10028290-1765908000-1765908000@au-agenda.com
SUMMARY:Las Guerreras del K-POP en concierto
DESCRIPTION:Por primera vez en tu localidad\, the most anticipated tribute of the moment arrives: Las Guerreras del K-Pop\, a show inspired by your favorite groups. Get ready for an electrifying K-Pop musical where fame hides a supernatural war for the fate of the HofMund. Lo que el público no sabe es que estas cazadoras utilizan sus poderosos talentos musicales como un escudo místico\, deploying choreography and harmonies to protect their fans from an imminent demonic invasion. Attend this spectacular stage showdown: a fight of the bands where each song is an epic battle and music is the ultimate weapon.
URL:https://au-agenda.com/evento/las-guerreras-del-k-pop-en-concierto-4/
LOCATION:La PlaZeta\, San Bruno\, 21\, Valencia\, Valencia\, 46009\, España
CATEGORIES:Escena
END:VEVENT
BEGIN:VEVENT
DTSTART;TZID=Europe/Madrid:20251214T173000
DTEND;TZID=Europe/Madrid:20251214T173000
DTSTAMP:20260424T031056
CREATED:20251122T084428Z
LAST-MODIFIED:20251122T084428Z
UID:10028289-1765733400-1765733400@au-agenda.com
SUMMARY:El Show de la Fantasy House
DESCRIPTION:El Show de la Fantasy House es una inmersión total en el universo del TEAM FANTASY\, compuesto por los exitosos Youtubers Animalize21\, AlexGF\, PabletePablitor y los diferentes personajes que encarnan en sus vídeos como El Rulas\, El Ruso y Pablete entre otros\, so loved by his audience. Un espectáculo donde padres e hijos podrán disfrutar en vivo de su comedia\, their songs and interact with team games. \nEdad recomendada a partir de los 5 años.\nDuración 75 minutos
URL:https://au-agenda.com/evento/el-show-de-la-fantasy-house-2/
LOCATION:La PlaZeta\, San Bruno\, 21\, Valencia\, Valencia\, 46009\, España
CATEGORIES:Altres
END:VEVENT
BEGIN:VEVENT
DTSTART;TZID=Europe/Madrid:20251214T123000
DTEND;TZID=Europe/Madrid:20251214T123000
DTSTAMP:20260424T031056
CREATED:20251122T084335Z
LAST-MODIFIED:20251122T084335Z
UID:10028287-1765715400-1765715400@au-agenda.com
SUMMARY:El Show de la Fantasy House
DESCRIPTION:El Show de la Fantasy House es una inmersión total en el universo del TEAM FANTASY\, compuesto por los exitosos Youtubers Animalize21\, AlexGF\, PabletePablitor y los diferentes personajes que encarnan en sus vídeos como El Rulas\, El Ruso y Pablete entre otros\, so loved by his audience. Un espectáculo donde padres e hijos podrán disfrutar en vivo de su comedia\, their songs and interact with team games. \nEdad recomendada a partir de los 5 años.\nDuración 75 minutos
URL:https://au-agenda.com/evento/el-show-de-la-fantasy-house/
LOCATION:La PlaZeta\, San Bruno\, 21\, Valencia\, Valencia\, 46009\, España
CATEGORIES:Altres
END:VEVENT
BEGIN:VEVENT
DTSTART;TZID=Europe/Madrid:20251213T220000
DTEND;TZID=Europe/Madrid:20251213T220000
DTSTAMP:20260424T031056
CREATED:20251122T084202Z
LAST-MODIFIED:20251122T084202Z
UID:10028286-1765663200-1765663200@au-agenda.com
SUMMARY:Moonlight. Tribute to the Music of the 80 y 90 con SomDuo
DESCRIPTION:En el corazón de Valencia\, te invitamos a una experiencia única que fusiona la magia de la música en vivo con la belleza de un escenario inspirado por la luz de la luna. MOONLIGHT es mucho más que un concierto; es un viaje sensorial que te permite descubrir las composiciones más emotivas de los años 80´s y 90´s\, interpretadas por el virtuoso pianista Albert Tàrrega y el brillante saxofonista Pablo Balaguer.
URL:https://au-agenda.com/evento/moonlight-tributo-a-la-musica-de-los-80-y-90-con-somduo/
LOCATION:La PlaZeta\, San Bruno\, 21\, Valencia\, Valencia\, 46009\, España
CATEGORIES:Música
END:VEVENT
BEGIN:VEVENT
DTSTART;TZID=Europe/Madrid:20251212T220000
DTEND;TZID=Europe/Madrid:20251212T220000
DTSTAMP:20260424T031056
CREATED:20251122T084105Z
LAST-MODIFIED:20251122T084105Z
UID:10028285-1765576800-1765576800@au-agenda.com
SUMMARY:Isabel Rey: "Neighborhood diva"
DESCRIPTION:A través de sus recuerdos\, Isabel reclama que vivimos en un mundo en el que fingimos felicidad a través de una pantalla para mostrárselo a los demás y luego estamos más amargados que cristo clavado en la cruz. Con su “chonismo” de los 2000\, Isabel te recordará lo felices que éramos en la época donde todavía estaban naciendo las primeras redes sociales y disfrutábamos más de la compañía de los demás. Isabel es una chica sin filtros\, que derrocha naturalidad. En este show nos deleita sus mejores anécdotas\, con todo lujo de detalles\, y un cierre musical que no te podrás perder.
URL:https://au-agenda.com/evento/isabel-rey-diva-de-barrio/
LOCATION:La PlaZeta\, San Bruno\, 21\, Valencia\, Valencia\, 46009\, España
CATEGORIES:Monólogo
END:VEVENT
BEGIN:VEVENT
DTSTART;TZID=Europe/Madrid:20251207T190000
DTEND;TZID=Europe/Madrid:20251207T190000
DTSTAMP:20260424T031056
CREATED:20251122T084004Z
LAST-MODIFIED:20251122T084004Z
UID:10028284-1765134000-1765134000@au-agenda.com
SUMMARY:Live Cinema with Moulin Rouge!
DESCRIPTION:Live Moulin Rouge as never before! No solo podrás revivir tu escenas favoritas de este clásico… ¡Sino que vivirás los bailes en directo! Mientras se proyecta la película\, The legendary dance scenes will be performed live by professional dancers with a multitude of special effects . Lo mejor del mundo del cine y los musicales unidos sobre el escenario del increíble Teatro La PlaZeta\, en un espectáculo que no puedes perderte…
URL:https://au-agenda.com/evento/cine-en-vivo-con-moulin-rouge/
LOCATION:La PlaZeta\, San Bruno\, 21\, Valencia\, Valencia\, 46009\, España
CATEGORIES:Cinema
END:VEVENT
BEGIN:VEVENT
DTSTART;TZID=Europe/Madrid:20251207T123000
DTEND;TZID=Europe/Madrid:20251207T123000
DTSTAMP:20260424T031056
CREATED:20251122T083854Z
LAST-MODIFIED:20251122T083854Z
UID:10028283-1765110600-1765110600@au-agenda.com
SUMMARY:La Granja De Zenón
DESCRIPTION:La Granja de Zenón presents its new show 'IN SEARCH OF THE RAINBOW'. El fenómeno infantil del momento\, con 65 millones de suscriptores en YouTube y miles de millones de visualizaciones\, returns to Spain with new adventures in a spectacular audiovisual show that the whole family enjoys. La Granja de Zenón presents an immersive experience where the protagonist is also you. \nTodos los amigos de La Granja llegan otra vez al teatro para contarnos una historia increíble: Tito and Bartolito dream of reaching the rainbow but both are disappointed when Zenón and Pinto tell them that it is impossible. Nada detendrá al travieso gallito Bartolito y al curioso Tito\, that will not rest until it is achieved. Porque ellos saben que nunca hay que dejar de creer\, nunca hay que dejar de soñar\, We always have to imagine and trust what our heart tells us. It is a great production with more than 150 metros de pantalla led\, efectos sonoros\, lighting effects and the best songs from La Granja.
URL:https://au-agenda.com/evento/la-granja-de-zenon-2/
LOCATION:La PlaZeta\, San Bruno\, 21\, Valencia\, Valencia\, 46009\, España
CATEGORIES:Escena
END:VEVENT
BEGIN:VEVENT
DTSTART;TZID=Europe/Madrid:20251206T220000
DTEND;TZID=Europe/Madrid:20251206T220000
DTSTAMP:20260424T031056
CREATED:20251122T083652Z
LAST-MODIFIED:20251122T083652Z
UID:10028282-1765058400-1765058400@au-agenda.com
SUMMARY:Moonlight
DESCRIPTION:Discover Moonlight: A musical journey under the moonlight at the Teatro La Plazeta. En el corazón de Valencia\, te invitamos a una experiencia única que fusiona la magia de la música en vivo con la belleza de un escenario inspirado por la luz de la luna. MOONLIGHT es mucho más que un concierto; es un viaje sensorial que te permite descubrir las composiciones más emotivas de Ludovico Einaudi\, interpretadas por el virtuoso pianista Albert Tàrrega. La atmósfera íntima y envolvente del Teatro La Plazeta será el marco perfecto para disfrutar de cada nota\, cada acorde\, en un espacio que invita a soñar. Bajo una delicada iluminación\, sentirás como si la luna misma guiara las melodías que llenan el aire\, creando una conexión profunda entre la música y el alma. \nEl repertorio de la noche incluirá algunas de las piezas más icónicas de Ludovico Einaudi:\nUna mattina\nExperience\nNuvole bianchi\nI giorni\nIn un’altra vita\nLa nascita delle cose segrete\nDietro casa\nElegy for the Arctic \nDescubre la magia de Ludovico Einaudi de una manera que jamás habías experimentado\, en una noche donde el tiempo parece detenerse y cada instante se convierte en una melodía eterna. MOONLIGHT es un espectáculo que te invita a dejarte llevar\, a sumergirte en un ambiente de calma y emoción\, y a redescubrir la belleza de la música como nunca antes.
URL:https://au-agenda.com/evento/moonlight/
LOCATION:La PlaZeta\, San Bruno\, 21\, Valencia\, Valencia\, 46009\, España
CATEGORIES:Música
END:VEVENT
END:VCALENDAR