BEGIN:VCALENDAR
VERSION:2.0
PRODID:-//AU Schedule - ECPv6.9.0//NONSGML v1.0//EN
CALSCALE:GREGORIAN
METHOD:PUBLISH
X-WR-CALNAME:AU Agenda
X-ORIGINAL-URL:https://au-agenda.com
X-WR-CALDESC:Events for AU Schedule
REFRESH-INTERVAL;VALUE=DURATION:PT1H
X-Robots-Tag:noindex
X-PUBLISHED-TTL:PT1H
BEGIN:VTIMEZONE
TZID:Europe/Madrid
BEGIN:DAYLIGHT
TZOFFSETFROM:+0100
TZOFFSETTO:+0200
TZNAME:CEST
DTSTART:20260329T010000
END:DAYLIGHT
BEGIN:STANDARD
TZOFFSETFROM:+0200
TZOFFSETTO:+0100
TZNAME:CET
DTSTART:20261025T010000
END:STANDARD
END:VTIMEZONE
BEGIN:VEVENT
DTSTART;TZID=Europe/Madrid:20260425T220000
DTEND;TZID=Europe/Madrid:20260425T220000
DTSTAMP:20260423T012915
CREATED:20260324T112248Z
LAST-MODIFIED:20260324T112248Z
UID:10033276-1777154400-1777154400@au-agenda.com
SUMMARY:Yunez Chaib
DESCRIPTION:A lo largo de su trayectoria\, Yunez Chaib ha grabado varios monólogos en Comedy Central y ha colaborado en La Resistencia\, de Movistar +. Actualmente\, compagina las actuaciones en directo con colaboraciones en La Revuelta (RTVE).
URL:https://au-agenda.com/evento/yunez-chaib/
LOCATION:La PlaZeta\, San Bruno\, 21\, Valencia\, Valencia\, 46009\, España
CATEGORIES:Monólogo
END:VEVENT
BEGIN:VEVENT
DTSTART;TZID=Europe/Madrid:20260426T120000
DTEND;TZID=Europe/Madrid:20260426T120000
DTSTAMP:20260423T012915
CREATED:20260324T112353Z
LAST-MODIFIED:20260324T112353Z
UID:10033277-1777204800-1777204800@au-agenda.com
SUMMARY:La Fiesta de Mickey: El Musical
DESCRIPTION:Vive una experiencia inolvidable en La Fiesta de Mickey: El Musical\, un espectáculo que celebra 100 años de historias\, sueños y personajes que han marcado generaciones. Mickey y Minnie están preparando una gran celebración… y nada saldrá como esperaban. Con la ayuda de una radio muy especial —capaz de sintonizar no solo canciones\, sino también pura magia— comenzará un viaje musical lleno de encuentros sorprendentes. Sobre el escenario aparecerán amigos inolvidables como Elsa\, Vaiana\, Mirabel\, Miguel\, Stitch y el Genio de Aladdín\, que se unirán a la fiesta con números llenos de energía\, emoción y mensajes que conectan con pequeños y mayores. \nEntre coreografías vibrantes\, canciones que todos conocen y momentos interactivos que convierten al público en parte del espectáculo\, la celebración se transforma en algo más que una fiesta: una historia sobre la amistad\, la ilusión y el valor de compartir. Un show familiar\, dinámico y emocionante que combina fantasía\, nostalgia y diversión en un formato pensado para cantar\, reír y dejarse llevar. Si buscas un plan que despierte la magia y cree recuerdos en familia\, esta es la cita que no querrás perderte.
URL:https://au-agenda.com/evento/la-fiesta-de-mickey-el-musical-2/
LOCATION:La PlaZeta\, San Bruno\, 21\, Valencia\, Valencia\, 46009\, España
CATEGORIES:Altres
END:VEVENT
BEGIN:VEVENT
DTSTART;TZID=Europe/Madrid:20260426T190000
DTEND;TZID=Europe/Madrid:20260426T190000
DTSTAMP:20260423T012915
CREATED:20260324T112509Z
LAST-MODIFIED:20260324T112509Z
UID:10033278-1777230000-1777230000@au-agenda.com
SUMMARY:Jajajers: Disfrutopia
DESCRIPTION:DISFRUTOPIA\, el xou d’humor en directe dels JAJAJERS. 80 minuts de diversió amb esquetxos\, monòlegs\, vídeos exclusius\, concursos\, performance i molta festa. Un recorregut per les tradicions\, costums i particularitats dels valencians amb un toc emotiu i original\, on l’espectador no sols s’ho passarà bomba\, sinó que també aprendrà sobre la nostra cultura\, la nostra incomparable gastronomia\, the richness of our language or our history. Un espectacle interpretat pel duo còmic valencià més seguit en les xarxes socials\, with more than 300.000 followers.
URL:https://au-agenda.com/evento/jajajers-disfrutopia/
LOCATION:La PlaZeta\, San Bruno\, 21\, Valencia\, Valencia\, 46009\, España
CATEGORIES:Altres
END:VEVENT
BEGIN:VEVENT
DTSTART;TZID=Europe/Madrid:20260516T190000
DTEND;TZID=Europe/Madrid:20260516T190000
DTSTAMP:20260423T012915
CREATED:20260409T110840Z
LAST-MODIFIED:20260409T110840Z
UID:10033828-1778958000-1778958000@au-agenda.com
SUMMARY:Modern Espai Góspel Cor: Concert Of Stars
DESCRIPTION:The Modern Espai Gòspel Cor choir (MEGOC) will celebrate its 10th anniversary with a big concert next 16 May 2026 at 19:00 horas en el Teatre La PlaZeta de Valencia\, where he will present his new show “Concert of Stars”. Founded at the end of 2015 en la ciudad de Oliva\, MEGÒC se ha consolidado como una de las propuestas corales más impactantes de la Comunidad Valenciana\, bringing together on stage more than 80 cantantes junto a una banda en directo\, en un formato escénico poco habitual que combina fuerza coral\, rhythm and careful staging. \nConcert of Stars propone un recorrido musical intenso y emocionante a través de algunos de los grandes éxitos de la música internacional\, performed in choral format with a live band. The concert is structured in two large differentiated blocks. En una primera parte\, el público se adentra en la esencia del góspel\, con temas representativos del repertorio tradicional y contemporáneo que evocan el espíritu del góspel norteamericano\, combinando energía\, excitement and audience participation. Obras como Oh Happy Day\, This Little Light of Mine or Every Praise turn this part into a vibrant experience charged with spiritual force.. \nLa segunda parte da paso a un repertorio más contemporáneo\, con una selección de grandes éxitos del R&B/Soul\, international pop and rock that are part of the collective memory of several generations. Clásicos como Unchain My Heart\, Think\, Sweet Caroline\, Beat It\, Eye of the Tiger o Take On Me\, culminando el concierto con un pequeño homenaje a Queen\, con interpretaciones de Somebody To Love y Bohemian Rhapsody\, closing with a finale of great scenic and musical intensity that seeks direct connection with the audience. \nLa combinación de voces\, banda en directo y una puesta en escena envolvente convierte “Concert of Stars” en una experiencia musical completa\, far from the traditional choral format and oriented towards the big show.
URL:https://au-agenda.com/evento/modern-espai-gospel-cor-concert-of-stars/
LOCATION:La PlaZeta\, San Bruno\, 21\, Valencia\, Valencia\, 46009\, España
CATEGORIES:Música
ATTACH;FMTTYPE=image/jpeg:https://au-agenda.com/wp-content/uploads/2026/04/Megoc-Plazeta-Gospel-Choir-1080-×-1350-px.jpg
ORGANIZER;CN="Modern Espai Gospel Cor":MAILTO:comunicacion@megoc.es
END:VEVENT
END:VCALENDAR