BEGIN:VCALENDAR
VERSION:2.0
PRODID:-//AU Schedule - ECPv6.9.0//NONSGML v1.0//EN
CALSCALE:GREGORIAN
METHOD:PUBLISH
X-ORIGINAL-URL:https://au-agenda.com
X-WR-CALDESC:Events for AU Schedule
REFRESH-INTERVAL;VALUE=DURATION:PT1H
X-Robots-Tag:noindex
X-PUBLISHED-TTL:PT1H
BEGIN:VTIMEZONE
TZID:Europe/Madrid
BEGIN:DAYLIGHT
TZOFFSETFROM:+0100
TZOFFSETTO:+0200
TZNAME:CEST
DTSTART:20260329T010000
END:DAYLIGHT
BEGIN:STANDARD
TZOFFSETFROM:+0200
TZOFFSETTO:+0100
TZNAME:CET
DTSTART:20261025T010000
END:STANDARD
END:VTIMEZONE
BEGIN:VEVENT
DTSTART;TZID=Europe/Madrid:20260423T173000
DTEND;TZID=Europe/Madrid:20260423T173000
DTSTAMP:20260424T071247
CREATED:20260325T120713Z
LAST-MODIFIED:20260325T120713Z
UID:10033548-1776965400-1776965400@au-agenda.com
SUMMARY:XXIV Mostra del Llibre Anarquista
DESCRIPTION:17:30: Presentación del fanzine Raíces Indígenas Queer\, by the Nar Kunn collective and presentation of the Fanzine Misoginia Colonial: El patriarcado como herramienta de colonización\, elaborado conjuntamente con la colectiva Casa Massapê.\nAmbos fanzines expresan nuestra intención de descentrar la blanquitud como marco dominante en la lucha contra el binarismo de género y la violencia de género\, situando en contexto el papel de la colonización\, el imperialismo y la supremacía blanca en la destrucción de los modos de vida indígenas y cómo los pueblos originarios se relacionan con el género y la sexualidad\, afirmando de manera directa que la opresión hacia las mujeres y las personas queer fue impuesta sistemáticamente y dando protagonismo a las voces indígenas.\nEn Nar Kunn reconocemos que la colonización no fue un hecho histórico cerrado\, but a violence that continues; que no solo saqueó tierras y recursos\, but also uprooted cultures and spiritualities and reformulated them to adapt them to the white gaze. Long live indigenous resistance and let white supremacy and Eurocentrism fall!! \n18:30: Poems recited by its author Jennifer migra antiracista. \n19:00: Taller de privilegio económico\, a càrrec del col·lectiu A Cambio De Nada.\n¿Sabes qué gastos fijos tienes? ¿Y qué gastos extras\, chosen? Have you considered what it means to know or not answer these questions quickly?? Do you believe that all people can achieve the same income? Or that their lives are just as expensive? Vamos a explorar esto compartiendo diferentes realidades de nuestro contexto y dibujar así el panorama actual\, hasta donde lleguemos\, to propose collective measures that bring the political to the personal. \n21:00: Picaeta-vegan dinner.
URL:https://au-agenda.com/evento/xxiv-mostra-del-llibre-anarquista-3/
LOCATION:Escuela Meme\, Poeta Ricard Sanmartí\, 17\, Valencia\, Valencia\, 46020\, España
CATEGORIES:Altres
ATTACH;FMTTYPE=image/webp:https://au-agenda.com/wp-content/uploads/2026/03/cartel-general.webp
END:VEVENT
END:VCALENDAR