BEGIN:VCALENDAR
VERSION:2.0
PRODID:-//AU Schedule - ECPv6.9.0//NONSGML v1.0//EN
CALSCALE:GREGORIAN
METHOD:PUBLISH
X-WR-CALNAME:AU Agenda
X-ORIGINAL-URL:https://au-agenda.com
X-WR-CALDESC:Events for AU Schedule
REFRESH-INTERVAL;VALUE=DURATION:PT1H
X-Robots-Tag:noindex
X-PUBLISHED-TTL:PT1H
BEGIN:VTIMEZONE
TZID:Europe/Madrid
BEGIN:DAYLIGHT
TZOFFSETFROM:+0100
TZOFFSETTO:+0200
TZNAME:CEST
DTSTART:20260329T010000
END:DAYLIGHT
BEGIN:STANDARD
TZOFFSETFROM:+0200
TZOFFSETTO:+0100
TZNAME:CET
DTSTART:20261025T010000
END:STANDARD
END:VTIMEZONE
BEGIN:VEVENT
DTSTART;TZID=Europe/Madrid:20260423T163000
DTEND;TZID=Europe/Madrid:20260423T163000
DTSTAMP:20260424T011438
CREATED:20260420T082337Z
LAST-MODIFIED:20260420T082337Z
UID:10034330-1776961800-1776961800@au-agenda.com
SUMMARY:Votar para existir
DESCRIPTION:La asociación Jovesólides\, en colaboración con ACOEC\, organize this Thursday 23 de abril el acto de inauguración de la 7ª edición de la Escuela de Ciudadanía\, una iniciativa de formación\, critical thinking and political articulation aimed at strengthening the participation of migrants. Tras la presentación\, The colloquium debate will be held under the title: «Vote to exist: cómo la ciudadanía migrante está redefiniendo Europa» \nCon la intervención de: \n\nPablo Simón\, politólogo y profesor de la Universidad Carlos III de Madrid\nBoutaina El Hadri\, directora de la Escuela de Ciudadanía\nIraca Vargas\, vicepresidenta de la CVONGD en la Comunitat Valenciana y trabajadora social\, exalumna de la Escuela de Ciudadanía\nRachida Aoulad Abdelkrim\, activista y experta en islamofobia\, exalumna de la Escuela de Ciudadanía\nEmerson Blanchard\, abogado\, exdirigente de Acción Democrática en Venezuela exalumno de la Escuela de Ciudadanía\n\nEste acto marca el inicio de una nueva edición de la Escuela de Ciudadanía\, un espacio que\, a lo largo de sus siete ediciones\, se ha consolidado como una referencia en formación política\, participation and leadership of migrants in the Valencian Community. La inauguración abrirá una conversación sobre derechos\, representación migrante y participación política en la Europa actual\, in a context marked by the tightening of immigration policies and the dispute over who can be a full part of democratic life. La reciente regularización extraordinaria en España ha evidenciado que cualquier avance en derechos puede convertirse de inmediato en campo de batalla política\, con reacciones que buscan limitar\, reverse or condition those advances.
URL:https://au-agenda.com/evento/votar-para-existir/
LOCATION:CC. YES. PV\, Pl. Nàpols o Sicília
CATEGORIES:Confèrencia-Debat
END:VEVENT
END:VCALENDAR