BEGIN:VCALENDAR
VERSION:2.0
PRODID:-//AU Schedule - ECPv6.9.0//NONSGML v1.0//EN
CALSCALE:GREGORIAN
METHOD:PUBLISH
X-WR-CALNAME:AU Agenda
X-ORIGINAL-URL:https://au-agenda.com
X-WR-CALDESC:Events for AU Schedule
REFRESH-INTERVAL;VALUE=DURATION:PT1H
X-Robots-Tag:noindex
X-PUBLISHED-TTL:PT1H
BEGIN:VTIMEZONE
TZID:Europe/Madrid
BEGIN:DAYLIGHT
TZOFFSETFROM:+0100
TZOFFSETTO:+0200
TZNAME:CEST
DTSTART:20250330T010000
END:DAYLIGHT
BEGIN:STANDARD
TZOFFSETFROM:+0200
TZOFFSETTO:+0100
TZNAME:CET
DTSTART:20251026T010000
END:STANDARD
BEGIN:DAYLIGHT
TZOFFSETFROM:+0100
TZOFFSETTO:+0200
TZNAME:CEST
DTSTART:20260329T010000
END:DAYLIGHT
BEGIN:STANDARD
TZOFFSETFROM:+0200
TZOFFSETTO:+0100
TZNAME:CET
DTSTART:20261025T010000
END:STANDARD
END:VTIMEZONE
BEGIN:VEVENT
DTSTART;TZID=Europe/Madrid:20260118T190000
DTEND;TZID=Europe/Madrid:20260118T190000
DTSTAMP:20260426T060939
CREATED:20251220T095122Z
LAST-MODIFIED:20251220T095122Z
UID:10030914-1768762800-1768762800@au-agenda.com
SUMMARY:Carol Tomás: Ausaes ma vida
DESCRIPTION:AUSAES MA VIDA és el nou xou de Carol Tomás\, the most carefree of all he has created so far. after 15 anys damunt dels escenaris —de timbes i locals a teatres\, bodes i tota mena d’espais—\, l’experiència acumulada entre èxits\, fracassos\, forced breaks and great colleagues allows him to build a speech free of rules and censorship. Carol comparteix amb el públic les vivències d’una dona a qui ja li diuen senyora\, but that continues to shout AUSAES MA VIDA in a world as complex as that of the farandula. \nUna eterna adolescent atrapada en el cos d’una quarentona. Un xou replet d’humor absurd\, A lot of interacting with the audience and their versioned songs. In addition to a tribute to the theatrical productions of our country.
URL:https://au-agenda.com/evento/carol-tomas-ausaes-ma-vida-3/
LOCATION:Artea\, Olimpia Arozena Torres\, 45\, Valencia\, Valencia\, 46018\, España
CATEGORIES:Monólogo
END:VEVENT
BEGIN:VEVENT
DTSTART;TZID=Europe/Madrid:20260117T190000
DTEND;TZID=Europe/Madrid:20260117T190000
DTSTAMP:20260426T060939
CREATED:20251220T095040Z
LAST-MODIFIED:20251220T095040Z
UID:10030913-1768676400-1768676400@au-agenda.com
SUMMARY:Carol Tomás: Ausaes ma vida
DESCRIPTION:AUSAES MA VIDA és el nou xou de Carol Tomás\, the most carefree of all he has created so far. after 15 anys damunt dels escenaris —de timbes i locals a teatres\, bodes i tota mena d’espais—\, l’experiència acumulada entre èxits\, fracassos\, forced breaks and great colleagues allows him to build a speech free of rules and censorship. Carol comparteix amb el públic les vivències d’una dona a qui ja li diuen senyora\, but that continues to shout AUSAES MA VIDA in a world as complex as that of the farandula. \nUna eterna adolescent atrapada en el cos d’una quarentona. Un xou replet d’humor absurd\, A lot of interacting with the audience and their versioned songs. In addition to a tribute to the theatrical productions of our country.
URL:https://au-agenda.com/evento/carol-tomas-ausaes-ma-vida-2/
LOCATION:Artea\, Olimpia Arozena Torres\, 45\, Valencia\, Valencia\, 46018\, España
CATEGORIES:Monólogo
END:VEVENT
BEGIN:VEVENT
DTSTART;TZID=Europe/Madrid:20260111T180000
DTEND;TZID=Europe/Madrid:20260111T180000
DTSTAMP:20260426T060939
CREATED:20251220T093034Z
LAST-MODIFIED:20251220T093034Z
UID:10030902-1768154400-1768154400@au-agenda.com
SUMMARY:Se necesita bruja
DESCRIPTION:Beltaine and Calendula are on the verge of losing their coven. They only have one option left: find a third witch before the veil ritual. As? Posting an ad: “WITCH NEEDED”. Can you imagine going to school and finding this sign?? Pues eso es justo lo que le pasa a Alanna\, una niña sin magia pero con un amor desmedido por la fantasía\, who will not hesitate to appear for the interview to become the missing witch. \nY ese es el punto de partida para una historia llena de humor\, magia y sorpresas\, de la mano de estas dos brujas\, del torpe pero entrañable tío de Alanna\, and other characters that you will have to come and meet. Will they manage to keep their coven together?? Will the veil ritual go well or will we become zombies? ¿¡ZOMBIS!? \nUn cuento mágico que demuestra que no hace falta tener magia para formar parte de un aquelarre. A veces\, just be there... and choose to stay.
URL:https://au-agenda.com/evento/se-necesita-bruja-13/
LOCATION:Artea\, Olimpia Arozena Torres\, 45\, Valencia\, Valencia\, 46018\, España
CATEGORIES:Escena
END:VEVENT
BEGIN:VEVENT
DTSTART;TZID=Europe/Madrid:20260110T180000
DTEND;TZID=Europe/Madrid:20260110T180000
DTSTAMP:20260426T060939
CREATED:20251220T092958Z
LAST-MODIFIED:20251220T092958Z
UID:10030901-1768068000-1768068000@au-agenda.com
SUMMARY:Se necesita bruja
DESCRIPTION:Beltaine and Calendula are on the verge of losing their coven. They only have one option left: find a third witch before the veil ritual. As? Posting an ad: “WITCH NEEDED”. Can you imagine going to school and finding this sign?? Pues eso es justo lo que le pasa a Alanna\, una niña sin magia pero con un amor desmedido por la fantasía\, who will not hesitate to appear for the interview to become the missing witch. \nY ese es el punto de partida para una historia llena de humor\, magia y sorpresas\, de la mano de estas dos brujas\, del torpe pero entrañable tío de Alanna\, and other characters that you will have to come and meet. Will they manage to keep their coven together?? Will the veil ritual go well or will we become zombies? ¿¡ZOMBIS!? \nUn cuento mágico que demuestra que no hace falta tener magia para formar parte de un aquelarre. A veces\, just be there... and choose to stay.
URL:https://au-agenda.com/evento/se-necesita-bruja-12/
LOCATION:Artea\, Olimpia Arozena Torres\, 45\, Valencia\, Valencia\, 46018\, España
CATEGORIES:Escena
END:VEVENT
BEGIN:VEVENT
DTSTART;TZID=Europe/Madrid:20260109T180000
DTEND;TZID=Europe/Madrid:20260109T180000
DTSTAMP:20260426T060939
CREATED:20251220T092936Z
LAST-MODIFIED:20251220T092936Z
UID:10030900-1767981600-1767981600@au-agenda.com
SUMMARY:Se necesita bruja
DESCRIPTION:Beltaine and Calendula are on the verge of losing their coven. They only have one option left: find a third witch before the veil ritual. As? Posting an ad: “WITCH NEEDED”. Can you imagine going to school and finding this sign?? Pues eso es justo lo que le pasa a Alanna\, una niña sin magia pero con un amor desmedido por la fantasía\, who will not hesitate to appear for the interview to become the missing witch. \nY ese es el punto de partida para una historia llena de humor\, magia y sorpresas\, de la mano de estas dos brujas\, del torpe pero entrañable tío de Alanna\, and other characters that you will have to come and meet. Will they manage to keep their coven together?? Will the veil ritual go well or will we become zombies? ¿¡ZOMBIS!? \nUn cuento mágico que demuestra que no hace falta tener magia para formar parte de un aquelarre. A veces\, just be there... and choose to stay.
URL:https://au-agenda.com/evento/se-necesita-bruja-11/
LOCATION:Artea\, Olimpia Arozena Torres\, 45\, Valencia\, Valencia\, 46018\, España
CATEGORIES:Escena
END:VEVENT
BEGIN:VEVENT
DTSTART;TZID=Europe/Madrid:20260104T180000
DTEND;TZID=Europe/Madrid:20260104T180000
DTSTAMP:20260426T060939
CREATED:20251220T092911Z
LAST-MODIFIED:20251220T092911Z
UID:10030899-1767549600-1767549600@au-agenda.com
SUMMARY:Se necesita bruja
DESCRIPTION:Beltaine and Calendula are on the verge of losing their coven. They only have one option left: find a third witch before the veil ritual. As? Posting an ad: “WITCH NEEDED”. Can you imagine going to school and finding this sign?? Pues eso es justo lo que le pasa a Alanna\, una niña sin magia pero con un amor desmedido por la fantasía\, who will not hesitate to appear for the interview to become the missing witch. \nY ese es el punto de partida para una historia llena de humor\, magia y sorpresas\, de la mano de estas dos brujas\, del torpe pero entrañable tío de Alanna\, and other characters that you will have to come and meet. Will they manage to keep their coven together?? Will the veil ritual go well or will we become zombies? ¿¡ZOMBIS!? \nUn cuento mágico que demuestra que no hace falta tener magia para formar parte de un aquelarre. A veces\, just be there... and choose to stay.
URL:https://au-agenda.com/evento/se-necesita-bruja-10/
LOCATION:Artea\, Olimpia Arozena Torres\, 45\, Valencia\, Valencia\, 46018\, España
CATEGORIES:Escena
END:VEVENT
BEGIN:VEVENT
DTSTART;TZID=Europe/Madrid:20260104T123000
DTEND;TZID=Europe/Madrid:20260104T123000
DTSTAMP:20260426T060939
CREATED:20251220T092250Z
LAST-MODIFIED:20251220T092250Z
UID:10030897-1767529800-1767529800@au-agenda.com
SUMMARY:Nwols
DESCRIPTION:Utilitzant els nuvols com a element narratiu\, es proposa la inmersió en un mon oníric\, un univers de fantasia\, on tant menuts com grans podran gaudir d\,una experiencia sonora i visual estimulant alhora que relaxant on els sentits auditius i visuals es fusionen\, on la paula i la forma colisionen\, on lo real i lo imaginat es diluixen. \nUn espectacle intens\, ple de joc i sujerencies visuals\, artilugis unics amb sons i musica en directe i ????? \nEs tracta d’un espai temps per gaudir en companyia dels mes petits. \nAdentreu-se en un univers sonor replet de color.
URL:https://au-agenda.com/evento/nwols-2/
LOCATION:Artea\, Olimpia Arozena Torres\, 45\, Valencia\, Valencia\, 46018\, España
CATEGORIES:Escena
END:VEVENT
BEGIN:VEVENT
DTSTART;TZID=Europe/Madrid:20260103T180000
DTEND;TZID=Europe/Madrid:20260103T180000
DTSTAMP:20260426T060939
CREATED:20251220T092815Z
LAST-MODIFIED:20251220T092815Z
UID:10030898-1767463200-1767463200@au-agenda.com
SUMMARY:Se necesita bruja
DESCRIPTION:Beltaine and Calendula are on the verge of losing their coven. They only have one option left: find a third witch before the veil ritual. As? Posting an ad: “WITCH NEEDED”. Can you imagine going to school and finding this sign?? Pues eso es justo lo que le pasa a Alanna\, una niña sin magia pero con un amor desmedido por la fantasía\, who will not hesitate to appear for the interview to become the missing witch. \nY ese es el punto de partida para una historia llena de humor\, magia y sorpresas\, de la mano de estas dos brujas\, del torpe pero entrañable tío de Alanna\, and other characters that you will have to come and meet. Will they manage to keep their coven together?? Will the veil ritual go well or will we become zombies? ¿¡ZOMBIS!? \nUn cuento mágico que demuestra que no hace falta tener magia para formar parte de un aquelarre. A veces\, just be there... and choose to stay.
URL:https://au-agenda.com/evento/se-necesita-bruja-9/
LOCATION:Artea\, Olimpia Arozena Torres\, 45\, Valencia\, Valencia\, 46018\, España
CATEGORIES:Escena
END:VEVENT
BEGIN:VEVENT
DTSTART;TZID=Europe/Madrid:20260103T173000
DTEND;TZID=Europe/Madrid:20260103T173000
DTSTAMP:20260426T060939
CREATED:20251220T092202Z
LAST-MODIFIED:20251220T092314Z
UID:10030896-1767461400-1767461400@au-agenda.com
SUMMARY:Nwols
DESCRIPTION:Utilitzant els nuvols com a element narratiu\, es proposa la inmersió en un mon oníric\, un univers de fantasia\, on tant menuts com grans podran gaudir d\,una experiencia sonora i visual estimulant alhora que relaxant on els sentits auditius i visuals es fusionen\, on la paula i la forma colisionen\, on lo real i lo imaginat es diluixen. \nUn espectacle intens\, ple de joc i sujerencies visuals\, artilugis unics amb sons i musica en directe i ????? \nEs tracta d’un espai temps per gaudir en companyia dels mes petits. \nAdentreu-se en un univers sonor replet de color.
URL:https://au-agenda.com/evento/nwols/
LOCATION:Artea\, Olimpia Arozena Torres\, 45\, Valencia\, Valencia\, 46018\, España
CATEGORIES:Escena
END:VEVENT
BEGIN:VEVENT
DTSTART;TZID=Europe/Madrid:20251221T190000
DTEND;TZID=Europe/Madrid:20251221T190000
DTSTAMP:20260426T060939
CREATED:20251122T092901Z
LAST-MODIFIED:20251122T092901Z
UID:10028327-1766343600-1766343600@au-agenda.com
SUMMARY:Tres moments
DESCRIPTION:Tres moments is a work that covers three decisive stages in the life of Maria Fernanda (Nandi)\, una dona valenciana que s’enfronta als mandats de maternitat\, llibertat i identitat en tres moments clau: 1986\, 1993 i 2025. El resultat és un retrat complex de la dona contemporània\, on cada escena obre finestres a les altres èpoques\, revelant la multiplicitat d’una identitat que evoluciona però mai no es traeix del tot. \nTres moments\, three actresses and one character. Three moments and three conversations. Three decisive moments. Three binding moments. O\, pot ser\, desvinculants. Tres moments de canvis\, of wanting everything and wanting nothing. Three moments of stopping to deliberately trace the path among a lot of possible paths.
URL:https://au-agenda.com/evento/tres-moments-3/
LOCATION:Artea\, Olimpia Arozena Torres\, 45\, Valencia\, Valencia\, 46018\, España
CATEGORIES:Escena
END:VEVENT
BEGIN:VEVENT
DTSTART;TZID=Europe/Madrid:20251221T180000
DTEND;TZID=Europe/Madrid:20251221T180000
DTSTAMP:20260426T060939
CREATED:20251122T155819Z
LAST-MODIFIED:20251122T155819Z
UID:10028423-1766340000-1766340000@au-agenda.com
SUMMARY:Gruta
DESCRIPTION:We explore a possible archeology of Arabic poetry and the universe that surrounds it.. Probamos su vibración\, its mark on the body and the collective unconscious. The aphorism as a resounding image that crosses our imagination. The petals of a daisy are the teeth of a smile. Can we hold back a wave? What are the most tactile metaphors?? How to move your calligraphy? Y\, why a grotto? It's as simple as a gift. \nEn una leyenda tuareg\, Gloria recognizes the grotto from a dream. Inés decides to build it for herself.
URL:https://au-agenda.com/evento/gruta-4/
LOCATION:Artea\, Olimpia Arozena Torres\, 45\, Valencia\, Valencia\, 46018\, España
CATEGORIES:Escena
END:VEVENT
BEGIN:VEVENT
DTSTART;TZID=Europe/Madrid:20251220T190000
DTEND;TZID=Europe/Madrid:20251220T190000
DTSTAMP:20260426T060939
CREATED:20251122T092822Z
LAST-MODIFIED:20251122T092822Z
UID:10028326-1766257200-1766257200@au-agenda.com
SUMMARY:Tres moments
DESCRIPTION:Tres moments is a work that covers three decisive stages in the life of Maria Fernanda (Nandi)\, una dona valenciana que s’enfronta als mandats de maternitat\, llibertat i identitat en tres moments clau: 1986\, 1993 i 2025. El resultat és un retrat complex de la dona contemporània\, on cada escena obre finestres a les altres èpoques\, revelant la multiplicitat d’una identitat que evoluciona però mai no es traeix del tot. \nTres moments\, three actresses and one character. Three moments and three conversations. Three decisive moments. Three binding moments. O\, pot ser\, desvinculants. Tres moments de canvis\, of wanting everything and wanting nothing. Three moments of stopping to deliberately trace the path among a lot of possible paths.
URL:https://au-agenda.com/evento/tres-moments-2/
LOCATION:Artea\, Olimpia Arozena Torres\, 45\, Valencia\, Valencia\, 46018\, España
CATEGORIES:Escena
END:VEVENT
BEGIN:VEVENT
DTSTART;TZID=Europe/Madrid:20251220T180000
DTEND;TZID=Europe/Madrid:20251220T180000
DTSTAMP:20260426T060939
CREATED:20251122T155745Z
LAST-MODIFIED:20251122T155745Z
UID:10028422-1766253600-1766253600@au-agenda.com
SUMMARY:Gruta
DESCRIPTION:We explore a possible archeology of Arabic poetry and the universe that surrounds it.. Probamos su vibración\, its mark on the body and the collective unconscious. The aphorism as a resounding image that crosses our imagination. The petals of a daisy are the teeth of a smile. Can we hold back a wave? What are the most tactile metaphors?? How to move your calligraphy? Y\, why a grotto? It's as simple as a gift. \nEn una leyenda tuareg\, Gloria recognizes the grotto from a dream. Inés decides to build it for herself.
URL:https://au-agenda.com/evento/gruta-3/
LOCATION:Artea\, Olimpia Arozena Torres\, 45\, Valencia\, Valencia\, 46018\, España
CATEGORIES:Escena
END:VEVENT
BEGIN:VEVENT
DTSTART;TZID=Europe/Madrid:20251219T200000
DTEND;TZID=Europe/Madrid:20251219T200000
DTSTAMP:20260426T060939
CREATED:20251122T092714Z
LAST-MODIFIED:20251122T092714Z
UID:10028325-1766174400-1766174400@au-agenda.com
SUMMARY:Tres moments
DESCRIPTION:Tres moments is a work that covers three decisive stages in the life of Maria Fernanda (Nandi)\, una dona valenciana que s’enfronta als mandats de maternitat\, llibertat i identitat en tres moments clau: 1986\, 1993 i 2025. El resultat és un retrat complex de la dona contemporània\, on cada escena obre finestres a les altres èpoques\, revelant la multiplicitat d’una identitat que evoluciona però mai no es traeix del tot. \nTres moments\, three actresses and one character. Three moments and three conversations. Three decisive moments. Three binding moments. O\, pot ser\, desvinculants. Tres moments de canvis\, of wanting everything and wanting nothing. Three moments of stopping to deliberately trace the path among a lot of possible paths.
URL:https://au-agenda.com/evento/tres-moments/
LOCATION:Artea\, Olimpia Arozena Torres\, 45\, Valencia\, Valencia\, 46018\, España
CATEGORIES:Escena
END:VEVENT
BEGIN:VEVENT
DTSTART;TZID=Europe/Madrid:20251217T200000
DTEND;TZID=Europe/Madrid:20251217T200000
DTSTAMP:20260426T060939
CREATED:20251122T093122Z
LAST-MODIFIED:20251122T093122Z
UID:10028329-1766001600-1766001600@au-agenda.com
SUMMARY:La Biblia 2: Moises contraataca. Xavi Castillo
DESCRIPTION:Ja fa un temps vam estrenar “la Bíblia”! But there were so many fun episodes that were left out of this first version: Moisés\, el Deu Manaments\, La Passió de Jesús\, The Apocalypse... What we have planned to offer to the public &quot;The Bible 2: “Moses Strikes Back” (Amb els textos originals\, which are pure psychedelia.)
URL:https://au-agenda.com/evento/la-biblia-2-moises-contraataca-xavi-castillo/
LOCATION:Artea\, Olimpia Arozena Torres\, 45\, Valencia\, Valencia\, 46018\, España
CATEGORIES:Monólogo
END:VEVENT
BEGIN:VEVENT
DTSTART;TZID=Europe/Madrid:20251214T190000
DTEND;TZID=Europe/Madrid:20251214T190000
DTSTAMP:20260426T060939
CREATED:20251122T160102Z
LAST-MODIFIED:20251122T160102Z
UID:10028425-1765738800-1765738800@au-agenda.com
SUMMARY:Tríptico
DESCRIPTION:Triptych is a dramatic triad about mental health and loneliness. Based on the extreme and credible testimony of three characters; Grillo\, Rumor y Calmo\, se revela como la soledad se convierte en una lucha en sí misma\, una batalla que se libra ya sea contra una misma\, contra las demás personas o contra el entorno. En los tres casos se hace presenta una soledad que ha sido impuesta\, desde la psique. Una soledad sentida y dolida a través del aislamiento físico y social. Cada uno de los personajes vive en la más profunda soledad y a través de su testimonio descubrimos que el objetivo final de su lucha es reconocer el encuentro\, vivir la oportunidad.
URL:https://au-agenda.com/evento/triptico-2/
LOCATION:Artea\, Olimpia Arozena Torres\, 45\, Valencia\, Valencia\, 46018\, España
CATEGORIES:Escena
END:VEVENT
BEGIN:VEVENT
DTSTART;TZID=Europe/Madrid:20251214T180000
DTEND;TZID=Europe/Madrid:20251214T180000
DTSTAMP:20260426T060939
CREATED:20251122T155715Z
LAST-MODIFIED:20251122T155715Z
UID:10028421-1765735200-1765735200@au-agenda.com
SUMMARY:Gruta
DESCRIPTION:We explore a possible archeology of Arabic poetry and the universe that surrounds it.. Probamos su vibración\, its mark on the body and the collective unconscious. The aphorism as a resounding image that crosses our imagination. The petals of a daisy are the teeth of a smile. Can we hold back a wave? What are the most tactile metaphors?? How to move your calligraphy? Y\, why a grotto? It's as simple as a gift. \nEn una leyenda tuareg\, Gloria recognizes the grotto from a dream. Inés decides to build it for herself.
URL:https://au-agenda.com/evento/gruta-2/
LOCATION:Artea\, Olimpia Arozena Torres\, 45\, Valencia\, Valencia\, 46018\, España
CATEGORIES:Escena
END:VEVENT
BEGIN:VEVENT
DTSTART;TZID=Europe/Madrid:20251213T190000
DTEND;TZID=Europe/Madrid:20251213T190000
DTSTAMP:20260426T060939
CREATED:20251122T160007Z
LAST-MODIFIED:20251122T160007Z
UID:10028424-1765652400-1765652400@au-agenda.com
SUMMARY:Tríptico
DESCRIPTION:Triptych is a dramatic triad about mental health and loneliness. Based on the extreme and credible testimony of three characters; Grillo\, Rumor y Calmo\, se revela como la soledad se convierte en una lucha en sí misma\, una batalla que se libra ya sea contra una misma\, contra las demás personas o contra el entorno. En los tres casos se hace presenta una soledad que ha sido impuesta\, desde la psique. Una soledad sentida y dolida a través del aislamiento físico y social. Cada uno de los personajes vive en la más profunda soledad y a través de su testimonio descubrimos que el objetivo final de su lucha es reconocer el encuentro\, vivir la oportunidad.
URL:https://au-agenda.com/evento/triptico/
LOCATION:Artea\, Olimpia Arozena Torres\, 45\, Valencia\, Valencia\, 46018\, España
CATEGORIES:Escena
END:VEVENT
BEGIN:VEVENT
DTSTART;TZID=Europe/Madrid:20251213T180000
DTEND;TZID=Europe/Madrid:20251213T180000
DTSTAMP:20260426T060939
CREATED:20251122T155616Z
LAST-MODIFIED:20251122T155616Z
UID:10028420-1765648800-1765648800@au-agenda.com
SUMMARY:Gruta
DESCRIPTION:We explore a possible archeology of Arabic poetry and the universe that surrounds it.. Probamos su vibración\, its mark on the body and the collective unconscious. The aphorism as a resounding image that crosses our imagination. The petals of a daisy are the teeth of a smile. Can we hold back a wave? What are the most tactile metaphors?? How to move your calligraphy? Y\, why a grotto? It's as simple as a gift. \nEn una leyenda tuareg\, Gloria recognizes the grotto from a dream. Inés decides to build it for herself.
URL:https://au-agenda.com/evento/gruta/
LOCATION:Artea\, Olimpia Arozena Torres\, 45\, Valencia\, Valencia\, 46018\, España
CATEGORIES:Escena
END:VEVENT
BEGIN:VEVENT
DTSTART;TZID=Europe/Madrid:20251210T200000
DTEND;TZID=Europe/Madrid:20251210T200000
DTSTAMP:20260426T060939
CREATED:20251122T093022Z
LAST-MODIFIED:20251122T093022Z
UID:10028328-1765396800-1765396800@au-agenda.com
SUMMARY:Veriueu-ho! Especial El Ventorro con Xavi Castillo
DESCRIPTION:Xavi Castillo and his Check it out! they return to Artea Espai. This time with a special the ventorro. Recuperem l’esperit del Veriueu-ho més clàssic\, in small format. Un espectacle molt proper\, intim i amb una relació molt directa amb el públic en espais i sales més menudes de les habituals\, where the actuality marks the content. Com sempre\, amb humor\, sàtira i mala llet\, li traurem punt a les notícies del dia. Perquè si torna el feixisme\, els debats més antics\, i l’olor de ranci\, haurem de retornar el Veriueu-ho!
URL:https://au-agenda.com/evento/veriueu-ho-especial-el-ventorro-con-xavi-castillo-7/
LOCATION:Artea\, Olimpia Arozena Torres\, 45\, Valencia\, Valencia\, 46018\, España
CATEGORIES:Monólogo
END:VEVENT
END:VCALENDAR