BEGIN:VCALENDAR
VERSION:2.0
PRODID:-//AU Agenda - ECPv6.9.0//NONSGML v1.0//EN
CALSCALE:GREGORIAN
METHOD:PUBLISH
X-ORIGINAL-URL:https://au-agenda.com
X-WR-CALDESC:Eventos para AU Agenda
REFRESH-INTERVAL;VALUE=DURATION:PT1H
X-Robots-Tag:noindex
X-PUBLISHED-TTL:PT1H
BEGIN:VTIMEZONE
TZID:Europe/Madrid
BEGIN:DAYLIGHT
TZOFFSETFROM:+0100
TZOFFSETTO:+0200
TZNAME:CEST
DTSTART:20250330T010000
END:DAYLIGHT
BEGIN:STANDARD
TZOFFSETFROM:+0200
TZOFFSETTO:+0100
TZNAME:CET
DTSTART:20251026T010000
END:STANDARD
BEGIN:DAYLIGHT
TZOFFSETFROM:+0100
TZOFFSETTO:+0200
TZNAME:CEST
DTSTART:20260329T010000
END:DAYLIGHT
BEGIN:STANDARD
TZOFFSETFROM:+0200
TZOFFSETTO:+0100
TZNAME:CET
DTSTART:20261025T010000
END:STANDARD
END:VTIMEZONE
BEGIN:VEVENT
DTSTART;TZID=Europe/Madrid:20260419T200000
DTEND;TZID=Europe/Madrid:20260419T200000
DTSTAMP:20260421T081702
CREATED:20260415T151357Z
LAST-MODIFIED:20260415T151357Z
UID:10034276-1776628800-1776628800@au-agenda.com
SUMMARY:Atroces
DESCRIPTION:Salva es un actor profesional\, Sergio es autor y actor amateur\, ambos son viejos conocidos y ensayan para poner en pie «La crátera de Zeus»\, obra de Sergio\, pero durante el proceso la vida de los personajes y de los actores inevitablemente se entrecruzan dando lugar a situaciones y hechos que ni la misma Agatha Christie se hubiera imaginado. \nDirección Edison Valls\nTexto Salva López\nMúsica Pep Llopis\nIntérpretes: Sergio Valiente de la Torre y Salva López.
URL:https://au-agenda.com/evento/atroces/2026-04-19/
LOCATION:Sporting Club Russafa\, Sevilla\, 5\, Valencia\, Valencia\, 46004\, España
CATEGORIES:Escena
ATTACH;FMTTYPE=image/jpeg:https://au-agenda.com/wp-content/uploads/2026/04/Captura-de-Pantalla-2026-04-15-a-las-17.12.31.jpg
END:VEVENT
BEGIN:VEVENT
DTSTART;TZID=Europe/Madrid:20260418T200000
DTEND;TZID=Europe/Madrid:20260418T200000
DTSTAMP:20260421T081702
CREATED:20260415T151357Z
LAST-MODIFIED:20260415T151357Z
UID:10034275-1776542400-1776542400@au-agenda.com
SUMMARY:Atroces
DESCRIPTION:Salva es un actor profesional\, Sergio es autor y actor amateur\, ambos son viejos conocidos y ensayan para poner en pie «La crátera de Zeus»\, obra de Sergio\, pero durante el proceso la vida de los personajes y de los actores inevitablemente se entrecruzan dando lugar a situaciones y hechos que ni la misma Agatha Christie se hubiera imaginado. \nDirección Edison Valls\nTexto Salva López\nMúsica Pep Llopis\nIntérpretes: Sergio Valiente de la Torre y Salva López.
URL:https://au-agenda.com/evento/atroces/2026-04-18/
LOCATION:Sporting Club Russafa\, Sevilla\, 5\, Valencia\, Valencia\, 46004\, España
CATEGORIES:Escena
ATTACH;FMTTYPE=image/jpeg:https://au-agenda.com/wp-content/uploads/2026/04/Captura-de-Pantalla-2026-04-15-a-las-17.12.31.jpg
END:VEVENT
BEGIN:VEVENT
DTSTART;TZID=Europe/Madrid:20260331T190000
DTEND;TZID=Europe/Madrid:20260331T190000
DTSTAMP:20260421T081702
CREATED:20251220T115336Z
LAST-MODIFIED:20251220T115336Z
UID:10030984-1774983600-1774983600@au-agenda.com
SUMMARY:16 Dimarts Negres: “La meravellosa botiga de la senyora Yeom” de Juan Goitisolo
DESCRIPTION:En esta 16º Edición de nuestras tertulias literarias sobre los Derechos Humanos\, Los Martes Negros de Amnistía Internacional\, vamos a poner nuestra lupa en la vulneración que supone la pobreza y la desigualdad en la aspiración hacia una vida digna y más justa para “todas” las personas. Para ello os animamos a conocer y analizar este catálogo de libros que nos inducen a reflexionar sobre la pobreza y la desigualdad y que serán los protagonistas de esta edición de las tertulias y que podéis conseguir en la librería “Cosecha Roja” en el Sporting Club de Russafa de Valencia. \n31 de marzo de 2026: “LA MERAVELLOSA BOTIGA DE LA SENYORA YEOM” DE HO YEON KIM\nEl libro trata de Dokgo\, una persona que vive en la calle y duerme en la estación de Seúl. Tiempo atrás tenía un trabajo\, una casa\, una familia\, pero un día lo perdió todo. Incluso la memoria. Cuando encuentra un monedero\, decide entregárselo a su dueña\, la señora Yeom\, una exprofesora de mediana edad que gestiona una pequeña tienda abierta las veinticuatro horas. Para agradecérselo\, la mujer lo invita a comer siempre que quiera en su local y no solo eso: ante la necesidad de cubrir una vacante en el turno de noche\, le ofrece el trabajo. Gracias a su nuevo puesto\, Dokgo\, una persona torpe a veces\, silencioso otras\, empieza a ayudar a muchas personas del barrio. El contacto con los demás hará que recupere la memoria y una nueva razón para vivir.
URL:https://au-agenda.com/evento/16-dimarts-negres-la-meravellosa-botiga-de-la-senyora-yeom-de-juan-goitisolo/
LOCATION:Sporting Club Russafa\, Sevilla\, 5\, Valencia\, Valencia\, 46004\, España
CATEGORIES:Altres
ATTACH;FMTTYPE=image/jpeg:https://au-agenda.com/wp-content/uploads/2025/12/Cartel-prog.-Martes-Negros.jpg
END:VEVENT
BEGIN:VEVENT
DTSTART;TZID=Europe/Madrid:20260303T190000
DTEND;TZID=Europe/Madrid:20260303T190000
DTSTAMP:20260421T081702
CREATED:20251220T115243Z
LAST-MODIFIED:20251220T115243Z
UID:10030983-1772564400-1772564400@au-agenda.com
SUMMARY:16 Dimarts Negres: “Silencio administrativo” de Sara Mesa
DESCRIPTION:En esta 16º Edición de nuestras tertulias literarias sobre los Derechos Humanos\, Los Martes Negros de Amnistía Internacional\, vamos a poner nuestra lupa en la vulneración que supone la pobreza y la desigualdad en la aspiración hacia una vida digna y más justa para “todas” las personas. Para ello os animamos a conocer y analizar este catálogo de libros que nos inducen a reflexionar sobre la pobreza y la desigualdad y que serán los protagonistas de esta edición de las tertulias y que podéis conseguir en la librería “Cosecha Roja” en el Sporting Club de Russafa de Valencia. \n3 de marzo de 2026: “SILENCIO ADMINISTRATIVO” DE SARA MESA\nLa obra contiene un relato y una crónica. La autora\, Sara Mesa\, es escritora y periodista\, algo que se detecta especialmente en “Silencio administrativo”. Narra la penosa aventura de Beatriz que\, en su pretensión de conseguir una prestación económica mínima para Carmen\, una mujer enferma y sin hogar\, descubre un complejo laberinto burocrático imposible de gestionar para una persona sin domicilio y sin recursos materiales (teléfono\, acceso a internet). Beatriz describe los obstáculos que la Administración pone a los más desfavorecidos para la obtención de prestaciones asistenciales como el IMV (ingreso mínimo vital). La crónica periodística que se entrelaza con el relato\, contiene datos facilitados por informes institucionales y ONG\, que corroboran que el proceso es kafkiano\, por enrevesado\, lento e ineficaz. Especialmente para las personas sin hogar\, las más vulnerables. A partir de la historia que la autora vive con Carmen\, detecta la realidad social del rechazo al pobre. La aporofobia\, que acuñó Adela Cortina\, se manifiesta en críticas despiadadas que llegan a calificar a los pobres de vagos o aprovechados del sistema.
URL:https://au-agenda.com/evento/16-dimarts-negres-silencio-administrativo-de-sara-mesa/
LOCATION:Sporting Club Russafa\, Sevilla\, 5\, Valencia\, Valencia\, 46004\, España
CATEGORIES:Altres
ATTACH;FMTTYPE=image/jpeg:https://au-agenda.com/wp-content/uploads/2025/12/Cartel-prog.-Martes-Negros.jpg
END:VEVENT
BEGIN:VEVENT
DTSTART;TZID=Europe/Madrid:20260217T190000
DTEND;TZID=Europe/Madrid:20260217T190000
DTSTAMP:20260421T081702
CREATED:20251220T115149Z
LAST-MODIFIED:20251220T115149Z
UID:10030982-1771354800-1771354800@au-agenda.com
SUMMARY:16 Dimarts Negres: “El riu ve crescut” de Maria Beneito
DESCRIPTION:En esta 16º Edición de nuestras tertulias literarias sobre los Derechos Humanos\, Los Martes Negros de Amnistía Internacional\, vamos a poner nuestra lupa en la vulneración que supone la pobreza y la desigualdad en la aspiración hacia una vida digna y más justa para “todas” las personas. Para ello os animamos a conocer y analizar este catálogo de libros que nos inducen a reflexionar sobre la pobreza y la desigualdad y que serán los protagonistas de esta edición de las tertulias y que podéis conseguir en la librería “Cosecha Roja” en el Sporting Club de Russafa de Valencia. \n17 de febrero de 2026: “EL RIU VE CRESCUT” DE MARIA BENEITO\nDiferentes personajes emigrados de distintas partes de España malviven en chabolas instaladas en el cauce del río Turia en Valencia y conviven con otros personajes de los barrios más populares de la ciudad\, del barrio del Carmen\, Campanar y Nazaret. Sus vidas se verán truncadas cuando se verán enfrentados a las mortíferas riadas de 1949 y 1957. Con esta novela la autora ganará el premio Valencià de Literatura en 1959. Se trata de una narración imprescindible\, desde el punto de vista literario pero también humano\, para conocer con realismo la miseria y la grandeza de una ciudad como Valencia. Estas riadas son para la autora\, más que una tragedia de la naturaleza\, un símbolo de las inhumanas condiciones de vida a las que la sociedad de postguerra y las autoridades condena a sus habitantes más pobres.
URL:https://au-agenda.com/evento/16-dimarts-negres-el-riu-ve-crescut-de-maria-beneito/
LOCATION:Sporting Club Russafa\, Sevilla\, 5\, Valencia\, Valencia\, 46004\, España
CATEGORIES:Altres
ATTACH;FMTTYPE=image/jpeg:https://au-agenda.com/wp-content/uploads/2025/12/Cartel-prog.-Martes-Negros.jpg
END:VEVENT
BEGIN:VEVENT
DTSTART;TZID=Europe/Madrid:20260131T193000
DTEND;TZID=Europe/Madrid:20260131T193000
DTSTAMP:20260421T081702
CREATED:20260126T172714Z
LAST-MODIFIED:20260126T172714Z
UID:10031932-1769887800-1769887800@au-agenda.com
SUMMARY:Estellés Club-Cabaret
DESCRIPTION:Podeu reservar entrades per Whatsapp al 628 355 742.
URL:https://au-agenda.com/evento/estelles-club-cabaret/
LOCATION:Sporting Club Russafa\, Sevilla\, 5\, Valencia\, Valencia\, 46004\, España
CATEGORIES:Escena
END:VEVENT
BEGIN:VEVENT
DTSTART;TZID=Europe/Madrid:20260120T190000
DTEND;TZID=Europe/Madrid:20260120T190000
DTSTAMP:20260421T081702
CREATED:20251220T115016Z
LAST-MODIFIED:20251220T115016Z
UID:10030981-1768935600-1768935600@au-agenda.com
SUMMARY:16 Dimarts Negres: “Campos de Nijar” de Juan Goitisolo
DESCRIPTION:En esta 16º Edición de nuestras tertulias literarias sobre los Derechos Humanos\, Los Martes Negros de Amnistía Internacional\, vamos a poner nuestra lupa en la vulneración que supone la pobreza y la desigualdad en la aspiración hacia una vida digna y más justa para “todas” las personas. Para ello os animamos a conocer y analizar este catálogo de libros que nos inducen a reflexionar sobre la pobreza y la desigualdad y que serán los protagonistas de esta edición de las tertulias y que podéis conseguir en la librería “Cosecha Roja” en el Sporting Club de Russafa de Valencia. \n20 de enero de 2026: “CAMPOS DE NIJAR” DE JUAN GOITISOLO\nEs una novela de viajes\, pero no sólo es esto. Es también un libro que\, con una prosa poética extraordinaria\, reflexiona sobre la realidad de un lugar y un paisaje único\, sobre sus gentes y la dureza de sus vidas\, enraizadas en una tierra que apenas produce para su sustento y cuya máxima ilusión es la emigración a Cataluña\, el lugar de donde viene el autor. Juan Goytisolo como un observador venido de otro planeta va contando las cosas que le salen al camino\, el hambre de una infancia harapienta\, la desesperanza de los viejos\, las ilusiones de los jóvenes en esta España de postguerra desgarrada y pobre. En sus páginas el paisaje es un personaje más\, que describe con una desnudez violenta. Este fue el inicio de un idilio\, que inició el autor con estas tierras desérticas y que culmina con su historia de amor con el mundo árabe\, que el novelista encontró en el norte de África\, en una prolongación del paisaje y clima mental que había retratado en este libro.
URL:https://au-agenda.com/evento/16-dimarts-negres-campos-de-nijar-de-juan-goitisolo/
LOCATION:Sporting Club Russafa\, Sevilla\, 5\, Valencia\, Valencia\, 46004\, España
CATEGORIES:Altres
ATTACH;FMTTYPE=image/jpeg:https://au-agenda.com/wp-content/uploads/2025/12/Cartel-prog.-Martes-Negros.jpg
END:VEVENT
BEGIN:VEVENT
DTSTART;TZID=Europe/Madrid:20260118T193000
DTEND;TZID=Europe/Madrid:20260118T193000
DTSTAMP:20260421T081702
CREATED:20260115T080831Z
LAST-MODIFIED:20260115T080831Z
UID:10031168-1768764600-1768764600@au-agenda.com
SUMMARY:Dulces sueños
DESCRIPTION:
URL:https://au-agenda.com/evento/dulces-suenos-2/2026-01-18/
LOCATION:Sporting Club Russafa\, Sevilla\, 5\, Valencia\, Valencia\, 46004\, España
CATEGORIES:Escena
END:VEVENT
BEGIN:VEVENT
DTSTART;TZID=Europe/Madrid:20260118T193000
DTEND;TZID=Europe/Madrid:20260118T193000
DTSTAMP:20260421T081702
CREATED:20260107T073504Z
LAST-MODIFIED:20260107T073504Z
UID:10031058-1768764600-1768764600@au-agenda.com
SUMMARY:Dulces sueños
DESCRIPTION:Se trata de una obra breve de teatro de unos 40 minutos. Luego habrá un coloquio.
URL:https://au-agenda.com/evento/dulces-suenos/2026-01-18/
LOCATION:Sporting Club Russafa\, Sevilla\, 5\, Valencia\, Valencia\, 46004\, España
CATEGORIES:Escena
END:VEVENT
BEGIN:VEVENT
DTSTART;TZID=Europe/Madrid:20260117T193000
DTEND;TZID=Europe/Madrid:20260117T193000
DTSTAMP:20260421T081702
CREATED:20260115T080831Z
LAST-MODIFIED:20260115T080831Z
UID:10031167-1768678200-1768678200@au-agenda.com
SUMMARY:Dulces sueños
DESCRIPTION:
URL:https://au-agenda.com/evento/dulces-suenos-2/2026-01-17/
LOCATION:Sporting Club Russafa\, Sevilla\, 5\, Valencia\, Valencia\, 46004\, España
CATEGORIES:Escena
END:VEVENT
BEGIN:VEVENT
DTSTART;TZID=Europe/Madrid:20260117T193000
DTEND;TZID=Europe/Madrid:20260117T193000
DTSTAMP:20260421T081702
CREATED:20260107T073504Z
LAST-MODIFIED:20260107T073504Z
UID:10031057-1768678200-1768678200@au-agenda.com
SUMMARY:Dulces sueños
DESCRIPTION:Se trata de una obra breve de teatro de unos 40 minutos. Luego habrá un coloquio.
URL:https://au-agenda.com/evento/dulces-suenos/2026-01-17/
LOCATION:Sporting Club Russafa\, Sevilla\, 5\, Valencia\, Valencia\, 46004\, España
CATEGORIES:Escena
END:VEVENT
BEGIN:VEVENT
DTSTART;TZID=Europe/Madrid:20251214T200000
DTEND;TZID=Europe/Madrid:20251214T200000
DTSTAMP:20260421T081702
CREATED:20251215T080842Z
LAST-MODIFIED:20251215T080842Z
UID:10029162-1765742400-1765742400@au-agenda.com
SUMMARY:Estultisofía
DESCRIPTION:Microteatro estulto. Una incursión en el subconsciente de las cosas inútiles\, las relaciones imposibles y los objetos que hablan más que los ojos de pollo. \nObras:\nEl anfitrión y su puta madre\nAntártico tántrico\nSentados en un orificio\nLa tarde en que me cortaron las uñas\nLa sombra de una cerilla \nAutor: Manel Costa \nAportación:10€\nReservas 606 222 878 (incluye derecho a dudar de todo\, y\, posiblemente\, a una silla y un paracetamol)\nDirector: Yevgeni Mayorga
URL:https://au-agenda.com/evento/estultisofia-2-2/
LOCATION:Sporting Club Russafa\, Sevilla\, 5\, Valencia\, Valencia\, 46004\, España
CATEGORIES:Escena
ATTACH;FMTTYPE=image/jpeg:https://au-agenda.com/wp-content/uploads/2025/11/Captura-de-Pantalla-2025-11-06-a-las-9.42.32.jpg
END:VEVENT
END:VCALENDAR