BEGIN:VCALENDAR
VERSION:2.0
PRODID:-//AU Agenda - ECPv6.9.0//NONSGML v1.0//EN
CALSCALE:GREGORIAN
METHOD:PUBLISH
X-WR-CALNAME:AU Agenda
X-ORIGINAL-URL:https://au-agenda.com
X-WR-CALDESC:Eventos para AU Agenda
REFRESH-INTERVAL;VALUE=DURATION:PT1H
X-Robots-Tag:noindex
X-PUBLISHED-TTL:PT1H
BEGIN:VTIMEZONE
TZID:Europe/Madrid
BEGIN:DAYLIGHT
TZOFFSETFROM:+0100
TZOFFSETTO:+0200
TZNAME:CEST
DTSTART:20250330T010000
END:DAYLIGHT
BEGIN:STANDARD
TZOFFSETFROM:+0200
TZOFFSETTO:+0100
TZNAME:CET
DTSTART:20251026T010000
END:STANDARD
END:VTIMEZONE
BEGIN:VEVENT
DTSTART;TZID=Europe/Madrid:20251228T210000
DTEND;TZID=Europe/Madrid:20251228T210000
DTSTAMP:20260420T152823
CREATED:20251121T183952Z
LAST-MODIFIED:20251121T183952Z
UID:10028183-1766955600-1766955600@au-agenda.com
SUMMARY:¿De dónde venimos? Imprebís
DESCRIPTION:El teatro ha sido a menudo un lugar donde mirar de cerca los hechos sociales\, un espacio en el que preguntarnos sobre los fenómenos de nuestras vidas\, un punto de encuentro\, un rincón donde construir juntos un momento de humanidad. \nNos preocupan cada vez más las cuestiones de la transición ecológica\, la paz\, el poder\, la economía… y muchas otras inquietudes que enfrentamos en nuestra vida cotidiana. A través de este trabajo\, nos ha parecido cada vez más urgente plantearnos también algunas preguntas: ¿Cuáles son los detonantes de los momentos esenciales de la vida? ¿Qué motiva y condiciona nuestros actos\, nuestras vidas? ¿De dónde venimos? \nPara intentar responder a esas cuestiones\, nos hemos dejado llevar por diferentes disciplinas del arte para iluminarnos. El espectáculo que proponemos es una invitación a crear juntos un momento compartido\, de encuentro\, de placer… Un momento en el que escucharemos palabras de sabios\, de locos\, de sabios-locos\, de poetas\, de escritores\, palabras que nunca hemos oído\, que nos interpelan y que vamos a construir juntos.
URL:https://au-agenda.com/evento/de-donde-venimos-imprebis-3/
LOCATION:Teatro Off\, Túria\, 47\, Valencia\, Valencia\, 46008\, España
CATEGORIES:Escena
END:VEVENT
BEGIN:VEVENT
DTSTART;TZID=Europe/Madrid:20251228T200000
DTEND;TZID=Europe/Madrid:20251228T200000
DTSTAMP:20260420T152823
CREATED:20251121T182415Z
LAST-MODIFIED:20251121T182415Z
UID:10028175-1766952000-1766952000@au-agenda.com
SUMMARY:Drácula\, la leyenda
DESCRIPTION:En esta nueva versión musical de la obra inmortal de Bram Stoker\, Drácula se revela como un ser trágico\, condenado a la eternidad y dividido entre su sed de sangre y su necesidad de amar. En su lucha contra el mal\, los personajes de esta historia descubren que el Conde no es solo un enemigo que combatir\, sino también una víctima de su propia maldición. Con música\, danza y una puesta en escena cargada de intensidad gótica y romántica\, «Drácula» es un musical que habla del deseo\, la redención y la eterna batalla entre el bien y el mal.
URL:https://au-agenda.com/evento/dracula-la-leyenda-21/
LOCATION:Teatro Off\, Túria\, 47\, Valencia\, Valencia\, 46008\, España
CATEGORIES:Escena
END:VEVENT
BEGIN:VEVENT
DTSTART;TZID=Europe/Madrid:20251227T210000
DTEND;TZID=Europe/Madrid:20251227T210000
DTSTAMP:20260420T152823
CREATED:20251121T183908Z
LAST-MODIFIED:20251121T183908Z
UID:10028182-1766869200-1766869200@au-agenda.com
SUMMARY:¿De dónde venimos? Imprebís
DESCRIPTION:El teatro ha sido a menudo un lugar donde mirar de cerca los hechos sociales\, un espacio en el que preguntarnos sobre los fenómenos de nuestras vidas\, un punto de encuentro\, un rincón donde construir juntos un momento de humanidad. \nNos preocupan cada vez más las cuestiones de la transición ecológica\, la paz\, el poder\, la economía… y muchas otras inquietudes que enfrentamos en nuestra vida cotidiana. A través de este trabajo\, nos ha parecido cada vez más urgente plantearnos también algunas preguntas: ¿Cuáles son los detonantes de los momentos esenciales de la vida? ¿Qué motiva y condiciona nuestros actos\, nuestras vidas? ¿De dónde venimos? \nPara intentar responder a esas cuestiones\, nos hemos dejado llevar por diferentes disciplinas del arte para iluminarnos. El espectáculo que proponemos es una invitación a crear juntos un momento compartido\, de encuentro\, de placer… Un momento en el que escucharemos palabras de sabios\, de locos\, de sabios-locos\, de poetas\, de escritores\, palabras que nunca hemos oído\, que nos interpelan y que vamos a construir juntos.
URL:https://au-agenda.com/evento/de-donde-venimos-imprebis-2/
LOCATION:Teatro Off\, Túria\, 47\, Valencia\, Valencia\, 46008\, España
CATEGORIES:Escena
END:VEVENT
BEGIN:VEVENT
DTSTART;TZID=Europe/Madrid:20251227T200000
DTEND;TZID=Europe/Madrid:20251227T200000
DTSTAMP:20260420T152823
CREATED:20251121T182310Z
LAST-MODIFIED:20251121T182310Z
UID:10028174-1766865600-1766865600@au-agenda.com
SUMMARY:Drácula\, la leyenda
DESCRIPTION:En esta nueva versión musical de la obra inmortal de Bram Stoker\, Drácula se revela como un ser trágico\, condenado a la eternidad y dividido entre su sed de sangre y su necesidad de amar. En su lucha contra el mal\, los personajes de esta historia descubren que el Conde no es solo un enemigo que combatir\, sino también una víctima de su propia maldición. Con música\, danza y una puesta en escena cargada de intensidad gótica y romántica\, «Drácula» es un musical que habla del deseo\, la redención y la eterna batalla entre el bien y el mal.
URL:https://au-agenda.com/evento/dracula-la-leyenda-20/
LOCATION:Teatro Off\, Túria\, 47\, Valencia\, Valencia\, 46008\, España
CATEGORIES:Escena
END:VEVENT
BEGIN:VEVENT
DTSTART;TZID=Europe/Madrid:20251226T210000
DTEND;TZID=Europe/Madrid:20251226T210000
DTSTAMP:20260420T152823
CREATED:20251121T183753Z
LAST-MODIFIED:20251121T183753Z
UID:10028181-1766782800-1766782800@au-agenda.com
SUMMARY:¿De dónde venimos? Imprebís
DESCRIPTION:El teatro ha sido a menudo un lugar donde mirar de cerca los hechos sociales\, un espacio en el que preguntarnos sobre los fenómenos de nuestras vidas\, un punto de encuentro\, un rincón donde construir juntos un momento de humanidad. \nNos preocupan cada vez más las cuestiones de la transición ecológica\, la paz\, el poder\, la economía… y muchas otras inquietudes que enfrentamos en nuestra vida cotidiana. A través de este trabajo\, nos ha parecido cada vez más urgente plantearnos también algunas preguntas: ¿Cuáles son los detonantes de los momentos esenciales de la vida? ¿Qué motiva y condiciona nuestros actos\, nuestras vidas? ¿De dónde venimos? \nPara intentar responder a esas cuestiones\, nos hemos dejado llevar por diferentes disciplinas del arte para iluminarnos. El espectáculo que proponemos es una invitación a crear juntos un momento compartido\, de encuentro\, de placer… Un momento en el que escucharemos palabras de sabios\, de locos\, de sabios-locos\, de poetas\, de escritores\, palabras que nunca hemos oído\, que nos interpelan y que vamos a construir juntos.
URL:https://au-agenda.com/evento/de-donde-venimos-imprebis/
LOCATION:Teatro Off\, Túria\, 47\, Valencia\, Valencia\, 46008\, España
CATEGORIES:Escena
END:VEVENT
BEGIN:VEVENT
DTSTART;TZID=Europe/Madrid:20251226T200000
DTEND;TZID=Europe/Madrid:20251226T200000
DTSTAMP:20260420T152823
CREATED:20251121T182218Z
LAST-MODIFIED:20251121T182218Z
UID:10028173-1766779200-1766779200@au-agenda.com
SUMMARY:Drácula\, la leyenda
DESCRIPTION:En esta nueva versión musical de la obra inmortal de Bram Stoker\, Drácula se revela como un ser trágico\, condenado a la eternidad y dividido entre su sed de sangre y su necesidad de amar. En su lucha contra el mal\, los personajes de esta historia descubren que el Conde no es solo un enemigo que combatir\, sino también una víctima de su propia maldición. Con música\, danza y una puesta en escena cargada de intensidad gótica y romántica\, «Drácula» es un musical que habla del deseo\, la redención y la eterna batalla entre el bien y el mal.
URL:https://au-agenda.com/evento/dracula-la-leyenda-19/
LOCATION:Teatro Off\, Túria\, 47\, Valencia\, Valencia\, 46008\, España
CATEGORIES:Escena
END:VEVENT
BEGIN:VEVENT
DTSTART;TZID=Europe/Madrid:20251225T200000
DTEND;TZID=Europe/Madrid:20251225T200000
DTSTAMP:20260420T152823
CREATED:20251121T182931Z
LAST-MODIFIED:20251121T182931Z
UID:10028177-1766692800-1766692800@au-agenda.com
SUMMARY:Drácula\, la leyenda
DESCRIPTION:En esta nueva versión musical de la obra inmortal de Bram Stoker\, Drácula se revela como un ser trágico\, condenado a la eternidad y dividido entre su sed de sangre y su necesidad de amar. En su lucha contra el mal\, los personajes de esta historia descubren que el Conde no es solo un enemigo que combatir\, sino también una víctima de su propia maldición. Con música\, danza y una puesta en escena cargada de intensidad gótica y romántica\, «Drácula» es un musical que habla del deseo\, la redención y la eterna batalla entre el bien y el mal.
URL:https://au-agenda.com/evento/dracula-la-leyenda-25/
LOCATION:Teatro Off\, Túria\, 47\, Valencia\, Valencia\, 46008\, España
CATEGORIES:Escena
END:VEVENT
BEGIN:VEVENT
DTSTART;TZID=Europe/Madrid:20251221T200000
DTEND;TZID=Europe/Madrid:20251221T200000
DTSTAMP:20260420T152823
CREATED:20251121T182048Z
LAST-MODIFIED:20251121T182048Z
UID:10028171-1766347200-1766347200@au-agenda.com
SUMMARY:Drácula\, la leyenda
DESCRIPTION:En esta nueva versión musical de la obra inmortal de Bram Stoker\, Drácula se revela como un ser trágico\, condenado a la eternidad y dividido entre su sed de sangre y su necesidad de amar. En su lucha contra el mal\, los personajes de esta historia descubren que el Conde no es solo un enemigo que combatir\, sino también una víctima de su propia maldición. Con música\, danza y una puesta en escena cargada de intensidad gótica y romántica\, «Drácula» es un musical que habla del deseo\, la redención y la eterna batalla entre el bien y el mal.
URL:https://au-agenda.com/evento/dracula-la-leyenda-18/
LOCATION:Teatro Off\, Túria\, 47\, Valencia\, Valencia\, 46008\, España
CATEGORIES:Escena
END:VEVENT
BEGIN:VEVENT
DTSTART;TZID=Europe/Madrid:20251220T200000
DTEND;TZID=Europe/Madrid:20251220T200000
DTSTAMP:20260420T152823
CREATED:20251121T181958Z
LAST-MODIFIED:20251121T181958Z
UID:10028170-1766260800-1766260800@au-agenda.com
SUMMARY:Drácula\, la leyenda
DESCRIPTION:En esta nueva versión musical de la obra inmortal de Bram Stoker\, Drácula se revela como un ser trágico\, condenado a la eternidad y dividido entre su sed de sangre y su necesidad de amar. En su lucha contra el mal\, los personajes de esta historia descubren que el Conde no es solo un enemigo que combatir\, sino también una víctima de su propia maldición. Con música\, danza y una puesta en escena cargada de intensidad gótica y romántica\, «Drácula» es un musical que habla del deseo\, la redención y la eterna batalla entre el bien y el mal.
URL:https://au-agenda.com/evento/dracula-la-leyenda-17/
LOCATION:Teatro Off\, Túria\, 47\, Valencia\, Valencia\, 46008\, España
CATEGORIES:Escena
END:VEVENT
BEGIN:VEVENT
DTSTART;TZID=Europe/Madrid:20251219T200000
DTEND;TZID=Europe/Madrid:20251219T200000
DTSTAMP:20260420T152823
CREATED:20251121T181917Z
LAST-MODIFIED:20251121T181917Z
UID:10028172-1766174400-1766174400@au-agenda.com
SUMMARY:Drácula\, la leyenda
DESCRIPTION:En esta nueva versión musical de la obra inmortal de Bram Stoker\, Drácula se revela como un ser trágico\, condenado a la eternidad y dividido entre su sed de sangre y su necesidad de amar. En su lucha contra el mal\, los personajes de esta historia descubren que el Conde no es solo un enemigo que combatir\, sino también una víctima de su propia maldición. Con música\, danza y una puesta en escena cargada de intensidad gótica y romántica\, «Drácula» es un musical que habla del deseo\, la redención y la eterna batalla entre el bien y el mal.
URL:https://au-agenda.com/evento/dracula-la-leyenda-16/
LOCATION:Teatro Off\, Túria\, 47\, Valencia\, Valencia\, 46008\, España
CATEGORIES:Escena
END:VEVENT
BEGIN:VEVENT
DTSTART;TZID=Europe/Madrid:20251218T200000
DTEND;TZID=Europe/Madrid:20251218T200000
DTSTAMP:20260420T152823
CREATED:20251121T182826Z
LAST-MODIFIED:20251121T182826Z
UID:10028179-1766088000-1766088000@au-agenda.com
SUMMARY:Drácula\, la leyenda
DESCRIPTION:En esta nueva versión musical de la obra inmortal de Bram Stoker\, Drácula se revela como un ser trágico\, condenado a la eternidad y dividido entre su sed de sangre y su necesidad de amar. En su lucha contra el mal\, los personajes de esta historia descubren que el Conde no es solo un enemigo que combatir\, sino también una víctima de su propia maldición. Con música\, danza y una puesta en escena cargada de intensidad gótica y romántica\, «Drácula» es un musical que habla del deseo\, la redención y la eterna batalla entre el bien y el mal.
URL:https://au-agenda.com/evento/dracula-la-leyenda-24/
LOCATION:Teatro Off\, Túria\, 47\, Valencia\, Valencia\, 46008\, España
CATEGORIES:Escena
END:VEVENT
BEGIN:VEVENT
DTSTART;TZID=Europe/Madrid:20251217T200000
DTEND;TZID=Europe/Madrid:20251217T200000
DTSTAMP:20260420T152823
CREATED:20251121T181804Z
LAST-MODIFIED:20251121T181804Z
UID:10028169-1766001600-1766001600@au-agenda.com
SUMMARY:Drácula\, la leyenda
DESCRIPTION:En esta nueva versión musical de la obra inmortal de Bram Stoker\, Drácula se revela como un ser trágico\, condenado a la eternidad y dividido entre su sed de sangre y su necesidad de amar. En su lucha contra el mal\, los personajes de esta historia descubren que el Conde no es solo un enemigo que combatir\, sino también una víctima de su propia maldición. Con música\, danza y una puesta en escena cargada de intensidad gótica y romántica\, «Drácula» es un musical que habla del deseo\, la redención y la eterna batalla entre el bien y el mal.
URL:https://au-agenda.com/evento/dracula-la-leyenda-15/
LOCATION:Teatro Off\, Túria\, 47\, Valencia\, Valencia\, 46008\, España
CATEGORIES:Escena
END:VEVENT
BEGIN:VEVENT
DTSTART;TZID=Europe/Madrid:20251214T200000
DTEND;TZID=Europe/Madrid:20251214T200000
DTSTAMP:20260420T152823
CREATED:20251121T181716Z
LAST-MODIFIED:20251121T181716Z
UID:10028168-1765742400-1765742400@au-agenda.com
SUMMARY:Drácula\, la leyenda
DESCRIPTION:En esta nueva versión musical de la obra inmortal de Bram Stoker\, Drácula se revela como un ser trágico\, condenado a la eternidad y dividido entre su sed de sangre y su necesidad de amar. En su lucha contra el mal\, los personajes de esta historia descubren que el Conde no es solo un enemigo que combatir\, sino también una víctima de su propia maldición. Con música\, danza y una puesta en escena cargada de intensidad gótica y romántica\, «Drácula» es un musical que habla del deseo\, la redención y la eterna batalla entre el bien y el mal.
URL:https://au-agenda.com/evento/dracula-la-leyenda-14/
LOCATION:Teatro Off\, Túria\, 47\, Valencia\, Valencia\, 46008\, España
CATEGORIES:Escena
END:VEVENT
BEGIN:VEVENT
DTSTART;TZID=Europe/Madrid:20251213T200000
DTEND;TZID=Europe/Madrid:20251213T200000
DTSTAMP:20260420T152823
CREATED:20251121T181634Z
LAST-MODIFIED:20251121T181634Z
UID:10028167-1765656000-1765656000@au-agenda.com
SUMMARY:Drácula\, la leyenda
DESCRIPTION:En esta nueva versión musical de la obra inmortal de Bram Stoker\, Drácula se revela como un ser trágico\, condenado a la eternidad y dividido entre su sed de sangre y su necesidad de amar. En su lucha contra el mal\, los personajes de esta historia descubren que el Conde no es solo un enemigo que combatir\, sino también una víctima de su propia maldición. Con música\, danza y una puesta en escena cargada de intensidad gótica y romántica\, «Drácula» es un musical que habla del deseo\, la redención y la eterna batalla entre el bien y el mal.
URL:https://au-agenda.com/evento/dracula-la-leyenda-13/
LOCATION:Teatro Off\, Túria\, 47\, Valencia\, Valencia\, 46008\, España
CATEGORIES:Escena
END:VEVENT
BEGIN:VEVENT
DTSTART;TZID=Europe/Madrid:20251212T200000
DTEND;TZID=Europe/Madrid:20251212T200000
DTSTAMP:20260420T152823
CREATED:20251121T181600Z
LAST-MODIFIED:20251121T181600Z
UID:10028166-1765569600-1765569600@au-agenda.com
SUMMARY:Drácula\, la leyenda
DESCRIPTION:En esta nueva versión musical de la obra inmortal de Bram Stoker\, Drácula se revela como un ser trágico\, condenado a la eternidad y dividido entre su sed de sangre y su necesidad de amar. En su lucha contra el mal\, los personajes de esta historia descubren que el Conde no es solo un enemigo que combatir\, sino también una víctima de su propia maldición. Con música\, danza y una puesta en escena cargada de intensidad gótica y romántica\, «Drácula» es un musical que habla del deseo\, la redención y la eterna batalla entre el bien y el mal.
URL:https://au-agenda.com/evento/dracula-la-leyenda-12/
LOCATION:Teatro Off\, Túria\, 47\, Valencia\, Valencia\, 46008\, España
CATEGORIES:Escena
END:VEVENT
BEGIN:VEVENT
DTSTART;TZID=Europe/Madrid:20251211T200000
DTEND;TZID=Europe/Madrid:20251211T200000
DTSTAMP:20260420T152823
CREATED:20251121T181519Z
LAST-MODIFIED:20251121T181519Z
UID:10028165-1765483200-1765483200@au-agenda.com
SUMMARY:Drácula\, la leyenda
DESCRIPTION:En esta nueva versión musical de la obra inmortal de Bram Stoker\, Drácula se revela como un ser trágico\, condenado a la eternidad y dividido entre su sed de sangre y su necesidad de amar. En su lucha contra el mal\, los personajes de esta historia descubren que el Conde no es solo un enemigo que combatir\, sino también una víctima de su propia maldición. Con música\, danza y una puesta en escena cargada de intensidad gótica y romántica\, «Drácula» es un musical que habla del deseo\, la redención y la eterna batalla entre el bien y el mal.
URL:https://au-agenda.com/evento/dracula-la-leyenda-11/
LOCATION:Teatro Off\, Túria\, 47\, Valencia\, Valencia\, 46008\, España
CATEGORIES:Escena
END:VEVENT
BEGIN:VEVENT
DTSTART;TZID=Europe/Madrid:20251210T200000
DTEND;TZID=Europe/Madrid:20251210T200000
DTSTAMP:20260420T152823
CREATED:20251121T182724Z
LAST-MODIFIED:20251121T182724Z
UID:10028180-1765396800-1765396800@au-agenda.com
SUMMARY:Drácula\, la leyenda
DESCRIPTION:En esta nueva versión musical de la obra inmortal de Bram Stoker\, Drácula se revela como un ser trágico\, condenado a la eternidad y dividido entre su sed de sangre y su necesidad de amar. En su lucha contra el mal\, los personajes de esta historia descubren que el Conde no es solo un enemigo que combatir\, sino también una víctima de su propia maldición. Con música\, danza y una puesta en escena cargada de intensidad gótica y romántica\, «Drácula» es un musical que habla del deseo\, la redención y la eterna batalla entre el bien y el mal.
URL:https://au-agenda.com/evento/dracula-la-leyenda-23/
LOCATION:Teatro Off\, Túria\, 47\, Valencia\, Valencia\, 46008\, España
CATEGORIES:Escena
END:VEVENT
BEGIN:VEVENT
DTSTART;TZID=Europe/Madrid:20251208T200000
DTEND;TZID=Europe/Madrid:20251208T200000
DTSTAMP:20260420T152823
CREATED:20251121T181358Z
LAST-MODIFIED:20251121T181358Z
UID:10028164-1765224000-1765224000@au-agenda.com
SUMMARY:Drácula\, la leyenda
DESCRIPTION:En esta nueva versión musical de la obra inmortal de Bram Stoker\, Drácula se revela como un ser trágico\, condenado a la eternidad y dividido entre su sed de sangre y su necesidad de amar. En su lucha contra el mal\, los personajes de esta historia descubren que el Conde no es solo un enemigo que combatir\, sino también una víctima de su propia maldición. Con música\, danza y una puesta en escena cargada de intensidad gótica y romántica\, «Drácula» es un musical que habla del deseo\, la redención y la eterna batalla entre el bien y el mal.
URL:https://au-agenda.com/evento/dracula-la-leyenda-10/
LOCATION:Teatro Off\, Túria\, 47\, Valencia\, Valencia\, 46008\, España
CATEGORIES:Escena
END:VEVENT
BEGIN:VEVENT
DTSTART;TZID=Europe/Madrid:20251207T200000
DTEND;TZID=Europe/Madrid:20251207T200000
DTSTAMP:20260420T152823
CREATED:20251121T181254Z
LAST-MODIFIED:20251121T181254Z
UID:10028163-1765137600-1765137600@au-agenda.com
SUMMARY:Drácula\, la leyenda
DESCRIPTION:En esta nueva versión musical de la obra inmortal de Bram Stoker\, Drácula se revela como un ser trágico\, condenado a la eternidad y dividido entre su sed de sangre y su necesidad de amar. En su lucha contra el mal\, los personajes de esta historia descubren que el Conde no es solo un enemigo que combatir\, sino también una víctima de su propia maldición. Con música\, danza y una puesta en escena cargada de intensidad gótica y romántica\, «Drácula» es un musical que habla del deseo\, la redención y la eterna batalla entre el bien y el mal.
URL:https://au-agenda.com/evento/dracula-la-leyenda-9/
LOCATION:Teatro Off\, Túria\, 47\, Valencia\, Valencia\, 46008\, España
CATEGORIES:Escena
END:VEVENT
BEGIN:VEVENT
DTSTART;TZID=Europe/Madrid:20251206T200000
DTEND;TZID=Europe/Madrid:20251206T200000
DTSTAMP:20260420T152823
CREATED:20251121T180939Z
LAST-MODIFIED:20251121T180939Z
UID:10028158-1765051200-1765051200@au-agenda.com
SUMMARY:Drácula\, la leyenda
DESCRIPTION:En esta nueva versión musical de la obra inmortal de Bram Stoker\, Drácula se revela como un ser trágico\, condenado a la eternidad y dividido entre su sed de sangre y su necesidad de amar. En su lucha contra el mal\, los personajes de esta historia descubren que el Conde no es solo un enemigo que combatir\, sino también una víctima de su propia maldición. Con música\, danza y una puesta en escena cargada de intensidad gótica y romántica\, «Drácula» es un musical que habla del deseo\, la redención y la eterna batalla entre el bien y el mal.
URL:https://au-agenda.com/evento/dracula-la-leyenda-8/
LOCATION:Teatro Off\, Túria\, 47\, Valencia\, Valencia\, 46008\, España
CATEGORIES:Escena
END:VEVENT
BEGIN:VEVENT
DTSTART;TZID=Europe/Madrid:20251205T200000
DTEND;TZID=Europe/Madrid:20251205T200000
DTSTAMP:20260420T152823
CREATED:20251121T180855Z
LAST-MODIFIED:20251121T180855Z
UID:10028157-1764964800-1764964800@au-agenda.com
SUMMARY:Drácula\, la leyenda
DESCRIPTION:En esta nueva versión musical de la obra inmortal de Bram Stoker\, Drácula se revela como un ser trágico\, condenado a la eternidad y dividido entre su sed de sangre y su necesidad de amar. En su lucha contra el mal\, los personajes de esta historia descubren que el Conde no es solo un enemigo que combatir\, sino también una víctima de su propia maldición. Con música\, danza y una puesta en escena cargada de intensidad gótica y romántica\, «Drácula» es un musical que habla del deseo\, la redención y la eterna batalla entre el bien y el mal.
URL:https://au-agenda.com/evento/dracula-la-leyenda-7/
LOCATION:Teatro Off\, Túria\, 47\, Valencia\, Valencia\, 46008\, España
CATEGORIES:Escena
END:VEVENT
BEGIN:VEVENT
DTSTART;TZID=Europe/Madrid:20251204T200000
DTEND;TZID=Europe/Madrid:20251204T200000
DTSTAMP:20260420T152823
CREATED:20251121T180816Z
LAST-MODIFIED:20251121T180816Z
UID:10028156-1764878400-1764878400@au-agenda.com
SUMMARY:Drácula\, la leyenda
DESCRIPTION:En esta nueva versión musical de la obra inmortal de Bram Stoker\, Drácula se revela como un ser trágico\, condenado a la eternidad y dividido entre su sed de sangre y su necesidad de amar. En su lucha contra el mal\, los personajes de esta historia descubren que el Conde no es solo un enemigo que combatir\, sino también una víctima de su propia maldición. Con música\, danza y una puesta en escena cargada de intensidad gótica y romántica\, «Drácula» es un musical que habla del deseo\, la redención y la eterna batalla entre el bien y el mal.
URL:https://au-agenda.com/evento/dracula-la-leyenda-6/
LOCATION:Teatro Off\, Túria\, 47\, Valencia\, Valencia\, 46008\, España
CATEGORIES:Escena
END:VEVENT
BEGIN:VEVENT
DTSTART;TZID=Europe/Madrid:20251203T200000
DTEND;TZID=Europe/Madrid:20251203T200000
DTSTAMP:20260420T152823
CREATED:20251121T180742Z
LAST-MODIFIED:20251121T180742Z
UID:10028155-1764792000-1764792000@au-agenda.com
SUMMARY:Drácula\, la leyenda
DESCRIPTION:En esta nueva versión musical de la obra inmortal de Bram Stoker\, Drácula se revela como un ser trágico\, condenado a la eternidad y dividido entre su sed de sangre y su necesidad de amar. En su lucha contra el mal\, los personajes de esta historia descubren que el Conde no es solo un enemigo que combatir\, sino también una víctima de su propia maldición. Con música\, danza y una puesta en escena cargada de intensidad gótica y romántica\, «Drácula» es un musical que habla del deseo\, la redención y la eterna batalla entre el bien y el mal.
URL:https://au-agenda.com/evento/dracula-la-leyenda-5/
LOCATION:Teatro Off\, Túria\, 47\, Valencia\, Valencia\, 46008\, España
CATEGORIES:Escena
END:VEVENT
END:VCALENDAR