BEGIN:VCALENDAR
VERSION:2.0
PRODID:-//AU Agenda - ECPv6.9.0//NONSGML v1.0//EN
CALSCALE:GREGORIAN
METHOD:PUBLISH
X-WR-CALNAME:AU Agenda
X-ORIGINAL-URL:https://au-agenda.com
X-WR-CALDESC:Eventos para AU Agenda
REFRESH-INTERVAL;VALUE=DURATION:PT1H
X-Robots-Tag:noindex
X-PUBLISHED-TTL:PT1H
BEGIN:VTIMEZONE
TZID:Europe/Madrid
BEGIN:DAYLIGHT
TZOFFSETFROM:+0100
TZOFFSETTO:+0200
TZNAME:CEST
DTSTART:20250330T010000
END:DAYLIGHT
BEGIN:STANDARD
TZOFFSETFROM:+0200
TZOFFSETTO:+0100
TZNAME:CET
DTSTART:20251026T010000
END:STANDARD
BEGIN:DAYLIGHT
TZOFFSETFROM:+0100
TZOFFSETTO:+0200
TZNAME:CEST
DTSTART:20260329T010000
END:DAYLIGHT
BEGIN:STANDARD
TZOFFSETFROM:+0200
TZOFFSETTO:+0100
TZNAME:CET
DTSTART:20261025T010000
END:STANDARD
END:VTIMEZONE
BEGIN:VEVENT
DTSTART;TZID=Europe/Madrid:20260419T120000
DTEND;TZID=Europe/Madrid:20260419T120000
DTSTAMP:20260422T041905
CREATED:20260414T090252Z
LAST-MODIFIED:20260414T090252Z
UID:10033882-1776600000-1776600000@au-agenda.com
SUMMARY:Musiquart Fest
DESCRIPTION:Quart de Poblet continua sent un epicentre musical a la Comunitat Valenciana\, amb una sòlida trajectòria en el suport a aquesta expressió artística i com a bressol de talentosos artistes i bandes musicals. La música és una part integral de la vida quotidiana en aquesta localitat\, on tant joves com persones majors gaudeixen\, aprenen i participen activament en ella\, enriquint la nostra cultura i qualitat de vida.\n\n\n\n\n\n\n\nA partir d’aquesta tradició\, sorgeix el MUSIQUART Festival Internacional de Música de Quart de Poblet\, amb l’objectiu de posicionar a la localitat com un referent cultural nacional i internacional. Els festivals musicals són cada vegada més populars\, atraient professionals del sector i dinamitzant el territori. \nMUSIQUART emergeix reflectint l’esperit musical de la comunitat. Aquesta quarta edició busca consolidar l’esdeveniment\, amb un enfocament inclusiu que aposta per la igualtat de gènere. Cinc dels sis concerts presentaran propostes liderades per dones en l’àmbit compositiu\, poètic i interpretatiu. \nEl festival inclou concerts de grups professionals de alt nivell i masterclass impartides per professorat reconegut. Els concerts es presentaran de manera didàctica en valencià\, amb explicacions sobre les obres\, poemes i cites per a millorar la comprensió i gaudi del públic. \nProgramació 2026 \nQuatre cites úniques on l’elegància sonora i l’emoció es troben en cada nota: \n🎻 Queen & ABBA en cordes — una reinterpretació exquisida dels grans clàssics. \n\n\n\nCuarteto Macondo\nAntonio García | Abraham Parra | Cristina Regojo | Juan Mellado \n\n\nCC Casino de Quart de Poblet\n16 d’abril | 19:30h \n\n\n\n🌍 Ponts Sonors: d’El Salvador a València — un viatge musical entre cultures. \nPlaerdemavida Ensemble\nPaloma Chiner | Pascual Andreu | Pablo Garcia-Berlanga | René Hernández \nAuditori Moli de Viola de Quart de Poblet\n17 d’abril | 19:30h \n🍃 Les Quatre Estacions — la bellesa eterna de Vivaldi en estat pur. \nSine Tempore Ensemble\nDarling Dyle | Desislava Cvetkova | Rumen Cvetkov | Yu Ting Ng \nAuditori Molí de Vila de Quart de Poblet\n18 abril | 19:30h \n🎼 L’Arpa Furtiva — la delicadesa de la veu i l’arpa en perfecta harmonia. Programa familiar. \nDe Soprano y Arpa\nQuiteria Muñoz | Úrsula Segarra \nCC Casino de Quart de Poblet\n19 d’abril | 12h \nEntrada lliure fins completar aforament. \nMés informació a: https://festivaldemusicaquartdepoblet.com/
URL:https://au-agenda.com/evento/musiquart-fest/2026-04-19/
LOCATION:Quart de Poblet\, Quart de Poblet\, Quart de Poblet\, Valencia\, España
CATEGORIES:Música
ATTACH;FMTTYPE=image/jpeg:https://au-agenda.com/wp-content/uploads/2026/04/WhatsApp-Image-2026-04-14-at-08.47.38.jpeg
ORGANIZER;CN="MusiQuart Fest":MAILTO:festivalmusiquart@gmail.com
END:VEVENT
BEGIN:VEVENT
DTSTART;TZID=Europe/Madrid:20260418T193000
DTEND;TZID=Europe/Madrid:20260418T193000
DTSTAMP:20260422T041905
CREATED:20260414T090252Z
LAST-MODIFIED:20260414T090252Z
UID:10033881-1776540600-1776540600@au-agenda.com
SUMMARY:Musiquart Fest
DESCRIPTION:Quart de Poblet continua sent un epicentre musical a la Comunitat Valenciana\, amb una sòlida trajectòria en el suport a aquesta expressió artística i com a bressol de talentosos artistes i bandes musicals. La música és una part integral de la vida quotidiana en aquesta localitat\, on tant joves com persones majors gaudeixen\, aprenen i participen activament en ella\, enriquint la nostra cultura i qualitat de vida.\n\n\n\n\n\n\n\nA partir d’aquesta tradició\, sorgeix el MUSIQUART Festival Internacional de Música de Quart de Poblet\, amb l’objectiu de posicionar a la localitat com un referent cultural nacional i internacional. Els festivals musicals són cada vegada més populars\, atraient professionals del sector i dinamitzant el territori. \nMUSIQUART emergeix reflectint l’esperit musical de la comunitat. Aquesta quarta edició busca consolidar l’esdeveniment\, amb un enfocament inclusiu que aposta per la igualtat de gènere. Cinc dels sis concerts presentaran propostes liderades per dones en l’àmbit compositiu\, poètic i interpretatiu. \nEl festival inclou concerts de grups professionals de alt nivell i masterclass impartides per professorat reconegut. Els concerts es presentaran de manera didàctica en valencià\, amb explicacions sobre les obres\, poemes i cites per a millorar la comprensió i gaudi del públic. \nProgramació 2026 \nQuatre cites úniques on l’elegància sonora i l’emoció es troben en cada nota: \n🎻 Queen & ABBA en cordes — una reinterpretació exquisida dels grans clàssics. \n\n\n\nCuarteto Macondo\nAntonio García | Abraham Parra | Cristina Regojo | Juan Mellado \n\n\nCC Casino de Quart de Poblet\n16 d’abril | 19:30h \n\n\n\n🌍 Ponts Sonors: d’El Salvador a València — un viatge musical entre cultures. \nPlaerdemavida Ensemble\nPaloma Chiner | Pascual Andreu | Pablo Garcia-Berlanga | René Hernández \nAuditori Moli de Viola de Quart de Poblet\n17 d’abril | 19:30h \n🍃 Les Quatre Estacions — la bellesa eterna de Vivaldi en estat pur. \nSine Tempore Ensemble\nDarling Dyle | Desislava Cvetkova | Rumen Cvetkov | Yu Ting Ng \nAuditori Molí de Vila de Quart de Poblet\n18 abril | 19:30h \n🎼 L’Arpa Furtiva — la delicadesa de la veu i l’arpa en perfecta harmonia. Programa familiar. \nDe Soprano y Arpa\nQuiteria Muñoz | Úrsula Segarra \nCC Casino de Quart de Poblet\n19 d’abril | 12h \nEntrada lliure fins completar aforament. \nMés informació a: https://festivaldemusicaquartdepoblet.com/
URL:https://au-agenda.com/evento/musiquart-fest/2026-04-18/
LOCATION:Quart de Poblet\, Quart de Poblet\, Quart de Poblet\, Valencia\, España
CATEGORIES:Música
ATTACH;FMTTYPE=image/jpeg:https://au-agenda.com/wp-content/uploads/2026/04/WhatsApp-Image-2026-04-14-at-08.47.38.jpeg
ORGANIZER;CN="MusiQuart Fest":MAILTO:festivalmusiquart@gmail.com
END:VEVENT
BEGIN:VEVENT
DTSTART;TZID=Europe/Madrid:20260417T193000
DTEND;TZID=Europe/Madrid:20260417T193000
DTSTAMP:20260422T041905
CREATED:20260414T090252Z
LAST-MODIFIED:20260414T090252Z
UID:10033880-1776454200-1776454200@au-agenda.com
SUMMARY:Musiquart Fest
DESCRIPTION:Quart de Poblet continua sent un epicentre musical a la Comunitat Valenciana\, amb una sòlida trajectòria en el suport a aquesta expressió artística i com a bressol de talentosos artistes i bandes musicals. La música és una part integral de la vida quotidiana en aquesta localitat\, on tant joves com persones majors gaudeixen\, aprenen i participen activament en ella\, enriquint la nostra cultura i qualitat de vida.\n\n\n\n\n\n\n\nA partir d’aquesta tradició\, sorgeix el MUSIQUART Festival Internacional de Música de Quart de Poblet\, amb l’objectiu de posicionar a la localitat com un referent cultural nacional i internacional. Els festivals musicals són cada vegada més populars\, atraient professionals del sector i dinamitzant el territori. \nMUSIQUART emergeix reflectint l’esperit musical de la comunitat. Aquesta quarta edició busca consolidar l’esdeveniment\, amb un enfocament inclusiu que aposta per la igualtat de gènere. Cinc dels sis concerts presentaran propostes liderades per dones en l’àmbit compositiu\, poètic i interpretatiu. \nEl festival inclou concerts de grups professionals de alt nivell i masterclass impartides per professorat reconegut. Els concerts es presentaran de manera didàctica en valencià\, amb explicacions sobre les obres\, poemes i cites per a millorar la comprensió i gaudi del públic. \nProgramació 2026 \nQuatre cites úniques on l’elegància sonora i l’emoció es troben en cada nota: \n🎻 Queen & ABBA en cordes — una reinterpretació exquisida dels grans clàssics. \n\n\n\nCuarteto Macondo\nAntonio García | Abraham Parra | Cristina Regojo | Juan Mellado \n\n\nCC Casino de Quart de Poblet\n16 d’abril | 19:30h \n\n\n\n🌍 Ponts Sonors: d’El Salvador a València — un viatge musical entre cultures. \nPlaerdemavida Ensemble\nPaloma Chiner | Pascual Andreu | Pablo Garcia-Berlanga | René Hernández \nAuditori Moli de Viola de Quart de Poblet\n17 d’abril | 19:30h \n🍃 Les Quatre Estacions — la bellesa eterna de Vivaldi en estat pur. \nSine Tempore Ensemble\nDarling Dyle | Desislava Cvetkova | Rumen Cvetkov | Yu Ting Ng \nAuditori Molí de Vila de Quart de Poblet\n18 abril | 19:30h \n🎼 L’Arpa Furtiva — la delicadesa de la veu i l’arpa en perfecta harmonia. Programa familiar. \nDe Soprano y Arpa\nQuiteria Muñoz | Úrsula Segarra \nCC Casino de Quart de Poblet\n19 d’abril | 12h \nEntrada lliure fins completar aforament. \nMés informació a: https://festivaldemusicaquartdepoblet.com/
URL:https://au-agenda.com/evento/musiquart-fest/2026-04-17/
LOCATION:Quart de Poblet\, Quart de Poblet\, Quart de Poblet\, Valencia\, España
CATEGORIES:Música
ATTACH;FMTTYPE=image/jpeg:https://au-agenda.com/wp-content/uploads/2026/04/WhatsApp-Image-2026-04-14-at-08.47.38.jpeg
ORGANIZER;CN="MusiQuart Fest":MAILTO:festivalmusiquart@gmail.com
END:VEVENT
BEGIN:VEVENT
DTSTART;TZID=Europe/Madrid:20260416T193000
DTEND;TZID=Europe/Madrid:20260416T193000
DTSTAMP:20260422T041905
CREATED:20260414T090252Z
LAST-MODIFIED:20260414T090252Z
UID:10033879-1776367800-1776367800@au-agenda.com
SUMMARY:Musiquart Fest
DESCRIPTION:Quart de Poblet continua sent un epicentre musical a la Comunitat Valenciana\, amb una sòlida trajectòria en el suport a aquesta expressió artística i com a bressol de talentosos artistes i bandes musicals. La música és una part integral de la vida quotidiana en aquesta localitat\, on tant joves com persones majors gaudeixen\, aprenen i participen activament en ella\, enriquint la nostra cultura i qualitat de vida.\n\n\n\n\n\n\n\nA partir d’aquesta tradició\, sorgeix el MUSIQUART Festival Internacional de Música de Quart de Poblet\, amb l’objectiu de posicionar a la localitat com un referent cultural nacional i internacional. Els festivals musicals són cada vegada més populars\, atraient professionals del sector i dinamitzant el territori. \nMUSIQUART emergeix reflectint l’esperit musical de la comunitat. Aquesta quarta edició busca consolidar l’esdeveniment\, amb un enfocament inclusiu que aposta per la igualtat de gènere. Cinc dels sis concerts presentaran propostes liderades per dones en l’àmbit compositiu\, poètic i interpretatiu. \nEl festival inclou concerts de grups professionals de alt nivell i masterclass impartides per professorat reconegut. Els concerts es presentaran de manera didàctica en valencià\, amb explicacions sobre les obres\, poemes i cites per a millorar la comprensió i gaudi del públic. \nProgramació 2026 \nQuatre cites úniques on l’elegància sonora i l’emoció es troben en cada nota: \n🎻 Queen & ABBA en cordes — una reinterpretació exquisida dels grans clàssics. \n\n\n\nCuarteto Macondo\nAntonio García | Abraham Parra | Cristina Regojo | Juan Mellado \n\n\nCC Casino de Quart de Poblet\n16 d’abril | 19:30h \n\n\n\n🌍 Ponts Sonors: d’El Salvador a València — un viatge musical entre cultures. \nPlaerdemavida Ensemble\nPaloma Chiner | Pascual Andreu | Pablo Garcia-Berlanga | René Hernández \nAuditori Moli de Viola de Quart de Poblet\n17 d’abril | 19:30h \n🍃 Les Quatre Estacions — la bellesa eterna de Vivaldi en estat pur. \nSine Tempore Ensemble\nDarling Dyle | Desislava Cvetkova | Rumen Cvetkov | Yu Ting Ng \nAuditori Molí de Vila de Quart de Poblet\n18 abril | 19:30h \n🎼 L’Arpa Furtiva — la delicadesa de la veu i l’arpa en perfecta harmonia. Programa familiar. \nDe Soprano y Arpa\nQuiteria Muñoz | Úrsula Segarra \nCC Casino de Quart de Poblet\n19 d’abril | 12h \nEntrada lliure fins completar aforament. \nMés informació a: https://festivaldemusicaquartdepoblet.com/
URL:https://au-agenda.com/evento/musiquart-fest/2026-04-16/
LOCATION:Quart de Poblet\, Quart de Poblet\, Quart de Poblet\, Valencia\, España
CATEGORIES:Música
ATTACH;FMTTYPE=image/jpeg:https://au-agenda.com/wp-content/uploads/2026/04/WhatsApp-Image-2026-04-14-at-08.47.38.jpeg
ORGANIZER;CN="MusiQuart Fest":MAILTO:festivalmusiquart@gmail.com
END:VEVENT
BEGIN:VEVENT
DTSTART;TZID=Europe/Madrid:20251220T100000
DTEND;TZID=Europe/Madrid:20251220T100000
DTSTAMP:20260422T041905
CREATED:20251015T082429Z
LAST-MODIFIED:20251015T082429Z
UID:10026023-1766224800-1766224800@au-agenda.com
SUMMARY:Mercats de l'Horta
DESCRIPTION:Quart de Poblet acollirà per primera vegada els Mercats de l’Horta\, una cita amb l’agricultura ecològica i de proximitat que se celebrarà els diumenges 19 d’octubre\, 16 de novembre i 20 de desembre\, de 10 a 14 hores\, al carrer Azorín\, junt a la rotonda de l’Aigua. Aquesta proposta naix de la Regidoria de Mercats de l’Ajuntament i de l’associació Per l’Horta\, en col·laboració amb les entitats locals L’Animeta i Equartlogistes\, amb l’objectiu de generar un espai de trobada entre productors i consumidors basat en la proximitat\, el respecte pel medi ambient i el suport als menuts productors de la comarca. \nEls Mercats de l’Horta oferixen fruita i verdura de temporada ecològica o produïda sota criteris sostenibles\, així com productes elaborats de proximitat (melmelades\, conserves\, mel\, pa\, etc.). També inclouran espais informatius i de sensibilització sobre consum responsable\, preus agrícoles i ecologia\, donant suport als petits productors que treballen amb criteris ecològics i fomentant un model de consum més sostenible i responsable. Un punt de trobada perquè les persones puguen comprar directament\, sense intermediaris\, i conéixer a qui cultiva la terra. \nJuntament amb productors de verdura i fruita de l’horta\, el mercat del pròxim diumenge 19 comptarà amb un taller sobre ferments a càrrec de La Fermenteria de l’Horta\, un espai d’animació i jocs per a xiquets i xiquetes\, els estand d’entitats locals participants i conclourà amb un taller de balls en cercle a càrrec de l’Associació Cultural El Mussol.
URL:https://au-agenda.com/evento/mercats-de-lhorta-5/
LOCATION:Quart de Poblet\, Quart de Poblet\, Quart de Poblet\, Valencia\, España
CATEGORIES:Altres
ATTACH;FMTTYPE=image/jpeg:https://au-agenda.com/wp-content/uploads/2025/10/0_XXSS_mercats-quart-de-poblet.jpeg
END:VEVENT
END:VCALENDAR