BEGIN:VCALENDAR
VERSION:2.0
PRODID:-//AU Agenda - ECPv6.9.0//NONSGML v1.0//EN
CALSCALE:GREGORIAN
METHOD:PUBLISH
X-ORIGINAL-URL:https://au-agenda.com
X-WR-CALDESC:Eventos para AU Agenda
REFRESH-INTERVAL;VALUE=DURATION:PT1H
X-Robots-Tag:noindex
X-PUBLISHED-TTL:PT1H
BEGIN:VTIMEZONE
TZID:Europe/Madrid
BEGIN:DAYLIGHT
TZOFFSETFROM:+0100
TZOFFSETTO:+0200
TZNAME:CEST
DTSTART:20260329T010000
END:DAYLIGHT
BEGIN:STANDARD
TZOFFSETFROM:+0200
TZOFFSETTO:+0100
TZNAME:CET
DTSTART:20261025T010000
END:STANDARD
END:VTIMEZONE
BEGIN:VEVENT
DTSTART;TZID=Europe/Madrid:20260520T180000
DTEND;TZID=Europe/Madrid:20260520T180000
DTSTAMP:20260421T185443
CREATED:20260421T071740Z
LAST-MODIFIED:20260421T071740Z
UID:10034346-1779300000-1779300000@au-agenda.com
SUMMARY:Habitar el Museu amb la dansa: tres estils\, una mirada nova
DESCRIPTION:Dins de la programació cultural del Museu de Belles Arts de València\, les arts escèniques es proposen com a complement indispensable de la riquíssima col·lecció permanent i de la seua programació d’exposicions per a ajudar al fet que la institució complisca amb la seua labor social d’integrar a tots i totes. Accés lliure fins a completar l’aforament en totes les sessions. \nLes sessions que es realitzaran durant el segon trimestre de 2026 són les següents: \n22 abril 2026\, 18:00 h. · Dansa\nFlamenc\nIrene de la Rosa \n29 abril 2026\, 18:00 h. · Música\nMembra Jesu Nostri\nMúsica Trobada \n6 maig 2026\, 18:00 h. · Dansa clàssica\nLa dansa clàssica habita en el Museu\nAlumnat del Conservatori Professional de Dansa de València \n13 maig 2026\, 18:00 h. · Música\nTemps Moderns\nMúsica Trobada \n20 maig 2026\, 18:00 h. · Dansa espanyola\nHabitar el Museu amb la dansa: tres estils\, una mirada nova\nAlumnat del Conservatori Professional de Dansa de València \n27 maig 2026\, 18:00 h. · Dansa\nFlamenc\nIrene de la Rosa \n3 juny 2026\, 18:00 h. · Música vocal\nEl color del cant i la música de les pintures\nAula Vocal 5 \n6 juny 2026\, 18:00 h. · Música\nAlumnat de Voluta Escola de Música \n10 juny 2026\, 18:00 h. · Música de cantautor\nAndreu Valor \n17 juny 2026\, 18:00 h. · Dansa\nFlamenc\nCristina Reolid
URL:https://au-agenda.com/evento/habitar-el-museu-amb-la-dansa-tres-estils-una-mirada-nova/
LOCATION:Museu BB.AA.\, Sant Pius V\, 9\, Valencia\, Valencia\, 46010\, España
CATEGORIES:Escena
END:VEVENT
BEGIN:VEVENT
DTSTART;TZID=Europe/Madrid:20260526T170000
DTEND;TZID=Europe/Madrid:20260526T170000
DTSTAMP:20260421T185443
CREATED:20260421T071148Z
LAST-MODIFIED:20260421T071148Z
UID:10034340-1779814800-1779814800@au-agenda.com
SUMMARY:Herois i Heroïnes: Una chica vuelve a casa sola de noche (Ana Lily Amirpour\, 2014)
DESCRIPTION:Si el protagonista d’una pel·lícula és el personatge cap al qual el públic dirigix la seua atenció\, els protagonistes més atractius són els de naturalesa heroica\, perquè la seua condició carismàtica afavorix la simpatia i admiració per part d’espectadors i espectadores. De Guilgameix a James Bond\, d’Ulisses a Harry Potter\, d’Atalanta a Wonder Woman o Lara Croft\, herois i heroïnes han sigut grans protagonistes de la narrativa universal a través d’epopeies clàssiques\, cantars de gesta\, novel·les\, còmics\, pel·lícules\, sèries de televisió i\, fins i tot\, videojocs. Este nou cicle del Museu de Belles Arts de València oferix set significatius exemples on hòmens o dones encarnen eixe model exemplar d’integrar l’origen mitològic i la renovació constant. Les sessions del segon cicle de cinema d’enguany es desenrotllaran entre abril i juny de 2026 d’acrod amb el següent calendari:\nDimarts 21 abril\, 17:00 h.\nTarzán y su compañera (Cedric Gibbons\, 1934) \nDimarts 28 abril\, 17:00 h.\nRobin de los bosques (Michael Curtiz & William Keighley\, 1938) \nDimarts 5 maig\, 17:00 h.\nAgustina de Aragón (Juan de Orduña\, 1950)Dimarts 12 maig\, 17:00 h.\nHigh Noon (Fred Zinneman\, 1952) \nDimarts 19 maig\, 17:00 h\nAlien (Ridley Scott\, 1979) \nDimarts 26 maig\, 17:00 h\nUna chica vuelve a casa sola de noche (Ana Lily Amirpour\, 2014) \nDimarts 2 juny\, 17:00 h\nAtómica (David Leitch\, 2017) \n\n\n\nTotes les sessions tindran lloc al Saló d’actes del Museu de Belles Arts de València\, amb presentació\, comentaris i debat a càrrec dels profs. Teresa Sorolla (Universitat Jaume I de Castelló) i Carlos Cuéllar (Universitat de València). Les pel·lícules es projectaran en versió original subtitulada. Accés lliure fins a completar l’aforament.
URL:https://au-agenda.com/evento/herois-i-heroines-una-chica-vuelve-a-casa-sola-de-noche-ana-lily-amirpour-2014/
LOCATION:Museu BB.AA.\, Sant Pius V\, 9\, Valencia\, Valencia\, 46010\, España
CATEGORIES:Cinema
ATTACH;FMTTYPE=image/png:https://au-agenda.com/wp-content/uploads/2026/04/Captura-de-Pantalla-2026-04-21-a-las-9.08.02.png
END:VEVENT
BEGIN:VEVENT
DTSTART;TZID=Europe/Madrid:20260527T180000
DTEND;TZID=Europe/Madrid:20260527T180000
DTSTAMP:20260421T185443
CREATED:20260421T071824Z
LAST-MODIFIED:20260421T071824Z
UID:10034347-1779904800-1779904800@au-agenda.com
SUMMARY:Irene de la Rosa (Flamenc)
DESCRIPTION:Dins de la programació cultural del Museu de Belles Arts de València\, les arts escèniques es proposen com a complement indispensable de la riquíssima col·lecció permanent i de la seua programació d’exposicions per a ajudar al fet que la institució complisca amb la seua labor social d’integrar a tots i totes. Accés lliure fins a completar l’aforament en totes les sessions. \nLes sessions que es realitzaran durant el segon trimestre de 2026 són les següents: \n22 abril 2026\, 18:00 h. · Dansa\nFlamenc\nIrene de la Rosa \n29 abril 2026\, 18:00 h. · Música\nMembra Jesu Nostri\nMúsica Trobada \n6 maig 2026\, 18:00 h. · Dansa clàssica\nLa dansa clàssica habita en el Museu\nAlumnat del Conservatori Professional de Dansa de València \n13 maig 2026\, 18:00 h. · Música\nTemps Moderns\nMúsica Trobada \n20 maig 2026\, 18:00 h. · Dansa espanyola\nHabitar el Museu amb la dansa: tres estils\, una mirada nova\nAlumnat del Conservatori Professional de Dansa de València \n27 maig 2026\, 18:00 h. · Dansa\nFlamenc\nIrene de la Rosa \n3 juny 2026\, 18:00 h. · Música vocal\nEl color del cant i la música de les pintures\nAula Vocal 5 \n6 juny 2026\, 18:00 h. · Música\nAlumnat de Voluta Escola de Música \n10 juny 2026\, 18:00 h. · Música de cantautor\nAndreu Valor \n17 juny 2026\, 18:00 h. · Dansa\nFlamenc\nCristina Reolid
URL:https://au-agenda.com/evento/irene-de-la-rosa-flamenc/
LOCATION:Museu BB.AA.\, Sant Pius V\, 9\, Valencia\, Valencia\, 46010\, España
CATEGORIES:Música
END:VEVENT
BEGIN:VEVENT
DTSTART;TZID=Europe/Madrid:20260602T170000
DTEND;TZID=Europe/Madrid:20260602T170000
DTSTAMP:20260421T185443
CREATED:20260421T071215Z
LAST-MODIFIED:20260421T071215Z
UID:10034341-1780419600-1780419600@au-agenda.com
SUMMARY:Herois i Heroïnes: Atómica (David Leitch\, 2017)
DESCRIPTION:Si el protagonista d’una pel·lícula és el personatge cap al qual el públic dirigix la seua atenció\, els protagonistes més atractius són els de naturalesa heroica\, perquè la seua condició carismàtica afavorix la simpatia i admiració per part d’espectadors i espectadores. De Guilgameix a James Bond\, d’Ulisses a Harry Potter\, d’Atalanta a Wonder Woman o Lara Croft\, herois i heroïnes han sigut grans protagonistes de la narrativa universal a través d’epopeies clàssiques\, cantars de gesta\, novel·les\, còmics\, pel·lícules\, sèries de televisió i\, fins i tot\, videojocs. Este nou cicle del Museu de Belles Arts de València oferix set significatius exemples on hòmens o dones encarnen eixe model exemplar d’integrar l’origen mitològic i la renovació constant. Les sessions del segon cicle de cinema d’enguany es desenrotllaran entre abril i juny de 2026 d’acrod amb el següent calendari:\nDimarts 21 abril\, 17:00 h.\nTarzán y su compañera (Cedric Gibbons\, 1934) \nDimarts 28 abril\, 17:00 h.\nRobin de los bosques (Michael Curtiz & William Keighley\, 1938) \nDimarts 5 maig\, 17:00 h.\nAgustina de Aragón (Juan de Orduña\, 1950)Dimarts 12 maig\, 17:00 h.\nHigh Noon (Fred Zinneman\, 1952) \nDimarts 19 maig\, 17:00 h\nAlien (Ridley Scott\, 1979) \nDimarts 26 maig\, 17:00 h\nUna chica vuelve a casa sola de noche (Ana Lily Amirpour\, 2014) \nDimarts 2 juny\, 17:00 h\nAtómica (David Leitch\, 2017) \n\n\n\nTotes les sessions tindran lloc al Saló d’actes del Museu de Belles Arts de València\, amb presentació\, comentaris i debat a càrrec dels profs. Teresa Sorolla (Universitat Jaume I de Castelló) i Carlos Cuéllar (Universitat de València). Les pel·lícules es projectaran en versió original subtitulada. Accés lliure fins a completar l’aforament.
URL:https://au-agenda.com/evento/herois-i-heroines-atomica-david-leitch-2017/
LOCATION:Museu BB.AA.\, Sant Pius V\, 9\, Valencia\, Valencia\, 46010\, España
CATEGORIES:Cinema
ATTACH;FMTTYPE=image/png:https://au-agenda.com/wp-content/uploads/2026/04/Captura-de-Pantalla-2026-04-21-a-las-9.08.02.png
END:VEVENT
BEGIN:VEVENT
DTSTART;TZID=Europe/Madrid:20260603T180000
DTEND;TZID=Europe/Madrid:20260603T180000
DTSTAMP:20260421T185443
CREATED:20260421T071859Z
LAST-MODIFIED:20260421T071859Z
UID:10034348-1780509600-1780509600@au-agenda.com
SUMMARY:El color del cant i la música de les pintures
DESCRIPTION:Dins de la programació cultural del Museu de Belles Arts de València\, les arts escèniques es proposen com a complement indispensable de la riquíssima col·lecció permanent i de la seua programació d’exposicions per a ajudar al fet que la institució complisca amb la seua labor social d’integrar a tots i totes. Accés lliure fins a completar l’aforament en totes les sessions. \nLes sessions que es realitzaran durant el segon trimestre de 2026 són les següents: \n22 abril 2026\, 18:00 h. · Dansa\nFlamenc\nIrene de la Rosa \n29 abril 2026\, 18:00 h. · Música\nMembra Jesu Nostri\nMúsica Trobada \n6 maig 2026\, 18:00 h. · Dansa clàssica\nLa dansa clàssica habita en el Museu\nAlumnat del Conservatori Professional de Dansa de València \n13 maig 2026\, 18:00 h. · Música\nTemps Moderns\nMúsica Trobada \n20 maig 2026\, 18:00 h. · Dansa espanyola\nHabitar el Museu amb la dansa: tres estils\, una mirada nova\nAlumnat del Conservatori Professional de Dansa de València \n27 maig 2026\, 18:00 h. · Dansa\nFlamenc\nIrene de la Rosa \n3 juny 2026\, 18:00 h. · Música vocal\nEl color del cant i la música de les pintures\nAula Vocal 5 \n6 juny 2026\, 18:00 h. · Música\nAlumnat de Voluta Escola de Música \n10 juny 2026\, 18:00 h. · Música de cantautor\nAndreu Valor \n17 juny 2026\, 18:00 h. · Dansa\nFlamenc\nCristina Reolid
URL:https://au-agenda.com/evento/el-color-del-cant-i-la-musica-de-les-pintures/
LOCATION:Museu BB.AA.\, Sant Pius V\, 9\, Valencia\, Valencia\, 46010\, España
CATEGORIES:Música
END:VEVENT
BEGIN:VEVENT
DTSTART;TZID=Europe/Madrid:20260606T180000
DTEND;TZID=Europe/Madrid:20260606T180000
DTSTAMP:20260421T185443
CREATED:20260421T071933Z
LAST-MODIFIED:20260421T071933Z
UID:10034349-1780768800-1780768800@au-agenda.com
SUMMARY:Alumnat de Voluta Escola de Música
DESCRIPTION:Dins de la programació cultural del Museu de Belles Arts de València\, les arts escèniques es proposen com a complement indispensable de la riquíssima col·lecció permanent i de la seua programació d’exposicions per a ajudar al fet que la institució complisca amb la seua labor social d’integrar a tots i totes. Accés lliure fins a completar l’aforament en totes les sessions. \nLes sessions que es realitzaran durant el segon trimestre de 2026 són les següents: \n22 abril 2026\, 18:00 h. · Dansa\nFlamenc\nIrene de la Rosa \n29 abril 2026\, 18:00 h. · Música\nMembra Jesu Nostri\nMúsica Trobada \n6 maig 2026\, 18:00 h. · Dansa clàssica\nLa dansa clàssica habita en el Museu\nAlumnat del Conservatori Professional de Dansa de València \n13 maig 2026\, 18:00 h. · Música\nTemps Moderns\nMúsica Trobada \n20 maig 2026\, 18:00 h. · Dansa espanyola\nHabitar el Museu amb la dansa: tres estils\, una mirada nova\nAlumnat del Conservatori Professional de Dansa de València \n27 maig 2026\, 18:00 h. · Dansa\nFlamenc\nIrene de la Rosa \n3 juny 2026\, 18:00 h. · Música vocal\nEl color del cant i la música de les pintures\nAula Vocal 5 \n6 juny 2026\, 18:00 h. · Música\nAlumnat de Voluta Escola de Música \n10 juny 2026\, 18:00 h. · Música de cantautor\nAndreu Valor \n17 juny 2026\, 18:00 h. · Dansa\nFlamenc\nCristina Reolid
URL:https://au-agenda.com/evento/alumnat-de-voluta-escola-de-musica/
LOCATION:Museu BB.AA.\, Sant Pius V\, 9\, Valencia\, Valencia\, 46010\, España
CATEGORIES:Música
END:VEVENT
BEGIN:VEVENT
DTSTART;TZID=Europe/Madrid:20260610T180000
DTEND;TZID=Europe/Madrid:20260610T180000
DTSTAMP:20260421T185443
CREATED:20260421T072001Z
LAST-MODIFIED:20260421T072001Z
UID:10034350-1781114400-1781114400@au-agenda.com
SUMMARY:Andreu Valor
DESCRIPTION:Dins de la programació cultural del Museu de Belles Arts de València\, les arts escèniques es proposen com a complement indispensable de la riquíssima col·lecció permanent i de la seua programació d’exposicions per a ajudar al fet que la institució complisca amb la seua labor social d’integrar a tots i totes. Accés lliure fins a completar l’aforament en totes les sessions. \nLes sessions que es realitzaran durant el segon trimestre de 2026 són les següents: \n22 abril 2026\, 18:00 h. · Dansa\nFlamenc\nIrene de la Rosa \n29 abril 2026\, 18:00 h. · Música\nMembra Jesu Nostri\nMúsica Trobada \n6 maig 2026\, 18:00 h. · Dansa clàssica\nLa dansa clàssica habita en el Museu\nAlumnat del Conservatori Professional de Dansa de València \n13 maig 2026\, 18:00 h. · Música\nTemps Moderns\nMúsica Trobada \n20 maig 2026\, 18:00 h. · Dansa espanyola\nHabitar el Museu amb la dansa: tres estils\, una mirada nova\nAlumnat del Conservatori Professional de Dansa de València \n27 maig 2026\, 18:00 h. · Dansa\nFlamenc\nIrene de la Rosa \n3 juny 2026\, 18:00 h. · Música vocal\nEl color del cant i la música de les pintures\nAula Vocal 5 \n6 juny 2026\, 18:00 h. · Música\nAlumnat de Voluta Escola de Música \n10 juny 2026\, 18:00 h. · Música de cantautor\nAndreu Valor \n17 juny 2026\, 18:00 h. · Dansa\nFlamenc\nCristina Reolid
URL:https://au-agenda.com/evento/andreu-valor-2/
LOCATION:Museu BB.AA.\, Sant Pius V\, 9\, Valencia\, Valencia\, 46010\, España
CATEGORIES:Música
END:VEVENT
BEGIN:VEVENT
DTSTART;TZID=Europe/Madrid:20260617T180000
DTEND;TZID=Europe/Madrid:20260617T180000
DTSTAMP:20260421T185443
CREATED:20260421T072034Z
LAST-MODIFIED:20260421T072034Z
UID:10034351-1781719200-1781719200@au-agenda.com
SUMMARY:Cristina Reolid (Flamenc)
DESCRIPTION:Dins de la programació cultural del Museu de Belles Arts de València\, les arts escèniques es proposen com a complement indispensable de la riquíssima col·lecció permanent i de la seua programació d’exposicions per a ajudar al fet que la institució complisca amb la seua labor social d’integrar a tots i totes. Accés lliure fins a completar l’aforament en totes les sessions. \nLes sessions que es realitzaran durant el segon trimestre de 2026 són les següents: \n22 abril 2026\, 18:00 h. · Dansa\nFlamenc\nIrene de la Rosa \n29 abril 2026\, 18:00 h. · Música\nMembra Jesu Nostri\nMúsica Trobada \n6 maig 2026\, 18:00 h. · Dansa clàssica\nLa dansa clàssica habita en el Museu\nAlumnat del Conservatori Professional de Dansa de València \n13 maig 2026\, 18:00 h. · Música\nTemps Moderns\nMúsica Trobada \n20 maig 2026\, 18:00 h. · Dansa espanyola\nHabitar el Museu amb la dansa: tres estils\, una mirada nova\nAlumnat del Conservatori Professional de Dansa de València \n27 maig 2026\, 18:00 h. · Dansa\nFlamenc\nIrene de la Rosa \n3 juny 2026\, 18:00 h. · Música vocal\nEl color del cant i la música de les pintures\nAula Vocal 5 \n6 juny 2026\, 18:00 h. · Música\nAlumnat de Voluta Escola de Música \n10 juny 2026\, 18:00 h. · Música de cantautor\nAndreu Valor \n17 juny 2026\, 18:00 h. · Dansa\nFlamenc\nCristina Reolid
URL:https://au-agenda.com/evento/cristina-reolid-flamenc/
LOCATION:Museu BB.AA.\, Sant Pius V\, 9\, Valencia\, Valencia\, 46010\, España
CATEGORIES:Escena
END:VEVENT
END:VCALENDAR