BEGIN:VCALENDAR
VERSION:2.0
PRODID:-//AU Agenda - ECPv6.9.0//NONSGML v1.0//EN
CALSCALE:GREGORIAN
METHOD:PUBLISH
X-WR-CALNAME:AU Agenda
X-ORIGINAL-URL:https://au-agenda.com
X-WR-CALDESC:Eventos para AU Agenda
REFRESH-INTERVAL;VALUE=DURATION:PT1H
X-Robots-Tag:noindex
X-PUBLISHED-TTL:PT1H
BEGIN:VTIMEZONE
TZID:Europe/Madrid
BEGIN:DAYLIGHT
TZOFFSETFROM:+0100
TZOFFSETTO:+0200
TZNAME:CEST
DTSTART:20250330T010000
END:DAYLIGHT
BEGIN:STANDARD
TZOFFSETFROM:+0200
TZOFFSETTO:+0100
TZNAME:CET
DTSTART:20251026T010000
END:STANDARD
BEGIN:DAYLIGHT
TZOFFSETFROM:+0100
TZOFFSETTO:+0200
TZNAME:CEST
DTSTART:20260329T010000
END:DAYLIGHT
BEGIN:STANDARD
TZOFFSETFROM:+0200
TZOFFSETTO:+0100
TZNAME:CET
DTSTART:20261025T010000
END:STANDARD
END:VTIMEZONE
BEGIN:VEVENT
DTSTART;TZID=Europe/Madrid:20260207T183000
DTEND;TZID=Europe/Madrid:20260207T183000
DTSTAMP:20260421T035824
CREATED:20260124T103408Z
LAST-MODIFIED:20260124T103408Z
UID:10031763-1770489000-1770489000@au-agenda.com
SUMMARY:Martin Sánchez
DESCRIPTION:Martin Sánchez y su banda actuarán en la sala Matisse Club el próximo sábado 7 de febrero (2026) a las 18:30\, presentando su nuevo disco “CORAZONES SALVAJES”
URL:https://au-agenda.com/evento/martin-sanchez/
LOCATION:Matisse Club\, Campoamor\, 60\, València
CATEGORIES:Música
END:VEVENT
BEGIN:VEVENT
DTSTART;TZID=Europe/Madrid:20260206T223000
DTEND;TZID=Europe/Madrid:20260206T223000
DTSTAMP:20260421T035824
CREATED:20260205T085455Z
LAST-MODIFIED:20260205T085455Z
UID:10032156-1770417000-1770417000@au-agenda.com
SUMMARY:Juli Giuliani
DESCRIPTION:Desde Barcelona llega el rapero Juli Giuliani a Valencia para presentar su nuevo album «Volver al principio»\, un trabajo donde el artista se reecuentra con lo más profundo de si mismo retomando sonidos clásicos y mensajes que les servirían a cualquiera en su día a dia. Giuliani demuestra una vez más su versatilidad haciendose cargo de gran parte de la producción musical. \nEl show contará de entrada con el Showcase de For the simbols (rapereos asentados en la escena de murcia) y trece ases(grupo asentado en la escena de valencia) además Juli estará acompañado por los artistas invitados Johnny Doc y Erick hervé.
URL:https://au-agenda.com/evento/juli-giuliani-2/
LOCATION:Matisse Club\, Campoamor\, 60\, València
CATEGORIES:Música
END:VEVENT
BEGIN:VEVENT
DTSTART;TZID=Europe/Madrid:20260206T223000
DTEND;TZID=Europe/Madrid:20260206T223000
DTSTAMP:20260421T035824
CREATED:20260123T163603Z
LAST-MODIFIED:20260123T163603Z
UID:10031711-1770417000-1770417000@au-agenda.com
SUMMARY:Juli Giuliani
DESCRIPTION:Desde Barcelona llega el rapero Juli Giuliani a Valencia para presentar su nuevo album «Volver al principio»\, un trabajo donde el artista se reecuentra con lo más profundo de si mismo retomando sonidos clásicos y mensajes que les servirían a cualquiera en su día a dia. Giuliani demuestra una vez más su versatilidad haciendose cargo de gran parte de la producción musical. \nEl show contará de entrada con el Showcase de For the simbols (rapereos asentados en la escena de murcia) y trece ases(grupo asentado en la escena de valencia) además Juli estará acompañado por los artistas invitados Johnny Doc y Erick hervé.
URL:https://au-agenda.com/evento/juli-giuliani/
LOCATION:Matisse Club\, Campoamor\, 60\, València
CATEGORIES:Música
END:VEVENT
BEGIN:VEVENT
DTSTART;TZID=Europe/Madrid:20260201T213000
DTEND;TZID=Europe/Madrid:20260201T213000
DTSTAMP:20260421T035824
CREATED:20260123T163250Z
LAST-MODIFIED:20260123T163250Z
UID:10031707-1769981400-1769981400@au-agenda.com
SUMMARY:The Flying Combo by Sedajazz (Jam Session)
DESCRIPTION:¿Listo para despegar? Cada domingo por la noche\, The Flying Combo by Sedajazz convierte el escenario en una pista de aterrizaje para la improvisación. Un lugar donde el jazz vibra sin filtros\, los músicos se encuentran sin guion y el público se deja llevar por la magia del momento. Ven a escuchar\, a tocar o simplemente a dejarte envolver por esa energía que solo una jam session auténtica puede crear. La entrada es libre\, el ambiente es de alta inspiración… y el vuelo despega a las 21:30.
URL:https://au-agenda.com/evento/the-flying-combo-by-sedajazz-jam-session/
LOCATION:Matisse Club\, Campoamor\, 60\, València
CATEGORIES:Música
END:VEVENT
BEGIN:VEVENT
DTSTART;TZID=Europe/Madrid:20260118T183000
DTEND;TZID=Europe/Madrid:20260118T183000
DTSTAMP:20260421T035824
CREATED:20260112T162942Z
LAST-MODIFIED:20260112T162942Z
UID:10031093-1768761000-1768761000@au-agenda.com
SUMMARY:Jazz por Palestina
DESCRIPTION:
URL:https://au-agenda.com/evento/jazz-por-palestina/
LOCATION:Matisse Club\, Campoamor\, 60\, València
CATEGORIES:Música
END:VEVENT
BEGIN:VEVENT
DTSTART;TZID=Europe/Madrid:20251226T233000
DTEND;TZID=Europe/Madrid:20251226T233000
DTSTAMP:20260421T035824
CREATED:20251217T073627Z
LAST-MODIFIED:20251217T073627Z
UID:10029593-1766791800-1766791800@au-agenda.com
SUMMARY:Los Vecinos del 78
DESCRIPTION:Los Vecinos del 78 vuelven a Matisse Club el viernes 26 de Diciembre para cerrar el año por todo lo alto. Pop en Español\, repasando la banda sonora de los que hicimos la EGB\, con un repertorio siempre cambiante\, con sorpresas y colaboraciones. Un plan perfecto para disfrutar con amigos\, dejarse la voz y brindar por el nuevo año.
URL:https://au-agenda.com/evento/los-vecinos-del-78/
LOCATION:Matisse Club\, Campoamor\, 60\, València
CATEGORIES:Música
ATTACH;FMTTYPE=image/jpeg:https://au-agenda.com/wp-content/uploads/2025/12/3DF4735D-E4AE-4DEC-9B7C-806C7B176FB0-1.jpeg
ORGANIZER;CN="Matisse club":MAILTO:Info@matisseclub.com
END:VEVENT
BEGIN:VEVENT
DTSTART;TZID=Europe/Madrid:20251219T190000
DTEND;TZID=Europe/Madrid:20251219T190000
DTSTAMP:20260421T035824
CREATED:20251209T083254Z
LAST-MODIFIED:20251209T083254Z
UID:10028374-1766170800-1766170800@au-agenda.com
SUMMARY:N-Wise Allah + Johnny Doc
DESCRIPTION:N-Wise Allah llega a Valencia el 19 de diciembre junto a Johnny Doc. N-Wise Allah de MDE CLICK vuelve a los escenarios con su gira Teléfono Kosher Tour\, su último proyecto junto a Sabio Beats. Sin duda\, una de las voces más respetadas de la escena rap de habla hispana presenta su nuevo álbum en Barcelona. No te lo pierdas!
URL:https://au-agenda.com/evento/n-wise-allah-johnny-doc/
LOCATION:Matisse Club\, Campoamor\, 60\, València
CATEGORIES:Música
END:VEVENT
END:VCALENDAR