BEGIN:VCALENDAR
VERSION:2.0
PRODID:-//AU Agenda - ECPv6.9.0//NONSGML v1.0//EN
CALSCALE:GREGORIAN
METHOD:PUBLISH
X-WR-CALNAME:AU Agenda
X-ORIGINAL-URL:https://au-agenda.com
X-WR-CALDESC:Eventos para AU Agenda
REFRESH-INTERVAL;VALUE=DURATION:PT1H
X-Robots-Tag:noindex
X-PUBLISHED-TTL:PT1H
BEGIN:VTIMEZONE
TZID:Europe/Madrid
BEGIN:DAYLIGHT
TZOFFSETFROM:+0100
TZOFFSETTO:+0200
TZNAME:CEST
DTSTART:20250330T010000
END:DAYLIGHT
BEGIN:STANDARD
TZOFFSETFROM:+0200
TZOFFSETTO:+0100
TZNAME:CET
DTSTART:20251026T010000
END:STANDARD
BEGIN:DAYLIGHT
TZOFFSETFROM:+0100
TZOFFSETTO:+0200
TZNAME:CEST
DTSTART:20260329T010000
END:DAYLIGHT
BEGIN:STANDARD
TZOFFSETFROM:+0200
TZOFFSETTO:+0100
TZNAME:CET
DTSTART:20261025T010000
END:STANDARD
END:VTIMEZONE
BEGIN:VEVENT
DTSTART;TZID=Europe/Madrid:20260423T180000
DTEND;TZID=Europe/Madrid:20260423T180000
DTSTAMP:20260424T095812
CREATED:20260420T071635Z
LAST-MODIFIED:20260420T071635Z
UID:10034322-1776967200-1776967200@au-agenda.com
SUMMARY:Bienal de Cerámica de Manises: PechaKucha Night
DESCRIPTION:La programación se inaugura el próximo 23 de abril en la Escola d’Art i Superior de Disseny de València con una sesión de PechaKucha Night\, a las 18h\, que incluirá la mesa redonda “Patrimonio gráfico cerámico”\, con la participación de los diseñadores Juan Nava y Juan Salvador y el restaurador Duccio Sanesi. El encuentro se completará con la presentación de ocho proyectos cerámicos en formato PechaKucha: Ximo Roca (diseñador)\, Eugenia Boscá (ceramista)\, Xavier Monsalvatje (ceramista)\, Xavier Claur (ceramista)\, Carla Alcalá (UPV)\, Fina Alarcón (artesanía\, diseño y producción sostenible EASD/EASC)\, Cristina Fabuel (ITC)\, Ana Illueca (Proyecto Chulucanas\, Perú) y Cristina Egido (Lladró).
URL:https://au-agenda.com/evento/bienal-de-ceramica-de-manises-pechakucha-night/
LOCATION:EASD\, Pintor Domingo\, 20\, Valencia\, Valencia\, 46001\, España
CATEGORIES:Confèrencia-Debat
END:VEVENT
BEGIN:VEVENT
DTSTART;TZID=Europe/Madrid:20260212T093000
DTEND;TZID=Europe/Madrid:20260212T093000
DTSTAMP:20260424T095812
CREATED:20260125T125558Z
LAST-MODIFIED:20260125T125558Z
UID:10031890-1770888600-1770888600@au-agenda.com
SUMMARY:Diàlegs 2026
DESCRIPTION:Els pròxims dies 11 i 12 de febrer de 2026\, celebrarem la 23a edició de Diàlegs\, les trobades internacionals de disseny de la EASD\, que inclouran ponències\, exposicions i activitats acadèmiques de caràcter interdisciplinari\, organitzades entorn del disseny i el seu context sociocultural. En aquesta edició\, que se celebrarà en el marc del 175 aniversari de l’Escola\, i sota l’eix temàtic Una mirada introspectiva\, es posarà el focus principalment en l’activitat creadora del nostre alumnat. A més\, com a novetat se celebrarà la primera edició de DiálogosFEST\, una fira interdisciplinària i oberta al públic on es presentarà una selecció dels millors treballs de l’alumnat de totes les especialitats.
URL:https://au-agenda.com/evento/dialegs-2026-2/
LOCATION:EASD\, Pintor Domingo\, 20\, Valencia\, Valencia\, 46001\, España
CATEGORIES:Confèrencia-Debat
ATTACH;FMTTYPE=image/jpeg:https://au-agenda.com/wp-content/uploads/2026/01/Cartel_Ponentes_CAST_print_CMYK.jpg
END:VEVENT
BEGIN:VEVENT
DTSTART;TZID=Europe/Madrid:20260211T093000
DTEND;TZID=Europe/Madrid:20260211T093000
DTSTAMP:20260424T095812
CREATED:20260125T125521Z
LAST-MODIFIED:20260125T125521Z
UID:10031889-1770802200-1770802200@au-agenda.com
SUMMARY:Diàlegs 2026
DESCRIPTION:Els pròxims dies 11 i 12 de febrer de 2026\, celebrarem la 23a edició de Diàlegs\, les trobades internacionals de disseny de la EASD\, que inclouran ponències\, exposicions i activitats acadèmiques de caràcter interdisciplinari\, organitzades entorn del disseny i el seu context sociocultural. En aquesta edició\, que se celebrarà en el marc del 175 aniversari de l’Escola\, i sota l’eix temàtic Una mirada introspectiva\, es posarà el focus principalment en l’activitat creadora del nostre alumnat. A més\, com a novetat se celebrarà la primera edició de DiálogosFEST\, una fira interdisciplinària i oberta al públic on es presentarà una selecció dels millors treballs de l’alumnat de totes les especialitats.
URL:https://au-agenda.com/evento/dialegs-2026/
LOCATION:EASD\, Pintor Domingo\, 20\, Valencia\, Valencia\, 46001\, España
CATEGORIES:Confèrencia-Debat
ATTACH;FMTTYPE=image/jpeg:https://au-agenda.com/wp-content/uploads/2026/01/Cartel_Ponentes_CAST_print_CMYK.jpg
END:VEVENT
BEGIN:VEVENT
DTSTART;TZID=Europe/Madrid:20251214T110000
DTEND;TZID=Europe/Madrid:20251214T110000
DTSTAMP:20260424T095812
CREATED:20251123T100641Z
LAST-MODIFIED:20251123T100641Z
UID:10028833-1765710000-1765710000@au-agenda.com
SUMMARY:II Bim Bang Books
DESCRIPTION:Encuentro y feria de Ediciones Independientes\, Producción gráfica y pequeña edición. Vamos a por la segunda edición de BIM BANG BOOKS que nació con el propósito de celebrar y dar visibilidad a esos «otros libros»: ediciones independientes\, principalmente libros y fanzines ilustrados\, ediciones artísticas\, así como producción gráfica en papel\, que rara vez están presentes en los circuitos tradicionales de librerías y bibliotecas. Este evento visibiliza proyectos editoriales innovadores de ámbito nacional e internacional. Este año los artistas invitados son Laura Simonati\, venida de Bélgica\, ilustradora y grafísta laureada en certámentes tan prestigiosos como la Feria del Libro de Bolonia. Y el diseñador e ilustrador inglés\, Paul Farrell\, que ha trabajado para numerosas editoriales y marcas como Apple\, Harper Collins\, Hayward Gallery London\,… \nDentro de las actividades programadas está la Jornada Profesional\, que será el viernes 12 de diciembre\, durante toda la mañana en la EASD (Escuela Superior de Arte y Diseño de Valencia)\, con dos conferencias de los dos artistas invitados\, al finalizar se inaugurará una Exposición de libros y material gráfico de los autores invitados y otros proyectos. El domingo dia 14 habrá un taller dirigido al público infantil a cargo de Paul Farrell. \nEn el hall de la Escuela de Diseño será donde se celebrará la Feria de Editoriales\, con un total de 30 proyectos venidos de diferentes puntos y que pretende ser una muestra de la riqueza y variedad de proyectos editoriales nada convencionales. \nLa iniciativa está organizada por Trampolin y Milimbo con el apoyo de la EASD (Escuela Superior de Arte y Diseño de Valencia). BIM BANG BOOKS\, cuenta con una Feria de Editoriales\, una Exposición de libros y material gráfico\, además de charlas y talleres\, todo concentrado en la sede de la EASD. \nARTISTAS INVITADOS: Laura Simonati (BE) y Paul Farrell (UK). \nPARTICIPANTES: Ediciones Menguantes· Media Vaca · Fulgencio Pimentel · Paul Farrell · Laura Simonati · Simone Virgini + Raquel · Savanna books · Litera libros · A buen paso · Yekibud editores · Ballet boutique · Comrayo + Silvia Millán · Colla paper· La riso guapa · La Granja editorial · Ediciones Modernas el Embudo · El Nadir · Ediciones Tralarí · Nice Guy Press · Master Publicaciones EASD · Nuppita Pittman · Elmonstruodecoloresnotieneboca · Librería Bartleby · Trampolín · Milimbo · y otras máa… \nProgramación:\nVIERNES 12\n10’30 – 11’30h Laura Simonati\n11’45 – 12’45 Paul Farrell\n13’00 . Inauguración EXPOSICIÓN\n17’00 – 21’00 FERIA EDITORIALES \nSABADO 13\n11’00h – 14’00h FERIA EDITORIALES\n16’00 – 21’00h FERIA EDITORIALES \nDOMNGO 14\n11’00h – 14’00h FERIA EDITORIALES\n11’30-12’30 Taller infantil con PAUL FARRELL
URL:https://au-agenda.com/evento/ii-bim-bang-books-3/
LOCATION:EASD\, Pintor Domingo\, 20\, Valencia\, Valencia\, 46001\, España
CATEGORIES:Altres
END:VEVENT
BEGIN:VEVENT
DTSTART;TZID=Europe/Madrid:20251213T110000
DTEND;TZID=Europe/Madrid:20251213T110000
DTSTAMP:20260424T095812
CREATED:20251123T100600Z
LAST-MODIFIED:20251123T100600Z
UID:10028832-1765623600-1765623600@au-agenda.com
SUMMARY:II Bim Bang Books
DESCRIPTION:Encuentro y feria de Ediciones Independientes\, Producción gráfica y pequeña edición. Vamos a por la segunda edición de BIM BANG BOOKS que nació con el propósito de celebrar y dar visibilidad a esos «otros libros»: ediciones independientes\, principalmente libros y fanzines ilustrados\, ediciones artísticas\, así como producción gráfica en papel\, que rara vez están presentes en los circuitos tradicionales de librerías y bibliotecas. Este evento visibiliza proyectos editoriales innovadores de ámbito nacional e internacional. Este año los artistas invitados son Laura Simonati\, venida de Bélgica\, ilustradora y grafísta laureada en certámentes tan prestigiosos como la Feria del Libro de Bolonia. Y el diseñador e ilustrador inglés\, Paul Farrell\, que ha trabajado para numerosas editoriales y marcas como Apple\, Harper Collins\, Hayward Gallery London\,… \nDentro de las actividades programadas está la Jornada Profesional\, que será el viernes 12 de diciembre\, durante toda la mañana en la EASD (Escuela Superior de Arte y Diseño de Valencia)\, con dos conferencias de los dos artistas invitados\, al finalizar se inaugurará una Exposición de libros y material gráfico de los autores invitados y otros proyectos. El domingo dia 14 habrá un taller dirigido al público infantil a cargo de Paul Farrell. \nEn el hall de la Escuela de Diseño será donde se celebrará la Feria de Editoriales\, con un total de 30 proyectos venidos de diferentes puntos y que pretende ser una muestra de la riqueza y variedad de proyectos editoriales nada convencionales. \nLa iniciativa está organizada por Trampolin y Milimbo con el apoyo de la EASD (Escuela Superior de Arte y Diseño de Valencia). BIM BANG BOOKS\, cuenta con una Feria de Editoriales\, una Exposición de libros y material gráfico\, además de charlas y talleres\, todo concentrado en la sede de la EASD. \nARTISTAS INVITADOS: Laura Simonati (BE) y Paul Farrell (UK). \nPARTICIPANTES: Ediciones Menguantes· Media Vaca · Fulgencio Pimentel · Paul Farrell · Laura Simonati · Simone Virgini + Raquel · Savanna books · Litera libros · A buen paso · Yekibud editores · Ballet boutique · Comrayo + Silvia Millán · Colla paper· La riso guapa · La Granja editorial · Ediciones Modernas el Embudo · El Nadir · Ediciones Tralarí · Nice Guy Press · Master Publicaciones EASD · Nuppita Pittman · Elmonstruodecoloresnotieneboca · Librería Bartleby · Trampolín · Milimbo · y otras máa… \nProgramación:\nVIERNES 12\n10’30 – 11’30h Laura Simonati\n11’45 – 12’45 Paul Farrell\n13’00 . Inauguración EXPOSICIÓN\n17’00 – 21’00 FERIA EDITORIALES \nSABADO 13\n11’00h – 14’00h FERIA EDITORIALES\n16’00 – 21’00h FERIA EDITORIALES \nDOMNGO 14\n11’00h – 14’00h FERIA EDITORIALES\n11’30-12’30 Taller infantil con PAUL FARRELL
URL:https://au-agenda.com/evento/ii-bim-bang-books-2/
LOCATION:EASD\, Pintor Domingo\, 20\, Valencia\, Valencia\, 46001\, España
CATEGORIES:Altres
END:VEVENT
BEGIN:VEVENT
DTSTART;TZID=Europe/Madrid:20251212T103000
DTEND;TZID=Europe/Madrid:20251212T103000
DTSTAMP:20260424T095812
CREATED:20251123T100506Z
LAST-MODIFIED:20251123T100506Z
UID:10028831-1765535400-1765535400@au-agenda.com
SUMMARY:II Bim Bang Books
DESCRIPTION:Encuentro y feria de Ediciones Independientes\, Producción gráfica y pequeña edición. Vamos a por la segunda edición de BIM BANG BOOKS que nació con el propósito de celebrar y dar visibilidad a esos «otros libros»: ediciones independientes\, principalmente libros y fanzines ilustrados\, ediciones artísticas\, así como producción gráfica en papel\, que rara vez están presentes en los circuitos tradicionales de librerías y bibliotecas. Este evento visibiliza proyectos editoriales innovadores de ámbito nacional e internacional. Este año los artistas invitados son Laura Simonati\, venida de Bélgica\, ilustradora y grafísta laureada en certámentes tan prestigiosos como la Feria del Libro de Bolonia. Y el diseñador e ilustrador inglés\, Paul Farrell\, que ha trabajado para numerosas editoriales y marcas como Apple\, Harper Collins\, Hayward Gallery London\,… \nDentro de las actividades programadas está la Jornada Profesional\, que será el viernes 12 de diciembre\, durante toda la mañana en la EASD (Escuela Superior de Arte y Diseño de Valencia)\, con dos conferencias de los dos artistas invitados\, al finalizar se inaugurará una Exposición de libros y material gráfico de los autores invitados y otros proyectos. El domingo dia 14 habrá un taller dirigido al público infantil a cargo de Paul Farrell. \nEn el hall de la Escuela de Diseño será donde se celebrará la Feria de Editoriales\, con un total de 30 proyectos venidos de diferentes puntos y que pretende ser una muestra de la riqueza y variedad de proyectos editoriales nada convencionales. \nLa iniciativa está organizada por Trampolin y Milimbo con el apoyo de la EASD (Escuela Superior de Arte y Diseño de Valencia). BIM BANG BOOKS\, cuenta con una Feria de Editoriales\, una Exposición de libros y material gráfico\, además de charlas y talleres\, todo concentrado en la sede de la EASD. \nARTISTAS INVITADOS: Laura Simonati (BE) y Paul Farrell (UK). \nPARTICIPANTES: Ediciones Menguantes· Media Vaca · Fulgencio Pimentel · Paul Farrell · Laura Simonati · Simone Virgini + Raquel · Savanna books · Litera libros · A buen paso · Yekibud editores · Ballet boutique · Comrayo + Silvia Millán · Colla paper· La riso guapa · La Granja editorial · Ediciones Modernas el Embudo · El Nadir · Ediciones Tralarí · Nice Guy Press · Master Publicaciones EASD · Nuppita Pittman · Elmonstruodecoloresnotieneboca · Librería Bartleby · Trampolín · Milimbo · y otras máa… \nProgramación:\nVIERNES 12\n10’30 – 11’30h Laura Simonati\n11’45 – 12’45 Paul Farrell\n13’00 . Inauguración EXPOSICIÓN\n17’00 – 21’00 FERIA EDITORIALES \nSABADO 13\n11’00h – 14’00h FERIA EDITORIALES\n16’00 – 21’00h FERIA EDITORIALES \nDOMNGO 14\n11’00h – 14’00h FERIA EDITORIALES\n11’30-12’30 Taller infantil con PAUL FARRELL
URL:https://au-agenda.com/evento/ii-bim-bang-books/
LOCATION:EASD\, Pintor Domingo\, 20\, Valencia\, Valencia\, 46001\, España
CATEGORIES:Altres
END:VEVENT
END:VCALENDAR