BEGIN:VCALENDAR
VERSION:2.0
PRODID:-//AU Agenda - ECPv6.9.0//NONSGML v1.0//EN
CALSCALE:GREGORIAN
METHOD:PUBLISH
X-WR-CALNAME:AU Agenda
X-ORIGINAL-URL:https://au-agenda.com
X-WR-CALDESC:Eventos para AU Agenda
REFRESH-INTERVAL;VALUE=DURATION:PT1H
X-Robots-Tag:noindex
X-PUBLISHED-TTL:PT1H
BEGIN:VTIMEZONE
TZID:Europe/Madrid
BEGIN:DAYLIGHT
TZOFFSETFROM:+0100
TZOFFSETTO:+0200
TZNAME:CEST
DTSTART:20260329T010000
END:DAYLIGHT
BEGIN:STANDARD
TZOFFSETFROM:+0200
TZOFFSETTO:+0100
TZNAME:CET
DTSTART:20261025T010000
END:STANDARD
END:VTIMEZONE
BEGIN:VEVENT
DTSTART;TZID=Europe/Madrid:20260424T180000
DTEND;TZID=Europe/Madrid:20260424T180000
DTSTAMP:20260424T172844
CREATED:20260325T120806Z
LAST-MODIFIED:20260325T120806Z
UID:312152-1777053600-1777053600@au-agenda.com
SUMMARY:XXIV Mostra del Llibre Anarquista
DESCRIPTION:18:00h. Técnica y tecnología. Cómo conversar con un tecnófilo. A càrrec del seu autor\, Adrián Almazán.\nComo escribe Jorge Riechmann en el prólogo del volumen\, “este libro nos permite comprender\, de manera original y profunda\, los vínculos que unen tecnología\, progreso\, modernidad y capitalismo. Pistas que tienen la pretensión de convertirse en fogonazos de un cambio social más urgente que nunca”.\nEl progreso\, la naturaleza\, el tecno-optimismo…\, fantasmas que en este libro se consideran tecnolófilos\, por su adoración ciega e insensata no de la técnica (un atributo social general e irrenunciable de toda sociedad humana)\, sino de la tecnología\, una creación de la modernidad y el capitalismo. Insensata especialmente en tiempos como los nuestros\, tiempos de colapso ecosocial. Un colapso cada vez más acelerado por nuestra irracional confianza en la omnipotencia de la tecnología\, que nos promete ser capaz de hacer frente a toda la problemática cuando\, en realidad\, nos hunde más profundamente en la crisis que el mundo industrial ha puesto en marcha.
URL:https://au-agenda.com/evento/xxiv-mostra-del-llibre-anarquista-4/
LOCATION:La mandragora\, Mare Vella\, 15\, Valencia\, Valencia\, 46003\, España
CATEGORIES:Confèrencia-Debat
ATTACH;FMTTYPE=image/webp:https://au-agenda.com/wp-content/uploads/2026/03/cartel-general.webp
END:VEVENT
END:VCALENDAR