BEGIN:VCALENDAR
VERSION:2.0
PRODID:-//AU Agenda - ECPv6.9.0//NONSGML v1.0//EN
CALSCALE:GREGORIAN
METHOD:PUBLISH
X-WR-CALNAME:AU Agenda
X-ORIGINAL-URL:https://au-agenda.com
X-WR-CALDESC:Eventos para AU Agenda
REFRESH-INTERVAL;VALUE=DURATION:PT1H
X-Robots-Tag:noindex
X-PUBLISHED-TTL:PT1H
BEGIN:VTIMEZONE
TZID:Europe/Madrid
BEGIN:DAYLIGHT
TZOFFSETFROM:+0100
TZOFFSETTO:+0200
TZNAME:CEST
DTSTART:20260329T010000
END:DAYLIGHT
BEGIN:STANDARD
TZOFFSETFROM:+0200
TZOFFSETTO:+0100
TZNAME:CET
DTSTART:20261025T010000
END:STANDARD
END:VTIMEZONE
BEGIN:VEVENT
DTSTART;TZID=Europe/Madrid:20260521T190000
DTEND;TZID=Europe/Madrid:20260521T190000
DTSTAMP:20260425T201912
CREATED:20260425T113414Z
LAST-MODIFIED:20260425T113414Z
UID:316105-1779390000-1779390000@au-agenda.com
SUMMARY:XV 10 sentidos: Aurora Diago. Gymkhana
DESCRIPTION:¿Es posible redescubrir el patrimonio a través del juego y la sospecha? La artista y mediadora Aurora Diago propone una Gymkhana performática en el Centre del Carme. Una invitación a habitar el museo no como un archivo estático\, sino como un territorio de exploración donde la acción del público es la pieza clave del engranaje. Gymkhana es un dispositivo de mediación que rompe la jerarquía entre artista y espectador. A través de pruebas\, enigmas y movimientos colectivos\, los participantes irán tejiendo una red de significados sobre la resiliencia urbana y la importancia de proteger nuestros espacios de pensamiento común. En el Festival 10 Sentidos\, entendemos el juego como una de las herramientas más potentes para la transformación social. Esta actividad es un ejercicio de ecología del pensamiento\, donde el rastro de una pista nos lleva directamente a la responsabilidad que tenemos con el mundo que habitamos.
URL:https://au-agenda.com/evento/xv-10-sentidos-aurora-diago-gymkhana/
LOCATION:Centre del Carme\, Museu\, 2\, Valencia\, Valencia\, 46001\, España
CATEGORIES:Altres
ATTACH;FMTTYPE=image/jpeg:https://au-agenda.com/wp-content/uploads/2026/04/Captura-de-Pantalla-2026-04-25-a-las-13.22.49.jpg
END:VEVENT
END:VCALENDAR