BEGIN:VCALENDAR
VERSION:2.0
PRODID:-//AU Schedule - ECPv6.9.0//NONSGML v1.0//EN
CALSCALE:GREGORIAN
METHOD:PUBLISH
X-WR-CALNAME:AU Agenda
X-ORIGINAL-URL:https://au-agenda.com
X-WR-CALDESC:Events for AU Schedule
REFRESH-INTERVAL;VALUE=DURATION:PT1H
X-Robots-Tag:noindex
X-PUBLISHED-TTL:PT1H
BEGIN:VTIMEZONE
TZID:Europe/Madrid
BEGIN:DAYLIGHT
TZOFFSETFROM:+0100
TZOFFSETTO:+0200
TZNAME:CEST
DTSTART:20260329T010000
END:DAYLIGHT
BEGIN:STANDARD
TZOFFSETFROM:+0200
TZOFFSETTO:+0100
TZNAME:CET
DTSTART:20261025T010000
END:STANDARD
END:VTIMEZONE
BEGIN:VEVENT
DTSTART;TZID=Europe/Madrid:20260522T200000
DTEND;TZID=Europe/Madrid:20260522T200000
DTSTAMP:20260426T010906
CREATED:20260425T113702Z
LAST-MODIFIED:20260425T113702Z
UID:316117-1779480000-1779480000@au-agenda.com
SUMMARY:XV 10 senses: Arantxa Cortés. Amor de madre
DESCRIPTION:¿Es un acto de amor o de crueldad traer una vida a un mundo que se consume? En esta ambiciosa revisión del clásico de Eurípides\, Medea se desprende de su etiqueta de tirana para encarnar la ecoansiedad y el miedo al mañana. Sola en escena\, enfrentada a sus propios debates internos\, esta Medea no busca venganza\, sino una respuesta ante un horizonte devastado. \nEn esta versión de Arantxa Cortés\, el mito se funde con la realidad climática. Medea ya no huye de la Cólquide\, sino del fuego: es una refugiada climática expulsada de su hogar por los incendios que asolan el planeta. El histórico «vellocino de oro» se reinterpreta aquí como el oscuro objeto de deseo de nuestra era: la explotación feroz de los recursos naturales y las guerras extractivistas que desangran los territorios. \nMedea se convierte en una pieza-testimonio\, un espejo de las migraciones internas que ya sufre nuestro país y una pregunta lanzada al aire de estos quince años de festival: ¿Quién caminará detrás de nosotros? Es una oda a la responsabilidad intergeneracional y un cuestionamiento radical sobre la esperanza en un entorno que se vuelve\, por momentos\, inhabitable.
URL:https://au-agenda.com/evento/xv-10-sentidos-arantxa-cortes-amor-de-madre/
LOCATION:Centre del Carme\, Museu\, 2\, Valencia\, Valencia\, 46001\, España
CATEGORIES:Escena
ATTACH;FMTTYPE=image/jpeg:https://au-agenda.com/wp-content/uploads/2026/04/Captura-de-Pantalla-2026-04-25-a-las-13.22.49.jpg
END:VEVENT
END:VCALENDAR