BEGIN:VCALENDAR
VERSION:2.0
PRODID:-//AU Agenda - ECPv6.9.0//NONSGML v1.0//EN
CALSCALE:GREGORIAN
METHOD:PUBLISH
X-WR-CALNAME:AU Agenda
X-ORIGINAL-URL:https://au-agenda.com
X-WR-CALDESC:Eventos para AU Agenda
REFRESH-INTERVAL;VALUE=DURATION:PT1H
X-Robots-Tag:noindex
X-PUBLISHED-TTL:PT1H
BEGIN:VTIMEZONE
TZID:Europe/Madrid
BEGIN:DAYLIGHT
TZOFFSETFROM:+0100
TZOFFSETTO:+0200
TZNAME:CEST
DTSTART:20260329T010000
END:DAYLIGHT
BEGIN:STANDARD
TZOFFSETFROM:+0200
TZOFFSETTO:+0100
TZNAME:CET
DTSTART:20261025T010000
END:STANDARD
END:VTIMEZONE
BEGIN:VEVENT
DTSTART;TZID=Europe/Madrid:20260421T190000
DTEND;TZID=Europe/Madrid:20260421T190000
DTSTAMP:20260424T230858
CREATED:20260417T064944Z
LAST-MODIFIED:20260417T064944Z
UID:314158-1776798000-1776798000@au-agenda.com
SUMMARY:Xoel López presenta “Oniria Popular”
DESCRIPTION:El martes 21 de abril a las 19:00\, el Fórum Fnac València acoge la presentación del nuevo disco de Xoel López\, Oniria Popular\, en un encuentro especial que permitirá descubrir de cerca uno de los trabajos más personales y singulares del músico coruñés. Se trata del decimoséptimo álbum de estudio de una de las voces más influyentes del pop español de las últimas dos décadas\, un artista que ha sabido reinventarse sin perder identidad y que\, en esta ocasión\, firma un disco íntimo y colectivo a la vez\, donde conviven el relato interior\, la memoria compartida y un nuevo horizonte sonoro.\n\nUn disco nacido del inconsciente\nOniria Popular es un título cargado de significado. Oniria\, un neologismo que remite al mundo de los sueños y al inconsciente; Popular\, la constatación de que\, salvo cuando soñamos\, todos compartimos un mismo suelo común. La suma apunta al inconsciente colectivo que describió Carl Jung: un océano compartido y fragmentado en islas íntimas. Este disco es una de ellas. A lo largo de casi cuarenta minutos\, Xoel invita al oyente a un viaje hacia su centro creativo\, allí donde las raíces están tan profundamente atornilladas que ya no hace falta regarlas: las canciones siempre han estado ahí. El resultado es un álbum transparente\, honesto y emocional\, donde por primera vez en muchos años el artista se muestra también a cara descubierta en la portada\, cerrando un círculo iniciado en su etapa como Deluxe.\n\nPop que sueña con los pies en la tierra\nMusicalmente\, Oniria Popular despliega un pop luminoso y reflexivo\, que dialoga con lo tradicional y lo folclórico sin abandonar nunca la contemporaneidad. Las canciones vuelan\, pero mantienen el contacto con el suelo. Hay melodías que nacen del ensueño y letras que se preguntan por el lugar del individuo en un mundo acelerado\, ruidoso y en constante transformación. El propio Xoel ha definido el álbum como “un disco que brota de golpe\, no buscado\, que aparece sin perseguirlo\, como el buen amor”. Una frase que resume bien el espíritu del trabajo. Mezclado por David Greenbaum en Los Ángeles\, el disco presenta un sonido nuevo y distintivo dentro de su trayectoria\, sin renunciar a la sensibilidad que ha definido siempre su obra.
URL:https://au-agenda.com/evento/xoel-lopez-presenta-oniria-popular/
LOCATION:Fnac\, Valencia\, Valencia\, España
CATEGORIES:Presentació llibre/disc
END:VEVENT
END:VCALENDAR