BEGIN:VCALENDAR
VERSION:2.0
PRODID:-//AU Schedule - ECPv6.9.0//NONSGML v1.0//EN
CALSCALE:GREGORIAN
METHOD:PUBLISH
X-WR-CALNAME:AU Agenda
X-ORIGINAL-URL:https://au-agenda.com
X-WR-CALDESC:Events for AU Schedule
REFRESH-INTERVAL;VALUE=DURATION:PT1H
X-Robots-Tag:noindex
X-PUBLISHED-TTL:PT1H
BEGIN:VTIMEZONE
TZID:Europe/Madrid
BEGIN:DAYLIGHT
TZOFFSETFROM:+0100
TZOFFSETTO:+0200
TZNAME:CEST
DTSTART:20260329T010000
END:DAYLIGHT
BEGIN:STANDARD
TZOFFSETFROM:+0200
TZOFFSETTO:+0100
TZNAME:CET
DTSTART:20261025T010000
END:STANDARD
END:VTIMEZONE
BEGIN:VEVENT
DTSTART;TZID=Europe/Madrid:20260320T200000
DTEND;TZID=Europe/Madrid:20260320T200000
DTSTAMP:20260426T043209
CREATED:20260220T085205Z
LAST-MODIFIED:20260220T085205Z
UID:308369-1774036800-1774036800@au-agenda.com
SUMMARY:Woman on black
DESCRIPTION:Year 2073. Las WOT comienzan a darse cuenta de que la gente no recuerda a cantantes como Aretha Franklin\, Tina Turner\, Whitney Houston… After investigating they confirm what happened: many black singers and with them their great masterpieces have disappeared from history. It's like they never existed. The futuristic WOTs decide to take matters into their own hands by asking the WOTs of the past for help. 50. Éstas serán las encargadas de llevar a cabo la misión de recuperar esas canciones a través de una aventura temporal que las llevará a viajar adelante en el tiempo viviendo todo tipo de situaciones alocadas y divertidas\, always accompanied by the best music. \nDesde Nina Simone o Aretha Franklin hasta Rihanna o Beyoncé\, pasando por otras famosísimas y exitosas como Gloria Gaynor\, Donna Summer\, Tina Turner\, Whitney Houston o Boney M.\, in a tribute to the brilliant contribution of these women to the world of music. Atrévete a viajar al futuro… desde el pasado!
URL:https://au-agenda.com/evento/woman-on-black-2/
LOCATION:Artea\, Olimpia Arozena Torres\, 45\, Valencia\, Valencia\, 46018\, España
CATEGORIES:Música
END:VEVENT
END:VCALENDAR