BEGIN:VCALENDAR
VERSION:2.0
PRODID:-//AU Schedule - ECPv6.9.0//NONSGML v1.0//EN
CALSCALE:GREGORIAN
METHOD:PUBLISH
X-WR-CALNAME:AU Agenda
X-ORIGINAL-URL:https://au-agenda.com
X-WR-CALDESC:Events for AU Schedule
REFRESH-INTERVAL;VALUE=DURATION:PT1H
X-Robots-Tag:noindex
X-PUBLISHED-TTL:PT1H
BEGIN:VTIMEZONE
TZID:Europe/Madrid
BEGIN:DAYLIGHT
TZOFFSETFROM:+0100
TZOFFSETTO:+0200
TZNAME:CEST
DTSTART:20260329T010000
END:DAYLIGHT
BEGIN:STANDARD
TZOFFSETFROM:+0200
TZOFFSETTO:+0100
TZNAME:CET
DTSTART:20261025T010000
END:STANDARD
END:VTIMEZONE
BEGIN:VEVENT
DTSTART;TZID=Europe/Madrid:20260425T120000
DTEND;TZID=Europe/Madrid:20260425T120000
DTSTAMP:20260425T134531
CREATED:20260424T105253Z
LAST-MODIFIED:20260424T105253Z
UID:315288-1777118400-1777118400@au-agenda.com
SUMMARY:Commented visit: Los mundos de Alicia
DESCRIPTION:Lewis Carroll's Alice in Wonderland is a cultural phenomenon. First published in 1865\, has never been out of circulation and has been translated into more than 170 languages. Su lenguaje e imágenes se han convertido en parte de nuestra imaginación colectiva\, y su historia continúa inspirando la moda\, el cine\, las artes visuales\, el diseño\, la fotografía\, theater and music. En esta visita comentada descubriremos el impacto y la influencia de este libro y nos interrogaremos sobre su atractivo tan duradero y universal\, whose content has been and continues to be a source of inspiration for many creations from different artistic disciplines.. Ahondaremos en la relación entre literatura y artes plásticas y exploraremos cómo el texto original ha sido reimaginado por cada generación y cómo continúa permeando la cultura\, politics and society. \n\nHorarios \nEn castellano:\nJueves\, at 18 h\nDomingos\, at 12 h\n*Días 9 y 12 de octubre\, at 18 hEn valenciano:\nSábados\, at 12 h\n*Días 9 y 12 de octubre\, at 12 h
URL:https://au-agenda.com/evento/visita-comentada-los-mundos-de-alicia/
LOCATION:CaixaForum\, Professor López Piñero\, 7\, Valencia\, Valencia\, 46023\, España
CATEGORIES:Altres
END:VEVENT
END:VCALENDAR