BEGIN:VCALENDAR
VERSION:2.0
PRODID:-//AU Agenda - ECPv6.9.0//NONSGML v1.0//EN
CALSCALE:GREGORIAN
METHOD:PUBLISH
X-WR-CALNAME:AU Agenda
X-ORIGINAL-URL:https://au-agenda.com
X-WR-CALDESC:Eventos para AU Agenda
REFRESH-INTERVAL;VALUE=DURATION:PT1H
X-Robots-Tag:noindex
X-PUBLISHED-TTL:PT1H
BEGIN:VTIMEZONE
TZID:Europe/Madrid
BEGIN:DAYLIGHT
TZOFFSETFROM:+0100
TZOFFSETTO:+0200
TZNAME:CEST
DTSTART:20250330T010000
END:DAYLIGHT
BEGIN:STANDARD
TZOFFSETFROM:+0200
TZOFFSETTO:+0100
TZNAME:CET
DTSTART:20251026T010000
END:STANDARD
END:VTIMEZONE
BEGIN:VEVENT
DTSTART;TZID=Europe/Madrid:20251220T110000
DTEND;TZID=Europe/Madrid:20251220T110000
DTSTAMP:20260424T084929
CREATED:20251213T064444Z
LAST-MODIFIED:20251213T064717Z
UID:10029145-1766228400-1766228400@au-agenda.com
SUMMARY:Valencia Christmas Market
DESCRIPTION:Del 23 de diciembre al 4 de enero\, la zona exterior del teatro La Plazeta acogerá el Valencia Christmas Market\, con acceso gratuito y un sinfín de propuestas pensadas para disfrutar en familia. Entre sus principales atractivos estará una de las pistas de patinaje sobre hielo real y cubierta más grandes de València\, que permitirá vivir una experiencia invernal única en la ciudad. \nEl market contará también con un espectacular hinchable de más de 900 m²\, el más grande de València\, diseñado para que niños y mayores puedan superar diferentes niveles de desafío y disfrutar de una aventura trepidante durante las fiestas. \nComo novedad\, el espacio incluirá una zona de gel ball\, donde equipos de todas las edades podrán divertirse con una batalla segura de bolas de gel que no duelen ni manchan. La oferta se completa con una zona de foodtrucks y un área de recreativos. Aunque el acceso es gratuito\, el público podrá reservar franjas horarias para evitar colas y garantizar una visita más cómoda. \n+info
URL:https://au-agenda.com/evento/valencia-christmas-market/2025-12-20/
LOCATION:La PlaZeta\, San Bruno\, 21\, Valencia\, Valencia\, 46009\, España
CATEGORIES:Altres
ATTACH;FMTTYPE=image/jpeg:https://au-agenda.com/wp-content/uploads/2025/12/Plazeta_Pista-de-hielo.jpg
END:VEVENT
END:VCALENDAR