BEGIN:VCALENDAR
VERSION:2.0
PRODID:-//AU Schedule - ECPv6.9.0//NONSGML v1.0//EN
CALSCALE:GREGORIAN
METHOD:PUBLISH
X-WR-CALNAME:AU Agenda
X-ORIGINAL-URL:https://au-agenda.com
X-WR-CALDESC:Events for AU Schedule
REFRESH-INTERVAL;VALUE=DURATION:PT1H
X-Robots-Tag:noindex
X-PUBLISHED-TTL:PT1H
BEGIN:VTIMEZONE
TZID:Europe/Madrid
BEGIN:DAYLIGHT
TZOFFSETFROM:+0100
TZOFFSETTO:+0200
TZNAME:CEST
DTSTART:20260329T010000
END:DAYLIGHT
BEGIN:STANDARD
TZOFFSETFROM:+0200
TZOFFSETTO:+0100
TZNAME:CET
DTSTART:20261025T010000
END:STANDARD
END:VTIMEZONE
BEGIN:VEVENT
DTSTART;TZID=Europe/Madrid:20260327T190000
DTEND;TZID=Europe/Madrid:20260327T190000
DTSTAMP:20260419T235353
CREATED:20260325T160228Z
LAST-MODIFIED:20260325T160228Z
UID:312174-1774638000-1774638000@au-agenda.com
SUMMARY:V Meeting of BOOKS AND AUTHORS: NARRADORES DE IDA Y VUELTA
DESCRIPTION:3º día del V Encuentro LIBROS Y AUTORES (Elya 2026)\, la tarde la dedicamos a «NARRADORES DE IDA Y VUELTA» \nEl viernes 27 de marzo\, at 19:00h. We will talk with migrant writers: Adriana Serlik\, Jorge Enrique Lage\, Farah Hallal\, Denise Blais y Eloi Yagüe Jarque\, periodista\, escritor\, amigo y\,además\, co-organizer of this Meeting. \nPuedes comunicar tu asistencia a través de WhatsApp al 670115918 \nEntrada libre/ Aportación voluntaria/ CONSUMICIÓN OBLIGATORIA. \nEl Encuentro Libros y Autores ELYA 26\, es una iniciativa de LA CASA de Patraix\, espacio cultural independiente\, and aims to facilitate dialogue between readers and writers. Es una institución cultural sin fines de lucro\, por lo que se agradece la colaboración consciente de los usuarios ya que no contamos con subvenciones\, but with the solidarity support of our assistants. \nOrganizado por Eloi Yagüe Jarque y LA CASA de Patraix \n¡OS ESPERAMOS! Viva la Literatura\, Long live culture.
URL:https://au-agenda.com/evento/v-encuentro-libros-y-autores-narradores-de-ida-y-vuelta/
LOCATION:La Casa de Patraix\, c/ Convento de Jesús\, 11\, Valencia\, 46018\, España
CATEGORIES:Altres
ATTACH;FMTTYPE=image/jpeg:https://au-agenda.com/wp-content/uploads/2026/03/viernes-27-de-marzo.jpg
ORGANIZER;CN="The House of Patraix":MAILTO:lacasadepatraix@gmail.com
END:VEVENT
END:VCALENDAR