BEGIN:VCALENDAR
VERSION:2.0
PRODID:-//AU Agenda - ECPv6.9.0//NONSGML v1.0//EN
CALSCALE:GREGORIAN
METHOD:PUBLISH
X-WR-CALNAME:AU Agenda
X-ORIGINAL-URL:https://au-agenda.com
X-WR-CALDESC:Eventos para AU Agenda
REFRESH-INTERVAL;VALUE=DURATION:PT1H
X-Robots-Tag:noindex
X-PUBLISHED-TTL:PT1H
BEGIN:VTIMEZONE
TZID:Europe/Madrid
BEGIN:DAYLIGHT
TZOFFSETFROM:+0100
TZOFFSETTO:+0200
TZNAME:CEST
DTSTART:20260329T010000
END:DAYLIGHT
BEGIN:STANDARD
TZOFFSETFROM:+0200
TZOFFSETTO:+0100
TZNAME:CET
DTSTART:20261025T010000
END:STANDARD
END:VTIMEZONE
BEGIN:VEVENT
DTSTART;TZID=Europe/Madrid:20260410T100000
DTEND;TZID=Europe/Madrid:20260607T200000
DTSTAMP:20260421T223641
CREATED:20260414T102857Z
LAST-MODIFIED:20260414T102857Z
UID:313995-1775815200-1780862400@au-agenda.com
SUMMARY:Todo lugar es provisional
DESCRIPTION:La Fundación Bancaja ha presentado esta mañana en su sede de Valencia la exposición Todo lugar es provisional de Calo Carratalá (Torrent\, Valencia\, 1959)\, que revisa su singular expresión plástica del entorno natural tras toda una trayectoria de más de 30 años trabajando en el ámbito del paisaje\, que le ha convertido en uno de los creadores actuales de referencia en el paisajismo contemporáneo español. La presentación ha contado con la participación del presidente de la Fundación Bancaja\, Rafael Alcón; la comisaria\, Marisa Giménez Soler; y el artista Calo Carratalá. \nLa muestra reúne una selección de 37 obras de gran y pequeño formato\, creadas entre 2013 y 2026 y pertenecientes a tres de las series principales de Carratalá\, que se muestran por primera vez de forma conjunta en Valencia y con piezas realizadas exprofeso para esta exposición.  \nLas colecciones presentadas recorren las montañas nevadas de Noruega\, reflejadas con una paleta de colores muy corta e impregnadas por una melancolía y belleza contundente y limpia; el entorno del Amazonas en Brasil y Perú con selvas negras\, pintadas en lápiz sobre papel\, componiendo rasgos concisos que recorren la hondura de vegetaciones\, malezas\, reflejos\, aguas y cielos; los paisajes africanos de Tanzania y Senegal\, caracterizados por tonos verdes intensos\, contornos\, huecos y resquicios; y baobabs\, árboles ligados a las culturas y tradiciones locales africanas\, que Calo Carratalá plasma con la técnica de la sanguina y que encarnan la fuerza de la colectividad y su valor como sustento de generaciones ancestrales. \nEl recorrido expositivo revela el gesto libre\, rápido y conciso del artista\, componiendo rasgos abocetados\, rayados\, certeros y corregidos. En un ejercicio de síntesis\, su pintura eleva la pulsión estética del paisaje\, generando una íntima aleación de aire\, color y tiempo. \nEn los cuadros de Calo Carratalá está presente la pintura de los paisajistas holandeses del siglo XVII\, la poética de los románticos ingleses del XIX como William Turner o John Constable\, o del alemán Caspar David Friedrich\, y la pulsión del impresionismo francés y del expresionismo. En la producción del artista valenciano confluye esa tradición de descubrimiento paisajístico con una visión contemporánea desde la perspectiva ética y ecológica\, marcada por la preservación del medio ambiente y la protección del entorno.
URL:https://au-agenda.com/evento/todo-lugar-es-provisional/
LOCATION:Fundación Bancaja\, Plaça de Tetuán\, 23\, Valencia
CATEGORIES:Exposiciones
ATTACH;FMTTYPE=image/jpeg:https://au-agenda.com/wp-content/uploads/2026/04/Vista-exposicion-Calo-Carratala-2.jpg
END:VEVENT
END:VCALENDAR