BEGIN:VCALENDAR
VERSION:2.0
PRODID:-//AU Schedule - ECPv6.9.0//NONSGML v1.0//EN
CALSCALE:GREGORIAN
METHOD:PUBLISH
X-WR-CALNAME:AU Agenda
X-ORIGINAL-URL:https://au-agenda.com
X-WR-CALDESC:Events for AU Schedule
REFRESH-INTERVAL;VALUE=DURATION:PT1H
X-Robots-Tag:noindex
X-PUBLISHED-TTL:PT1H
BEGIN:VTIMEZONE
TZID:Europe/Madrid
BEGIN:DAYLIGHT
TZOFFSETFROM:+0100
TZOFFSETTO:+0200
TZNAME:CEST
DTSTART:20260329T010000
END:DAYLIGHT
BEGIN:STANDARD
TZOFFSETFROM:+0200
TZOFFSETTO:+0100
TZNAME:CET
DTSTART:20261025T010000
END:STANDARD
END:VTIMEZONE
BEGIN:VEVENT
DTSTART;TZID=Europe/Madrid:20260424T100000
DTEND;TZID=Europe/Madrid:20260618T200000
DTSTAMP:20260426T010653
CREATED:20260424T065153Z
LAST-MODIFIED:20260424T065153Z
UID:314868-1777024800-1781812800@au-agenda.com
SUMMARY:The Subversive Stitch
DESCRIPTION:The Center of the Carme Culture Contemporary (CCCC) presenta la exposición The Subversive Stitch\, de María Carbonell\, una muestra que une la tradición textil con la lucha feminista\, recuperando la memoria de las sufragistas británicas y poniéndola en relación con las reivindicaciones de los movimientos actuales. La exposición tiene su origen en el trabajo de investigación que realizó Carbonell durante su residencia de creación del Consorci de Museus en el Centro Cultural Las Cigarreras de Alicante. Allí\, recogió el legado de las sufragistas británicas\, analizando uno a uno los patrones\, bordados\, colores y formas de los estandartes de entre siglos que utilizaban en sus marchas. Un trabajo que se presenta ahora de forma ampliada para la citada exposición. \nSegún la artista\, esta exposición habla sobre el textil y el cuerpo a través de una genealogía de mujeres. “A través de los diez estandartes que hay colgados en la sala\, establezco un puente simbólico entre el movimiento sufragista británico y el activismo feminista contemporáneo”\, ha indicado. “Estos estandartes que las sufragistas utilizaron en sus marchas en Londres\, in between 1907 y 1913\, para reivindicar el derecho al voto fueron muy importantes\, porque constituyen la primera vez que las prácticas textiles se utilizaron como herramientas para la reivindicación política\, un lenguaje asociado al espacio doméstico\, a lo femenino sale por primera vez al espacio público”\, ha reconocido Carbonell. \nEl título de la muestra remite al libro ‘The Subversive Stitch’ (1984)\, de Rozsika Parker\, en el que se analiza cómo el bordado ha operado simultáneamente como mecanismo de domesticación femenina y como potencial espacio de emancipación y resistencia.
URL:https://au-agenda.com/evento/the-subversive-stitch/
LOCATION:Centre del Carme\, Museu\, 2\, Valencia\, Valencia\, 46001\, España
CATEGORIES:Exposiciones
ATTACH;FMTTYPE=image/jpeg:https://au-agenda.com/wp-content/uploads/2026/04/1000138461.jpg
END:VEVENT
END:VCALENDAR