BEGIN:VCALENDAR
VERSION:2.0
PRODID:-//AU Agenda - ECPv6.9.0//NONSGML v1.0//EN
CALSCALE:GREGORIAN
METHOD:PUBLISH
X-WR-CALNAME:AU Agenda
X-ORIGINAL-URL:https://au-agenda.com
X-WR-CALDESC:Eventos para AU Agenda
REFRESH-INTERVAL;VALUE=DURATION:PT1H
X-Robots-Tag:noindex
X-PUBLISHED-TTL:PT1H
BEGIN:VTIMEZONE
TZID:Europe/Madrid
BEGIN:DAYLIGHT
TZOFFSETFROM:+0100
TZOFFSETTO:+0200
TZNAME:CEST
DTSTART:20260329T010000
END:DAYLIGHT
BEGIN:STANDARD
TZOFFSETFROM:+0200
TZOFFSETTO:+0100
TZNAME:CET
DTSTART:20261025T010000
END:STANDARD
END:VTIMEZONE
BEGIN:VEVENT
DTSTART;TZID=Europe/Madrid:20260523T173000
DTEND;TZID=Europe/Madrid:20260523T173000
DTSTAMP:20260420T052843
CREATED:20260326T084850Z
LAST-MODIFIED:20260326T084850Z
UID:312430-1779557400-1779557400@au-agenda.com
SUMMARY:Taller familiar: Stravinsky meets González
DESCRIPTION:Com hauria sigut una trobada entre Stravinsky i Julio González?\nCom hauria dialogat la música del compositor amb l’escultura de l’artista?\nQuè s’haurien explicat al París dels anys 20?\nHaurien estat compares? \nEl passeig musical Stravinsky meets González vol emular una escena impossible\, la d’un Julio González jove i curiós que coneix el gran compositor rus al París de principis de segle. Prenent com a fil conductor la peça musical d’Igor Stravinsky “Les cinq doigts” (els cinc dits) i mitjançant un recorregut pel París on van viure tots dos al mateix temps\, es passejarà l’exposició “Ser artista” mitjançant el món sonor i icònic de Stravinksy\, amb una interpretació pianística i dramatitzada. La proposta posarà en valor com els cinc dits de cada mà\, igual que creen obres d’art\, elaboren unes peces musicals i les fan sonar\, per ajudar a imaginar aquesta trobada –impossible– entre aquests dos grans artistes del segle XX. \nDates 2026:\n25 d’abril\n23 de maig\n13 de juny \nHorari: 12h i 17:30h\nLloc: galeria 2 i lab 3 de l’IVAM. Punt de trobada: hall del museu\nUn projecte de: Celia Pla\nDirigit a: Famílies\nIdioma: Castellà
URL:https://au-agenda.com/evento/taller-familiar-stravinsky-meets-gonzalez-6/
LOCATION:IVAM\, / de Guillem de Castro\, 118\, València\, Valencia\, 46003\, España
CATEGORIES:Altres
END:VEVENT
END:VCALENDAR