BEGIN:VCALENDAR
VERSION:2.0
PRODID:-//AU Agenda - ECPv6.9.0//NONSGML v1.0//EN
CALSCALE:GREGORIAN
METHOD:PUBLISH
X-WR-CALNAME:AU Agenda
X-ORIGINAL-URL:https://au-agenda.com
X-WR-CALDESC:Eventos para AU Agenda
REFRESH-INTERVAL;VALUE=DURATION:PT1H
X-Robots-Tag:noindex
X-PUBLISHED-TTL:PT1H
BEGIN:VTIMEZONE
TZID:Europe/Madrid
BEGIN:DAYLIGHT
TZOFFSETFROM:+0100
TZOFFSETTO:+0200
TZNAME:CEST
DTSTART:20260329T010000
END:DAYLIGHT
BEGIN:STANDARD
TZOFFSETFROM:+0200
TZOFFSETTO:+0100
TZNAME:CET
DTSTART:20261025T010000
END:STANDARD
END:VTIMEZONE
BEGIN:VEVENT
DTSTART;TZID=Europe/Madrid:20260228T100000
DTEND;TZID=Europe/Madrid:20260228T100000
DTSTAMP:20260420T000636
CREATED:20260225T063056Z
LAST-MODIFIED:20260225T063056Z
UID:309260-1772272800-1772272800@au-agenda.com
SUMMARY:TALLER de pintar abanicos
DESCRIPTION:Hay momentos en los que necesitamos parar. Respirar. Crear con las manos y soltar lo que llevamos dentro. Por eso hemos preparado un taller muy especial donde no solo vas a pintar un abanico… vas a regalarte tiempo para ti. Un espacio para quienes aman el arte\, la pintura y los detalles hechos a mano. Para quienes disfrutan mezclando colores\, dejando que el pincel fluya y convirtiendo un objeto sencillo en una pieza única y personal. \nPero también —y sobre todo— es un espacio de cuidado.\nDe desconectar del ruido.\nDe expresar emociones sin palabras.\nDe crear sin exigencias\, sin prisas\, sin juicios. \nPintar es desahogo.\nEs presencia.\nEs volver a ti. \nTe llevarás un abanico artesanal pintado por ti\, sí.\nPero también te llevarás algo más importante: ese ratito dedicado a tu bienestar\, a tu creatividad y a tu calma. \nSi te gusta el arte\, este taller es para ti.\nSi sientes que necesitas un momento para cuidarte\, también es para ti. \nNo necesitas experiencia previa.\nSolo ganas de disfrutar. Regálate ese tiempo. Te lo mereces. \nDía: Sábado 28 de febrero de 10:00 a 12:00 h \nPRECIO: 35€ (Incluye materiales necesarios y una consumición) \nPlazas limitadas. Escríbenos para reservar la tuya. Inscripciones por WhatsApp al 635374971
URL:https://au-agenda.com/evento/taller-de-pintar-abanicos/
LOCATION:La Casa de Patraix\, c/ Convento de Jesús\, 11\, Valencia\, 46018\, España
CATEGORIES:Taller
ATTACH;FMTTYPE=image/jpeg:https://au-agenda.com/wp-content/uploads/2026/02/IMG-20260223-WA0003.jpg
ORGANIZER;CN="La Casa de Patraix":MAILTO:lacasadepatraix@gmail.com
END:VEVENT
END:VCALENDAR