BEGIN:VCALENDAR
VERSION:2.0
PRODID:-//AU Schedule - ECPv6.9.0//NONSGML v1.0//EN
CALSCALE:GREGORIAN
METHOD:PUBLISH
X-WR-CALNAME:AU Agenda
X-ORIGINAL-URL:https://au-agenda.com
X-WR-CALDESC:Events for AU Schedule
REFRESH-INTERVAL;VALUE=DURATION:PT1H
X-Robots-Tag:noindex
X-PUBLISHED-TTL:PT1H
BEGIN:VTIMEZONE
TZID:Europe/Madrid
BEGIN:DAYLIGHT
TZOFFSETFROM:+0100
TZOFFSETTO:+0200
TZNAME:CEST
DTSTART:20260329T010000
END:DAYLIGHT
BEGIN:STANDARD
TZOFFSETFROM:+0200
TZOFFSETTO:+0100
TZNAME:CET
DTSTART:20261025T010000
END:STANDARD
END:VTIMEZONE
BEGIN:VEVENT
DTSTART;TZID=Europe/Madrid:20260420T100000
DTEND;TZID=Europe/Madrid:20260420T100000
DTSTAMP:20260420T035023
CREATED:20260417T111630Z
LAST-MODIFIED:20260417T111630Z
UID:10034299-1776679200-1776679200@au-agenda.com
SUMMARY:Taller de escritura para la danza
DESCRIPTION:Con el apoyo de la Fundación SGAE\, the Valencian Association of Theater Writers (AVEET) will be held at the Valencian headquarters of SGAE (Blanquerías\, 6) the workshop How to write for dance. The dramaturgy in the shows of the Cia. Maduixa\, impartido por la autora\, actress and theater director Paula Llorens. El curso se inscribe en el programa de actividades de las IX Jornades de Creació d’Arts Escèniques per a la Infància i la Joventut.\n\nEl taller propone una aproximación a la metodología de trabajo de Maduixa\, y muy especialmente a la experiencia colaborativa entre el director de la compañía de danza\, Joan Santacreu\, and Paula Llorens during the last decade. A work that has given rise to works such as Mulïer (winner of two Max Awards) or the most recent Dominare.
URL:https://au-agenda.com/evento/taller-de-escritura-para-la-danza/2026-04-20/
LOCATION:SGAE\, Blanqueria\, 6\, Valencia\, Valencia\, 46003\, España
CATEGORIES:Taller
END:VEVENT
END:VCALENDAR