BEGIN:VCALENDAR
VERSION:2.0
PRODID:-//AU Schedule - ECPv6.9.0//NONSGML v1.0//EN
CALSCALE:GREGORIAN
METHOD:PUBLISH
X-WR-CALNAME:AU Agenda
X-ORIGINAL-URL:https://au-agenda.com
X-WR-CALDESC:Events for AU Schedule
REFRESH-INTERVAL;VALUE=DURATION:PT1H
X-Robots-Tag:noindex
X-PUBLISHED-TTL:PT1H
BEGIN:VTIMEZONE
TZID:Europe/Madrid
BEGIN:DAYLIGHT
TZOFFSETFROM:+0100
TZOFFSETTO:+0200
TZNAME:CEST
DTSTART:20260329T010000
END:DAYLIGHT
BEGIN:STANDARD
TZOFFSETFROM:+0200
TZOFFSETTO:+0100
TZNAME:CET
DTSTART:20261025T010000
END:STANDARD
END:VTIMEZONE
BEGIN:VEVENT
DTSTART;TZID=Europe/Madrid:20260424T174500
DTEND;TZID=Europe/Madrid:20260424T174500
DTSTAMP:20260424T230957
CREATED:20260325T093822Z
LAST-MODIFIED:20260325T093822Z
UID:311918-1777052700-1777052700@au-agenda.com
SUMMARY:Taller de Cocina con Aicha\, en solidaridad con Palestina
DESCRIPTION:Join us in this Cooking Without Borders workshop and discover the secrets of Palestinian gastronomy with Aicha. urante el taller\, Aicha will teach you how to prepare traditional Palestinian dishes (fatoush\, maqlouba\, and qatayef) that later we will savor together. Será una experiencia de cocina casera relajada\, donde aprender a preparar diferentes platos\, conocer las historias y experiencias que hay detrás de ellos y entender mejor la situación en Palestina. The vast majority of the ingredients that we will use come from organic and local farming.. Hay opciones veganas. \nEl taller se realiza en solidaridad con el pueblo palestino. La recaudación -una vez descontados los costes\, que suelen rondar un 40%- se donará a The Zaynab project en Gaza. \nEl taller tiene una duración de unas 2 horas y media\, plus dinner. \nTiene un coste de 45 € -incluye agua pero no otras bebidas\, that can be purchased locally. You can choose a higher amount as an additional contribution to the cause.
URL:https://au-agenda.com/evento/taller-de-cocina-con-aicha-en-solidaridad-con-palestina/
LOCATION:Al Paladar\, Carrer de Jaume Esteve Cubells\, 5\, Valencia\, 46020
CATEGORIES:Taller
END:VEVENT
END:VCALENDAR