BEGIN:VCALENDAR
VERSION:2.0
PRODID:-//AU Schedule - ECPv6.9.0//NONSGML v1.0//EN
CALSCALE:GREGORIAN
METHOD:PUBLISH
X-WR-CALNAME:AU Agenda
X-ORIGINAL-URL:https://au-agenda.com
X-WR-CALDESC:Events for AU Schedule
REFRESH-INTERVAL;VALUE=DURATION:PT1H
X-Robots-Tag:noindex
X-PUBLISHED-TTL:PT1H
BEGIN:VTIMEZONE
TZID:Europe/Madrid
BEGIN:DAYLIGHT
TZOFFSETFROM:+0100
TZOFFSETTO:+0200
TZNAME:CEST
DTSTART:20260329T010000
END:DAYLIGHT
BEGIN:STANDARD
TZOFFSETFROM:+0200
TZOFFSETTO:+0100
TZNAME:CET
DTSTART:20261025T010000
END:STANDARD
END:VTIMEZONE
BEGIN:VEVENT
DTSTART;TZID=Europe/Madrid:20260425T100000
DTEND;TZID=Europe/Madrid:20260425T100000
DTSTAMP:20260425T002214
CREATED:20260410T063504Z
LAST-MODIFIED:20260410T063504Z
UID:313651-1777111200-1777111200@au-agenda.com
SUMMARY:Retropolis 2026
DESCRIPTION:Valencia will turn on its CRT screens again next 25 April 21 2026\, will do it from 10.00 a 20.00h en la nova edició de RetróPolis València\, la fira de retroinformàtica i videojocs clàssics de la Universitat Politècnica de València\, amb un cartell dissenyat per CuboPop\, a powerful and epic image that pays tribute to the pixelated heroes who marked an entire generation. Arcades impossibles\, aventures gràfiques\, platforms of 8 bits\, Mythical machines and unforgettable characters resurface in flames as a symbol that classic digital culture remains as alive as ever. \nLa novena edició de RetróPolis València tornarà a celebrar-se a l’Escola Tècnica Superior d’Enginyeria Informàtica (ETSINF)\, en l’edifici 1G\, consolidating the event as one of the reference meetings for retro computing in Spain. En les pròximes setmanes s’anunciaran convidats\, tornejos\, conferències\, special exhibits and activities that will turn the campus into a truly interactive journey into the golden years of video gaming and home computing. Attend the RetróPolis Valencia event 2026 és gratis\, si bé cal indicar que l’entrada és gratuïta sostenible\, és a dir\, a solidarity or sustainable contribution is required: at least 1 kg d’aliments no peribles que la iniciativa Videojuegos por alimentos intercanviarà als assistents per un videojoc clàssic\, o també residus electrònics per a reciclar\, in collaboration with the Computer Museum. In the edition of 2025 were gathered more than 1.000 Kg of food for the Food Bank of Valencia. \nRetróPolis València no és només nostàlgia: és patrimoni tecnològic\, community and digital memory. The schedule includes official tournaments (rSports and Cultural Association La Taronja Friki)\, un torneig especial de futbolí\, organitzat per l’Associació Valenciana de Futbolí\, i un torneig de Tetris\, organized by RetroCabeza. All tournaments will be managed by the GamePetition tournament organizing platform. Com en edicions anteriors\, la ETSINF i el seu Museu d’Informàtica jugaran un paper clau\, offering guided tours and other activities yet to be confirmed.
URL:https://au-agenda.com/evento/retropolis-2026/
LOCATION:UPV\, Camí de Vera\, s/n\, Valencia\, Valencia\, 46022\, España
CATEGORIES:Altres
END:VEVENT
END:VCALENDAR