BEGIN:VCALENDAR
VERSION:2.0
PRODID:-//AU Agenda - ECPv6.9.0//NONSGML v1.0//EN
CALSCALE:GREGORIAN
METHOD:PUBLISH
X-WR-CALNAME:AU Agenda
X-ORIGINAL-URL:https://au-agenda.com
X-WR-CALDESC:Eventos para AU Agenda
REFRESH-INTERVAL;VALUE=DURATION:PT1H
X-Robots-Tag:noindex
X-PUBLISHED-TTL:PT1H
BEGIN:VTIMEZONE
TZID:Europe/Madrid
BEGIN:DAYLIGHT
TZOFFSETFROM:+0100
TZOFFSETTO:+0200
TZNAME:CEST
DTSTART:20260329T010000
END:DAYLIGHT
BEGIN:STANDARD
TZOFFSETFROM:+0200
TZOFFSETTO:+0100
TZNAME:CET
DTSTART:20261025T010000
END:STANDARD
END:VTIMEZONE
BEGIN:VEVENT
DTSTART;TZID=Europe/Madrid:20260425T100000
DTEND;TZID=Europe/Madrid:20260425T100000
DTSTAMP:20260424T223613
CREATED:20260410T063504Z
LAST-MODIFIED:20260410T063504Z
UID:313651-1777111200-1777111200@au-agenda.com
SUMMARY:Retrópolis 2026
DESCRIPTION:València tornarà a encendre les seues pantalles CRT el pròxim 25 d’abril de 2026\, ho farà de 10.00 a 20.00h en la nova edició de RetróPolis València\, la fira de retroinformàtica i videojocs clàssics de la Universitat Politècnica de València\, amb un cartell dissenyat per CuboPop\, una imatge potent i èpica que ret homenatge als herois pixelats que van marcar a tota una generació. Arcades impossibles\, aventures gràfiques\, plataformes de 8 bits\, màquines mítiques i personatges inoblidables ressorgeixen entre flames com a símbol que la cultura digital clàssica continua més viva que mai. \nLa novena edició de RetróPolis València tornarà a celebrar-se a l’Escola Tècnica Superior d’Enginyeria Informàtica (ETSINF)\, en l’edifici 1G\, consolidant l’esdeveniment com un de les trobades de referència de la retroinformàtica a Espanya. En les pròximes setmanes s’anunciaran convidats\, tornejos\, conferències\, exposicions i activitats especials que convertiran el campus en un autèntic viatge interactiu als anys daurats del videojoc i la informàtica domèstica. Assistir a l’esdeveniment de RetróPolis València 2026 és gratis\, si bé cal indicar que l’entrada és gratuïta sostenible\, és a dir\, es requereix d’una aportació solidària o sostenible: almenys 1 kg d’aliments no peribles que la iniciativa Videojuegos por alimentos intercanviarà als assistents per un videojoc clàssic\, o també residus electrònics per a reciclar\, en col·laboració amb el Museu d’Informàtica. En l’edició de 2025 es van arreplegar més de 1.000 Kg de menjar per al Banc d’Aliments de València. \nRetróPolis València no és només nostàlgia: és patrimoni tecnològic\, comunitat i memòria digital. La programació inclou tornejos oficials (rSports i Associació Cultural La Taronja Friki)\, un torneig especial de futbolí\, organitzat per l’Associació Valenciana de Futbolí\, i un torneig de Tetris\, organitzat per RetroCabeza. Tots els tornejos serán gestionats per la plataforma de organització de tornejos GamePetition. Com en edicions anteriors\, la ETSINF i el seu Museu d’Informàtica jugaran un paper clau\, oferint visites guiades i altres activitats encara per confirmar.
URL:https://au-agenda.com/evento/retropolis-2026/
LOCATION:UPV\, Camí de Vera\, s/n\, Valencia\, Valencia\, 46022\, España
CATEGORIES:Altres
END:VEVENT
END:VCALENDAR