BEGIN:VCALENDAR
VERSION:2.0
PRODID:-//AU Agenda - ECPv6.9.0//NONSGML v1.0//EN
CALSCALE:GREGORIAN
METHOD:PUBLISH
X-WR-CALNAME:AU Agenda
X-ORIGINAL-URL:https://au-agenda.com
X-WR-CALDESC:Eventos para AU Agenda
REFRESH-INTERVAL;VALUE=DURATION:PT1H
X-Robots-Tag:noindex
X-PUBLISHED-TTL:PT1H
BEGIN:VTIMEZONE
TZID:Europe/Madrid
BEGIN:DAYLIGHT
TZOFFSETFROM:+0100
TZOFFSETTO:+0200
TZNAME:CEST
DTSTART:20260329T010000
END:DAYLIGHT
BEGIN:STANDARD
TZOFFSETFROM:+0200
TZOFFSETTO:+0100
TZNAME:CET
DTSTART:20261025T010000
END:STANDARD
END:VTIMEZONE
BEGIN:VEVENT
DTSTART;TZID=Europe/Madrid:20260423T120000
DTEND;TZID=Europe/Madrid:20260423T120000
DTSTAMP:20260421T175936
CREATED:20260421T062611Z
LAST-MODIFIED:20260421T062611Z
UID:314395-1776945600-1776945600@au-agenda.com
SUMMARY:Presentación del libro “Salvador Victoria. La pintura es la música de las esferas”
DESCRIPTION:El Museu de Belles Arts de València acoge la presentación del libro Salvador Victoria. La pintura es la música de las esferas\, del teórico y crítico de arte Alfonso de la Torre (Madrid\, 1960)\, junto al compositor y artista visual Joan Gómez Alemany (Valencia\, 1990) en un coloquio que tendrá lugar el próximo jueves\, 23 de abril (Día Internacional del Libro)\, a las 12 horas. El acto contará con la participación del director del Museu valenciano\, Pablo González Tornel; la Presidenta de Honor de la Fundación-Museo Salvador Victoria\, de Rubielos de Mora (Teruel) y viuda de Salvador Victoria\, Marie-Claire Decay; el editor\, escritor\, músico y autor del prólogo\, Josep Lluís Galiana\, y los autores del libro. \nSalvador Victoria Marz (Rubielos de Mora\, 1928 – Alcalá de Henares\, 1994)\, figura clave del arte abstracto español\, es el eje central de este libro escrito por Alfonso de la Torre y Joan Gómez Alemany. Salvador Victoria. La pintura es la música de las esferas\, publicado recientemente por el sello editorial valenciano EdictOràlia\, en colaboración con la Diputación de Cuenca a través de la Fundación Antonio Pérez (FAP)\, reúne una variada selección de textos realizados por De la Torre entre 2008 y 2025. Le precede un extenso ensayo inédito de Gómez Alemany\, que sirve de introducción al conjunto y ofrece\, desde una perspectiva de su conocimiento musical\, una lectura novedosa de la obra de Victoria.
URL:https://au-agenda.com/evento/presentacion-del-libro-salvador-victoria-la-pintura-es-la-musica-de-las-esferas/
LOCATION:Museu BB.AA.\, Sant Pius V\, 9\, Valencia\, Valencia\, 46010\, España
CATEGORIES:Presentació llibre/disc
END:VEVENT
END:VCALENDAR