BEGIN:VCALENDAR
VERSION:2.0
PRODID:-//AU Agenda - ECPv6.9.0//NONSGML v1.0//EN
CALSCALE:GREGORIAN
METHOD:PUBLISH
X-WR-CALNAME:AU Agenda
X-ORIGINAL-URL:https://au-agenda.com
X-WR-CALDESC:Eventos para AU Agenda
REFRESH-INTERVAL;VALUE=DURATION:PT1H
X-Robots-Tag:noindex
X-PUBLISHED-TTL:PT1H
BEGIN:VTIMEZONE
TZID:Europe/Madrid
BEGIN:DAYLIGHT
TZOFFSETFROM:+0100
TZOFFSETTO:+0200
TZNAME:CEST
DTSTART:20260329T010000
END:DAYLIGHT
BEGIN:STANDARD
TZOFFSETFROM:+0200
TZOFFSETTO:+0100
TZNAME:CET
DTSTART:20261025T010000
END:STANDARD
END:VTIMEZONE
BEGIN:VEVENT
DTSTART;TZID=Europe/Madrid:20260421T190000
DTEND;TZID=Europe/Madrid:20260421T190000
DTSTAMP:20260419T184820
CREATED:20260414T071719Z
LAST-MODIFIED:20260414T071719Z
UID:313883-1776798000-1776798000@au-agenda.com
SUMMARY:Perspectives: Salomé
DESCRIPTION:Encuentros con los protagonistas de las distintas producciones en los que se abordan los elementos esenciales de la música y la dramaturgia de los diferentes montajes que integran la temporada de Les Arts.En colaboración con Amics de l’Òpera i de les Arts de la Comunitat Valenciana. \nOscar Wilde redacta Salomé estando establecido en Torquay\, inspirado por la contemplación de la obra pictórica de Gustave Moreau sobre la princesa hebrea. La obra\, redactada en prosa muy poética\, no fue escrita para la renombrada actriz francesa Sarah Bernhardt\, aunque ciertamente ella le reclamara interpretarla. El drama bíblico fue escrito originalmente en francés\, por razones personales y estratégicos (no era posible la representación teatral de asuntos bíblicos en la Gran Bretaña victoriana). Richard Strauss conoce el drama en sus primeras representaciones en Alemania\, en traducción de Hedwig Lachmann\, dramaturga y primera redactora del libreto que Strauss reduciría hasta dejarlo en una tercera parte. El compositor deseaba mantener el nihilismo filosófico\, cercano a Nietzsche\, que Wilde adornaba con su preciosismo decadentista. Salome es un Nuevo Testamento wagnerista\, la purificación del Wagner parsifaliano. Pero\, a pesar del deseo straussiano de superar la vía wagneriana\, la rémora de sus estructuras permanecía en la arquitectura de este poema sinfónico-neurótico que se cierra con un Liebestod sangriento de la protagonista a la amada y santa cabeza del Bautista.
URL:https://au-agenda.com/evento/perspectives-salome-2/
LOCATION:IVAM\, / de Guillem de Castro\, 118\, València\, Valencia\, 46003\, España
CATEGORIES:Confèrencia-Debat
ATTACH;FMTTYPE=image/jpeg:https://au-agenda.com/wp-content/uploads/2026/04/Perspectives-2.jpg
ORGANIZER;CN="Amics de l%E2%80%99%C3%92pera i de les Arts CV":MAILTO:redes@amicsopera.org
END:VEVENT
END:VCALENDAR