BEGIN:VCALENDAR
VERSION:2.0
PRODID:-//AU Agenda - ECPv6.9.0//NONSGML v1.0//EN
CALSCALE:GREGORIAN
METHOD:PUBLISH
X-WR-CALNAME:AU Agenda
X-ORIGINAL-URL:https://au-agenda.com
X-WR-CALDESC:Eventos para AU Agenda
REFRESH-INTERVAL;VALUE=DURATION:PT1H
X-Robots-Tag:noindex
X-PUBLISHED-TTL:PT1H
BEGIN:VTIMEZONE
TZID:Europe/Madrid
BEGIN:DAYLIGHT
TZOFFSETFROM:+0100
TZOFFSETTO:+0200
TZNAME:CEST
DTSTART:20260329T010000
END:DAYLIGHT
BEGIN:STANDARD
TZOFFSETFROM:+0200
TZOFFSETTO:+0100
TZNAME:CET
DTSTART:20261025T010000
END:STANDARD
END:VTIMEZONE
BEGIN:VEVENT
DTSTART;TZID=Europe/Madrid:20260103T110000
DTEND;TZID=Europe/Madrid:20260103T110000
DTSTAMP:20260422T091217
CREATED:20251222T090818Z
LAST-MODIFIED:20251222T090818Z
UID:302459-1767438000-1767438000@au-agenda.com
SUMMARY:Nadal a la Fundació: Dioramas vivos. Miradas a un belén desde dentro
DESCRIPTION:La Fundación Bancaja pone en marcha la programación de Nadal a la Fundació\, que del 23 de diciembre al 3 de enero ofrecerá en su sede en Valencia distintas actividades dirigidas al público infantil y centradas en disciplinas diversas como el arte plástico\, la ciencia y los títeres. El ciclo tiene como objetivo acercar la cultura a edades tempranas y convertirla en una vía para el aprendizaje\, la participación y la diversión mediante cuatro propuestas para las fiestas navideñas. \nLa programación arranca el 23 de diciembre\, a las 11 horas\, con el taller Dioramas vivos. Miradas a un belén desde dentro\, un taller de creación de escenas navideñas que se convierten en originales piezas audiovisuales con la inspiración del belén monumental de la Fundación Bancaja. Impartida por Susana Monteagudo y Elisa Matallín\, la propuesta comienza con la observación de los elementos clásicos de un belén\, sus símbolos y su composición. Después\, cada participante crea su propia escena con materiales diversos como cartón\, tela\, luz LED y objetos. Con cámaras endoscópicas y microcámaras\, los participantes se adentran en sus dioramas para abordar diferentes perspectivas visuales y graban pequeñas piezas de vídeo que\, junto a efectos sonoros y música\, convierten en una video composición. La actividad\, dirigida a niños y niñas de entre 6 a 10 años\, se realizará también los días 27 de diciembre\, 30 de diciembre y 3 de enero. El coste del taller es de 3 euros por participante y es imprescindible realizar inscripción previa a través del correo electrónico taller@fundacionbancaja.es.
URL:https://au-agenda.com/evento/nadal-a-la-fundacio-dioramas-vivos-miradas-a-un-belen-desde-dentro-2/
LOCATION:Fundación Bancaja\, Plaça de Tetuán\, 23\, Valencia
CATEGORIES:Taller
END:VEVENT
END:VCALENDAR