BEGIN:VCALENDAR
VERSION:2.0
PRODID:-//AU Schedule - ECPv6.9.0//NONSGML v1.0//EN
CALSCALE:GREGORIAN
METHOD:PUBLISH
X-WR-CALNAME:AU Agenda
X-ORIGINAL-URL:https://au-agenda.com
X-WR-CALDESC:Events for AU Schedule
REFRESH-INTERVAL;VALUE=DURATION:PT1H
X-Robots-Tag:noindex
X-PUBLISHED-TTL:PT1H
BEGIN:VTIMEZONE
TZID:Europe/Madrid
BEGIN:DAYLIGHT
TZOFFSETFROM:+0100
TZOFFSETTO:+0200
TZNAME:CEST
DTSTART:20260329T010000
END:DAYLIGHT
BEGIN:STANDARD
TZOFFSETFROM:+0200
TZOFFSETTO:+0100
TZNAME:CET
DTSTART:20261025T010000
END:STANDARD
END:VTIMEZONE
BEGIN:VEVENT
DTSTART;TZID=Europe/Madrid:20260213T200000
DTEND;TZID=Europe/Madrid:20260213T200000
DTSTAMP:20260419T164652
CREATED:20260212T074404Z
LAST-MODIFIED:20260212T074404Z
UID:307451-1771012800-1771012800@au-agenda.com
SUMMARY:Micro abierto LA DISIDENCIA
DESCRIPTION:Edición especial Anti san Valentín. LA DISIDENCIA\, micro abierto para mujeres e identidades disidentes\, at home. We all have talents that we would like to share. And if you think you don't have them, it's because they are yet to be discovered.. Este espacio puede ser el lugar para desarrollarlos y compartirlos. Si te resuena no dudes en mandarnos un mensaje directo.\nInfo e inscripciones en microabiertoladisidencia (artists).\nReserva público WhatsApp al 670115918.
URL:https://au-agenda.com/evento/micro-abierto-la-disidencia-4/
LOCATION:La Casa de Patraix\, c/ Convento de Jesús\, 11\, Valencia\, 46018\, España
CATEGORIES:Monólogo
ATTACH;FMTTYPE=image/jpeg:https://au-agenda.com/wp-content/uploads/2026/02/micro-abierto-disidencia-13-2-2026.jpg
ORGANIZER;CN="The House of Patraix":MAILTO:lacasadepatraix@gmail.com
END:VEVENT
END:VCALENDAR