BEGIN:VCALENDAR
VERSION:2.0
PRODID:-//AU Agenda - ECPv6.9.0//NONSGML v1.0//EN
CALSCALE:GREGORIAN
METHOD:PUBLISH
X-WR-CALNAME:AU Agenda
X-ORIGINAL-URL:https://au-agenda.com
X-WR-CALDESC:Eventos para AU Agenda
REFRESH-INTERVAL;VALUE=DURATION:PT1H
X-Robots-Tag:noindex
X-PUBLISHED-TTL:PT1H
BEGIN:VTIMEZONE
TZID:Europe/Madrid
BEGIN:DAYLIGHT
TZOFFSETFROM:+0100
TZOFFSETTO:+0200
TZNAME:CEST
DTSTART:20260329T010000
END:DAYLIGHT
BEGIN:STANDARD
TZOFFSETFROM:+0200
TZOFFSETTO:+0100
TZNAME:CET
DTSTART:20261025T010000
END:STANDARD
END:VTIMEZONE
BEGIN:VEVENT
DTSTART;TZID=Europe/Madrid:20260419T120000
DTEND;TZID=Europe/Madrid:20260419T120000
DTSTAMP:20260421T210740
CREATED:20260414T150911Z
LAST-MODIFIED:20260414T150911Z
UID:314025-1776600000-1776600000@au-agenda.com
SUMMARY:Mercadillo II
DESCRIPTION:Segunda edición del mercadillo organizado por la diseñadora Marina del Mar (1CONCEPT). En esta ocasión la acompañará Ana Fort con productos de archivo/marcas/segunda mano a precios muy asequibles. También habrá joyería de prensa de 1CONCEPT y Paula Calabrese poniendo tooth gems. Por la tarde habrá cava/vinos y bandejita de cigarros para los asistentes.
URL:https://au-agenda.com/evento/mercadillo-ii/
LOCATION:Yica Djuric Studio\, Carrer del Moro Zeid\, 11\, Valencia\, 46001
CATEGORIES:Altres
ATTACH;FMTTYPE=image/jpeg:https://au-agenda.com/wp-content/uploads/2026/04/image0-3.jpeg
END:VEVENT
END:VCALENDAR