BEGIN:VCALENDAR
VERSION:2.0
PRODID:-//AU Agenda - ECPv6.9.0//NONSGML v1.0//EN
CALSCALE:GREGORIAN
METHOD:PUBLISH
X-WR-CALNAME:AU Agenda
X-ORIGINAL-URL:https://au-agenda.com
X-WR-CALDESC:Eventos para AU Agenda
REFRESH-INTERVAL;VALUE=DURATION:PT1H
X-Robots-Tag:noindex
X-PUBLISHED-TTL:PT1H
BEGIN:VTIMEZONE
TZID:Europe/Madrid
BEGIN:DAYLIGHT
TZOFFSETFROM:+0100
TZOFFSETTO:+0200
TZNAME:CEST
DTSTART:20250330T010000
END:DAYLIGHT
BEGIN:STANDARD
TZOFFSETFROM:+0200
TZOFFSETTO:+0100
TZNAME:CET
DTSTART:20251026T010000
END:STANDARD
END:VTIMEZONE
BEGIN:VEVENT
DTSTART;TZID=Europe/Madrid:20251226T233000
DTEND;TZID=Europe/Madrid:20251226T233000
DTSTAMP:20260421T100802
CREATED:20251217T073627Z
LAST-MODIFIED:20251217T073627Z
UID:300986-1766791800-1766791800@au-agenda.com
SUMMARY:Los Vecinos del 78
DESCRIPTION:Los Vecinos del 78 vuelven a Matisse Club el viernes 26 de Diciembre para cerrar el año por todo lo alto. Pop en Español\, repasando la banda sonora de los que hicimos la EGB\, con un repertorio siempre cambiante\, con sorpresas y colaboraciones. Un plan perfecto para disfrutar con amigos\, dejarse la voz y brindar por el nuevo año.
URL:https://au-agenda.com/evento/los-vecinos-del-78/
LOCATION:Matisse Club\, Campoamor\, 60\, València
CATEGORIES:Música
ATTACH;FMTTYPE=image/jpeg:https://au-agenda.com/wp-content/uploads/2025/12/3DF4735D-E4AE-4DEC-9B7C-806C7B176FB0-1.jpeg
ORGANIZER;CN="Matisse club":MAILTO:Info@matisseclub.com
END:VEVENT
END:VCALENDAR