BEGIN:VCALENDAR
VERSION:2.0
PRODID:-//AU Schedule - ECPv6.9.0//NONSGML v1.0//EN
CALSCALE:GREGORIAN
METHOD:PUBLISH
X-WR-CALNAME:AU Agenda
X-ORIGINAL-URL:https://au-agenda.com
X-WR-CALDESC:Events for AU Schedule
REFRESH-INTERVAL;VALUE=DURATION:PT1H
X-Robots-Tag:noindex
X-PUBLISHED-TTL:PT1H
BEGIN:VTIMEZONE
TZID:Europe/Madrid
BEGIN:DAYLIGHT
TZOFFSETFROM:+0100
TZOFFSETTO:+0200
TZNAME:CEST
DTSTART:20260329T010000
END:DAYLIGHT
BEGIN:STANDARD
TZOFFSETFROM:+0200
TZOFFSETTO:+0100
TZNAME:CET
DTSTART:20261025T010000
END:STANDARD
END:VTIMEZONE
BEGIN:VEVENT
DTSTART;TZID=Europe/Madrid:20260105T123000
DTEND;TZID=Europe/Madrid:20260105T123000
DTSTAMP:20260423T145230
CREATED:20251219T103210Z
LAST-MODIFIED:20251219T103210Z
UID:301795-1767616200-1767616200@au-agenda.com
SUMMARY:Las Guerreras del K-POP en concierto
DESCRIPTION:Por primera vez en tu localidad\, the most anticipated tribute of the moment arrives: Las Guerreras del K-Pop\, a show inspired by your favorite groups. Get ready for an electrifying K-Pop musical where fame hides a supernatural war for the fate of the HofMund. Lo que el público no sabe es que estas cazadoras utilizan sus poderosos talentos musicales como un escudo místico\, deploying choreography and harmonies to protect their fans from an imminent demonic invasion. Attend this spectacular stage showdown: a fight of the bands where each song is an epic battle and music is the ultimate weapon.
URL:https://au-agenda.com/evento/las-guerreras-del-k-pop-en-concierto-5/
LOCATION:La PlaZeta\, San Bruno\, 21\, Valencia\, Valencia\, 46009\, España
CATEGORIES:Música
END:VEVENT
END:VCALENDAR