BEGIN:VCALENDAR
VERSION:2.0
PRODID:-//AU Schedule - ECPv6.9.0//NONSGML v1.0//EN
CALSCALE:GREGORIAN
METHOD:PUBLISH
X-WR-CALNAME:AU Agenda
X-ORIGINAL-URL:https://au-agenda.com
X-WR-CALDESC:Events for AU Schedule
REFRESH-INTERVAL;VALUE=DURATION:PT1H
X-Robots-Tag:noindex
X-PUBLISHED-TTL:PT1H
BEGIN:VTIMEZONE
TZID:Europe/Madrid
BEGIN:DAYLIGHT
TZOFFSETFROM:+0100
TZOFFSETTO:+0200
TZNAME:CEST
DTSTART:20260329T010000
END:DAYLIGHT
BEGIN:STANDARD
TZOFFSETFROM:+0200
TZOFFSETTO:+0100
TZNAME:CET
DTSTART:20261025T010000
END:STANDARD
END:VTIMEZONE
BEGIN:VEVENT
DTSTART;TZID=Europe/Madrid:20260421T160000
DTEND;TZID=Europe/Madrid:20260421T160000
DTSTAMP:20260421T193202
CREATED:20260421T063442Z
LAST-MODIFIED:20260421T063442Z
UID:10034332-1776787200-1776787200@au-agenda.com
SUMMARY:The writings of the Self in the republican exile of 1939
DESCRIPTION:Destinataries: estudiantes universitarios\, profesores\, researchers and interested in the topic of republican exile. Registration is required. \n+info
URL:https://au-agenda.com/evento/las-escrituras-del-yo-en-el-exilio-republicano-de-1939/2026-04-21/
LOCATION:S. Miquel dels Reis\, Constitució\, 284\, Valencia\, Valencia\, 46019\, España
CATEGORIES:Confèrencia-Debat
END:VEVENT
END:VCALENDAR