BEGIN:VCALENDAR
VERSION:2.0
PRODID:-//AU Schedule - ECPv6.9.0//NONSGML v1.0//EN
CALSCALE:GREGORIAN
METHOD:PUBLISH
X-WR-CALNAME:AU Agenda
X-ORIGINAL-URL:https://au-agenda.com
X-WR-CALDESC:Events for AU Schedule
REFRESH-INTERVAL;VALUE=DURATION:PT1H
X-Robots-Tag:noindex
X-PUBLISHED-TTL:PT1H
BEGIN:VTIMEZONE
TZID:Europe/Madrid
BEGIN:DAYLIGHT
TZOFFSETFROM:+0100
TZOFFSETTO:+0200
TZNAME:CEST
DTSTART:20260329T010000
END:DAYLIGHT
BEGIN:STANDARD
TZOFFSETFROM:+0200
TZOFFSETTO:+0100
TZNAME:CET
DTSTART:20261025T010000
END:STANDARD
END:VTIMEZONE
BEGIN:VEVENT
DTSTART;TZID=Europe/Madrid:20260322T173000
DTEND;TZID=Europe/Madrid:20260322T173000
DTSTAMP:20260420T034824
CREATED:20260219T181816Z
LAST-MODIFIED:20260219T181816Z
UID:308219-1774200600-1774200600@au-agenda.com
SUMMARY:Lamine Dry: Españul
DESCRIPTION:Una experiencia única\, repleta de momentos de reflexión y un mensaje poderoso de superación y derribo de barreras\, in which laughter is more than guaranteed. Españul es un viaje de 5.000 kilómetros sin moverse de la butaca en el que Lamine Thior nos narra sus orígenes\, desde Senegal hasta Algeciras\, donde creció\, y las vicisitudes que ha vivido como persona negra criada en España. Un monólogo de 90 minutos lleno de contrastes culturales: las anécdotas con sus amigos\, la peculiar relación con su madre y sus primeras experiencias al tomar conciencia del racismo. Nos muestra cómo pasó de ser un “niño negrito adorable” a un “negro adulto criminalizado”. Con su estilo de comedia storyteller\, Lamine nos invita a reflexionar sobre nuestros prejuicios a través de historias con un trasfondo social que siempre desembocan en finales rocambolescos. Todo ello aderezado con inesperados gags de humor sobre sus intentos infructuosos de ligar\, que una y otra vez lo llevan a situaciones de lo más surrealistas.
URL:https://au-agenda.com/evento/lamine-thior-espanul/
LOCATION:Sala Russafa\, Dénia\, 55\, Valencia\, Valencia\, 46006\, España
CATEGORIES:Monólogo
ATTACH;FMTTYPE=image/jpeg:https://au-agenda.com/wp-content/uploads/2026/02/ESPANUL-A3.jpg
END:VEVENT
END:VCALENDAR