BEGIN:VCALENDAR
VERSION:2.0
PRODID:-//AU Agenda - ECPv6.9.0//NONSGML v1.0//EN
CALSCALE:GREGORIAN
METHOD:PUBLISH
X-WR-CALNAME:AU Agenda
X-ORIGINAL-URL:https://au-agenda.com
X-WR-CALDESC:Eventos para AU Agenda
REFRESH-INTERVAL;VALUE=DURATION:PT1H
X-Robots-Tag:noindex
X-PUBLISHED-TTL:PT1H
BEGIN:VTIMEZONE
TZID:Europe/Madrid
BEGIN:DAYLIGHT
TZOFFSETFROM:+0100
TZOFFSETTO:+0200
TZNAME:CEST
DTSTART:20260329T010000
END:DAYLIGHT
BEGIN:STANDARD
TZOFFSETFROM:+0200
TZOFFSETTO:+0100
TZNAME:CET
DTSTART:20261025T010000
END:STANDARD
END:VTIMEZONE
BEGIN:VEVENT
DTSTART;TZID=Europe/Madrid:20260510T120000
DTEND;TZID=Europe/Madrid:20260510T120000
DTSTAMP:20260425T233610
CREATED:20260424T090826Z
LAST-MODIFIED:20260424T090826Z
UID:315098-1778414400-1778414400@au-agenda.com
SUMMARY:La xiqueta que volia arribar a la pau
DESCRIPTION:Els focs d’artifici omplin el cel de llum. Per a la xiqueta protagonista és un espectacle\, però els adults ho miren amb uns altres ulls\, plens de por. Per això\, el pare de la xiqueta l’animarà a fugir i veure els focs des de més lluny\, fins que arribe a un lloc anomenat la Pau. Una bella al·legoria sobre la guerra vista des de la mirada infantil.
URL:https://au-agenda.com/evento/la-xiqueta-que-volia-arribar-a-la-pau-2/
LOCATION:Sala Off Kids\, Túria\, 47\, Valencia\, Valencia\, 46008\, España
CATEGORIES:Escena
END:VEVENT
END:VCALENDAR