BEGIN:VCALENDAR
VERSION:2.0
PRODID:-//AU Schedule - ECPv6.9.0//NONSGML v1.0//EN
CALSCALE:GREGORIAN
METHOD:PUBLISH
X-WR-CALNAME:AU Agenda
X-ORIGINAL-URL:https://au-agenda.com
X-WR-CALDESC:Events for AU Schedule
REFRESH-INTERVAL;VALUE=DURATION:PT1H
X-Robots-Tag:noindex
X-PUBLISHED-TTL:PT1H
BEGIN:VTIMEZONE
TZID:Europe/Madrid
BEGIN:DAYLIGHT
TZOFFSETFROM:+0100
TZOFFSETTO:+0200
TZNAME:CEST
DTSTART:20260329T010000
END:DAYLIGHT
BEGIN:STANDARD
TZOFFSETFROM:+0200
TZOFFSETTO:+0100
TZNAME:CET
DTSTART:20261025T010000
END:STANDARD
END:VTIMEZONE
BEGIN:VEVENT
DTSTART;TZID=Europe/Madrid:20260415T190000
DTEND;TZID=Europe/Madrid:20260415T190000
DTSTAMP:20260419T204421
CREATED:20260414T065807Z
LAST-MODIFIED:20260414T065807Z
UID:313925-1776279600-1776279600@au-agenda.com
SUMMARY:The Singularity of AI Can AI Solve Any Problem?
DESCRIPTION:La sesión abordará el debate en torno a la singularidad de la Inteligencia Artificial\, un concepto que plantea una hipotética realidad donde las máquinas superen al ser humano en cualquier tarea cognitiva\, transforming civilization irreversibly. \nLímites teóricos y viabilidad técnica \nA lo largo de la exposición\, se explicarán las razones por las cuales el desarrollo de una IAG presenta límites que\, en la práctica\, make it difficult to achieve. The analysis will focus on differentiating what types of problems can be solved automatically by machines and how the restrictions of computability and complexity condition the existence of general intelligence as it is currently conceived..
URL:https://au-agenda.com/evento/la-singularidad-de-la-ia-puede-la-ia-resolver-cualquier-problema/
LOCATION:Science Museum (CAC)\, Of. del Professor López Piñero\, 7\, Valencia\, Valencia\, 46013\, España
CATEGORIES:Confèrencia-Debat
END:VEVENT
END:VCALENDAR