BEGIN:VCALENDAR
VERSION:2.0
PRODID:-//AU Schedule - ECPv6.9.0//NONSGML v1.0//EN
CALSCALE:GREGORIAN
METHOD:PUBLISH
X-WR-CALNAME:AU Agenda
X-ORIGINAL-URL:https://au-agenda.com
X-WR-CALDESC:Events for AU Schedule
REFRESH-INTERVAL;VALUE=DURATION:PT1H
X-Robots-Tag:noindex
X-PUBLISHED-TTL:PT1H
BEGIN:VTIMEZONE
TZID:Europe/Madrid
BEGIN:DAYLIGHT
TZOFFSETFROM:+0100
TZOFFSETTO:+0200
TZNAME:CEST
DTSTART:20260329T010000
END:DAYLIGHT
BEGIN:STANDARD
TZOFFSETFROM:+0200
TZOFFSETTO:+0100
TZNAME:CET
DTSTART:20261025T010000
END:STANDARD
END:VTIMEZONE
BEGIN:VEVENT
DTSTART;TZID=Europe/Madrid:20260313T100000
DTEND;TZID=Europe/Madrid:20260704T193000
DTSTAMP:20260422T043642
CREATED:20260414T063016Z
LAST-MODIFIED:20260414T063016Z
UID:313918-1773396000-1783193400@au-agenda.com
SUMMARY:La llegenda del Titanic
DESCRIPTION:The legend of the Titanic. The definitive exhibition at Bombas Gens. Vive la mayor exhibición sobre el Titanic en Valencia hasta la fecha\, in Bombas Gens Digital Arts Center. Revive la historia del Titanic de cerca\, desde su partida hasta su desenlace final\, en un recorrido de dos horas por múltiples salas que dan vida a uno de los acontecimientos históricos más conmovedores del siglo XX. Esta galardonada exhibición combina historia con tecnología y presenta objetos de la época\, una gran sala con video mapping inmersivo 360º\, un tributo en realidad virtual a los músicos del Titanic\, un viaje al metaverso que permite explorar el icónico transatlántico en todo su esplendor\, and much more. ¡La exposición ya esta abierta!
URL:https://au-agenda.com/evento/la-llegenda-del-titanic/
LOCATION:Bombas Gens\, Of. Burjassot\, 54\, Valencia\, Valencia\, 46009\, España
CATEGORIES:Exposiciones
ATTACH;FMTTYPE=image/jpeg:https://au-agenda.com/wp-content/uploads/2026/02/agenda-urbana-la-leyenda-del-titanic.jpg
END:VEVENT
END:VCALENDAR