BEGIN:VCALENDAR
VERSION:2.0
PRODID:-//AU Schedule - ECPv6.9.0//NONSGML v1.0//EN
CALSCALE:GREGORIAN
METHOD:PUBLISH
X-WR-CALNAME:AU Agenda
X-ORIGINAL-URL:https://au-agenda.com
X-WR-CALDESC:Events for AU Schedule
REFRESH-INTERVAL;VALUE=DURATION:PT1H
X-Robots-Tag:noindex
X-PUBLISHED-TTL:PT1H
BEGIN:VTIMEZONE
TZID:Europe/Madrid
BEGIN:DAYLIGHT
TZOFFSETFROM:+0100
TZOFFSETTO:+0200
TZNAME:CEST
DTSTART:20260329T010000
END:DAYLIGHT
BEGIN:STANDARD
TZOFFSETFROM:+0200
TZOFFSETTO:+0100
TZNAME:CET
DTSTART:20261025T010000
END:STANDARD
END:VTIMEZONE
BEGIN:VEVENT
DTSTART;TZID=Europe/Madrid:20260228T190000
DTEND;TZID=Europe/Madrid:20260228T190000
DTSTAMP:20260419T230843
CREATED:20260123T091213Z
LAST-MODIFIED:20260123T091213Z
UID:304908-1772305200-1772305200@au-agenda.com
SUMMARY:La corporació
DESCRIPTION:Vicent Noguera\, mayor of Benitassona (of the Social Democratic Party)\, Arturo Febrer\, mayor of La Xenia (of the Conservative Party) i Emili Peris\, mayor of La Vall dels Cantals (de la coalició Encara Més Compromeses) comparteixen un problema. Un greu problema. Els tres pobles s’han vist afectats per un esdeveniment terrible\, inexplicable i de dimensions històriques que posa en perill la supervivència dels tres pobles; així que als tres alcaldes no els queda més remei que tractar de posar-se d’acord\, abans d’emprendre un viatge cap a Brussel·les on han estat convocats per la Presidenta de la Comissió Europea. Un viatge en què potser canviarà el futur de la política municipal. \nA La Corporació tindrem l’oportunitat de veure tres alcaldes en la seua faceta pública\, però també en els racons més amagats de la seua intimitat i dels seus somnis. Vos convidem a acompanyar Emili\, Arturo i Vicent. Vos garantim que el viatge paga la pena.
URL:https://au-agenda.com/evento/la-corporacio/
LOCATION:L’Horta Teatre\, Sant Martí de Porres\, 17\, Valencia\, Valencia\, 46026\, España
CATEGORIES:Escena
END:VEVENT
END:VCALENDAR