BEGIN:VCALENDAR
VERSION:2.0
PRODID:-//AU Schedule - ECPv6.9.0//NONSGML v1.0//EN
CALSCALE:GREGORIAN
METHOD:PUBLISH
X-WR-CALNAME:AU Agenda
X-ORIGINAL-URL:https://au-agenda.com
X-WR-CALDESC:Events for AU Schedule
REFRESH-INTERVAL;VALUE=DURATION:PT1H
X-Robots-Tag:noindex
X-PUBLISHED-TTL:PT1H
BEGIN:VTIMEZONE
TZID:Europe/Madrid
BEGIN:DAYLIGHT
TZOFFSETFROM:+0100
TZOFFSETTO:+0200
TZNAME:CEST
DTSTART:20260329T010000
END:DAYLIGHT
BEGIN:STANDARD
TZOFFSETFROM:+0200
TZOFFSETTO:+0100
TZNAME:CET
DTSTART:20261025T010000
END:STANDARD
END:VTIMEZONE
BEGIN:VEVENT
DTSTART;TZID=Europe/Madrid:20260206T223000
DTEND;TZID=Europe/Madrid:20260206T223000
DTSTAMP:20260421T100829
CREATED:20260205T085455Z
LAST-MODIFIED:20260205T085455Z
UID:306926-1770417000-1770417000@au-agenda.com
SUMMARY:Juli Giuliani
DESCRIPTION:Desde Barcelona llega el rapero Juli Giuliani a Valencia para presentar su nuevo album “Volver al principio”\, a work where the artist reconnects with the deepest part of himself, returning to classic sounds and messages that would be useful to anyone in their daily lives.. Giuliani demonstrates once again his versatility by taking charge of a large part of the musical production. \nEl show contará de entrada con el Showcase de For the simbols (rappers based in the Murcia scene) and thirteen aces(group settled in the Valencia scene) Juli will also be accompanied by guest artists Johnny Doc and Erick Hervé.
URL:https://au-agenda.com/evento/juli-giuliani-2/
LOCATION:Matisse Club\, Campoamor\, 60\, València
CATEGORIES:Música
END:VEVENT
END:VCALENDAR