BEGIN:VCALENDAR
VERSION:2.0
PRODID:-//AU Schedule - ECPv6.9.0//NONSGML v1.0//EN
CALSCALE:GREGORIAN
METHOD:PUBLISH
X-WR-CALNAME:AU Agenda
X-ORIGINAL-URL:https://au-agenda.com
X-WR-CALDESC:Events for AU Schedule
REFRESH-INTERVAL;VALUE=DURATION:PT1H
X-Robots-Tag:noindex
X-PUBLISHED-TTL:PT1H
BEGIN:VTIMEZONE
TZID:Europe/Madrid
BEGIN:DAYLIGHT
TZOFFSETFROM:+0100
TZOFFSETTO:+0200
TZNAME:CEST
DTSTART:20260329T010000
END:DAYLIGHT
BEGIN:STANDARD
TZOFFSETFROM:+0200
TZOFFSETTO:+0100
TZNAME:CET
DTSTART:20261025T010000
END:STANDARD
END:VTIMEZONE
BEGIN:VEVENT
DTSTART;TZID=Europe/Madrid:20260328T193000
DTEND;TZID=Europe/Madrid:20260328T193000
DTSTAMP:20260420T055546
CREATED:20260222T103949Z
LAST-MODIFIED:20260222T103949Z
UID:308851-1774726200-1774726200@au-agenda.com
SUMMARY:IX Cabanyal Puppet Festival- sugar cane: Cenicienta
DESCRIPTION:El escenario\, a la vez realista y simbólico\, It is occupied by a large chimney filled with smoke and soot: Un espacio desolado y ceniciento\, lleno de carbón\, habitado por pequeños duendes\, los Cenerine\, through which the story of Cinderella is told. Pero más que una historia sobre la búsqueda del Príncipe Azul\, Zaches Teatro's Cinderella is an initiatory fairy tale in which the arduous path to maturity involves breaking with the past.
URL:https://au-agenda.com/evento/ix-festival-de-titelles-cabanyal-canyamelar-cenicienta/
LOCATION:TEM\, Pl. Rosari\, 3\, Valencia\, Valencia\, 46011\, España
CATEGORIES:Escena
END:VEVENT
END:VCALENDAR