BEGIN:VCALENDAR
VERSION:2.0
PRODID:-//AU Agenda - ECPv6.9.0//NONSGML v1.0//EN
CALSCALE:GREGORIAN
METHOD:PUBLISH
X-WR-CALNAME:AU Agenda
X-ORIGINAL-URL:https://au-agenda.com
X-WR-CALDESC:Eventos para AU Agenda
REFRESH-INTERVAL;VALUE=DURATION:PT1H
X-Robots-Tag:noindex
X-PUBLISHED-TTL:PT1H
BEGIN:VTIMEZONE
TZID:Europe/Madrid
BEGIN:DAYLIGHT
TZOFFSETFROM:+0100
TZOFFSETTO:+0200
TZNAME:CEST
DTSTART:20260329T010000
END:DAYLIGHT
BEGIN:STANDARD
TZOFFSETFROM:+0200
TZOFFSETTO:+0100
TZNAME:CET
DTSTART:20261025T010000
END:STANDARD
END:VTIMEZONE
BEGIN:VEVENT
DTSTART;TZID=Europe/Madrid:20260328T193000
DTEND;TZID=Europe/Madrid:20260328T193000
DTSTAMP:20260420T000035
CREATED:20260222T103949Z
LAST-MODIFIED:20260222T103949Z
UID:308851-1774726200-1774726200@au-agenda.com
SUMMARY:IX Festival de Titelles Cabanyal- Canyamelar: Cenicienta
DESCRIPTION:El escenario\, a la vez realista y simbólico\, está ocupado por una gran chimenea llena de humo y hollín: Un espacio desolado y ceniciento\, lleno de carbón\, habitado por pequeños duendes\, los Cenerine\, a través de los cuales se narra la historia de Cenicienta. Pero más que una historia sobre la búsqueda del Príncipe Azul\, la Cenicienta de Zaches Teatro es un cuento de hadas iniciático en el que el arduo camino hacia la madurez implica romper con el pasado.
URL:https://au-agenda.com/evento/ix-festival-de-titelles-cabanyal-canyamelar-cenicienta/
LOCATION:TEM\, Pl. Rosari\, 3\, Valencia\, Valencia\, 46011\, España
CATEGORIES:Escena
END:VEVENT
END:VCALENDAR