BEGIN:VCALENDAR
VERSION:2.0
PRODID:-//AU Agenda - ECPv6.9.0//NONSGML v1.0//EN
CALSCALE:GREGORIAN
METHOD:PUBLISH
X-WR-CALNAME:AU Agenda
X-ORIGINAL-URL:https://au-agenda.com
X-WR-CALDESC:Eventos para AU Agenda
REFRESH-INTERVAL;VALUE=DURATION:PT1H
X-Robots-Tag:noindex
X-PUBLISHED-TTL:PT1H
BEGIN:VTIMEZONE
TZID:Europe/Madrid
BEGIN:DAYLIGHT
TZOFFSETFROM:+0100
TZOFFSETTO:+0200
TZNAME:CEST
DTSTART:20250330T010000
END:DAYLIGHT
BEGIN:STANDARD
TZOFFSETFROM:+0200
TZOFFSETTO:+0100
TZNAME:CET
DTSTART:20251026T010000
END:STANDARD
END:VTIMEZONE
BEGIN:VEVENT
DTSTART;TZID=Europe/Madrid:20251212T220000
DTEND;TZID=Europe/Madrid:20251212T220000
DTSTAMP:20260424T072652
CREATED:20251122T084105Z
LAST-MODIFIED:20251122T084105Z
UID:298567-1765576800-1765576800@au-agenda.com
SUMMARY:Isabel Rey: "Diva de barrio"
DESCRIPTION:A través de sus recuerdos\, Isabel reclama que vivimos en un mundo en el que fingimos felicidad a través de una pantalla para mostrárselo a los demás y luego estamos más amargados que cristo clavado en la cruz. Con su “chonismo” de los 2000\, Isabel te recordará lo felices que éramos en la época donde todavía estaban naciendo las primeras redes sociales y disfrutábamos más de la compañía de los demás. Isabel es una chica sin filtros\, que derrocha naturalidad. En este show nos deleita sus mejores anécdotas\, con todo lujo de detalles\, y un cierre musical que no te podrás perder.
URL:https://au-agenda.com/evento/isabel-rey-diva-de-barrio/
LOCATION:La PlaZeta\, San Bruno\, 21\, Valencia\, Valencia\, 46009\, España
CATEGORIES:Monólogo
END:VEVENT
END:VCALENDAR