BEGIN:VCALENDAR
VERSION:2.0
PRODID:-//AU Schedule - ECPv6.9.0//NONSGML v1.0//EN
CALSCALE:GREGORIAN
METHOD:PUBLISH
X-WR-CALNAME:AU Agenda
X-ORIGINAL-URL:https://au-agenda.com
X-WR-CALDESC:Events for AU Schedule
REFRESH-INTERVAL;VALUE=DURATION:PT1H
X-Robots-Tag:noindex
X-PUBLISHED-TTL:PT1H
BEGIN:VTIMEZONE
TZID:Europe/Madrid
BEGIN:DAYLIGHT
TZOFFSETFROM:+0100
TZOFFSETTO:+0200
TZNAME:CEST
DTSTART:20260329T010000
END:DAYLIGHT
BEGIN:STANDARD
TZOFFSETFROM:+0200
TZOFFSETTO:+0100
TZNAME:CET
DTSTART:20261025T010000
END:STANDARD
END:VTIMEZONE
BEGIN:VEVENT
DTSTART;TZID=Europe/Madrid:20260215T120000
DTEND;TZID=Europe/Madrid:20260215T120000
DTSTAMP:20260420T045417
CREATED:20260123T091021Z
LAST-MODIFIED:20260123T091021Z
UID:304904-1771156800-1771156800@au-agenda.com
SUMMARY:Illa del tresor
DESCRIPTION:Fa molts anys\, va existir un temible pirata que va aconseguir el més gran dels tresors… Hui\, només queden alguns membres de la seua tripulació\, who are desperately looking for some clue that will bring them closer to the precious gold. L’illa del tresor és la història d’aquests corsaris i de Jim\, un jove que ajuda la seua mare a portar una vella taverna i que es veurà immers en una aventura plena de pirates\, ships and desert islands. En aquest viatge\, he will have to recognize good and face evil. Discover what treasures really are and risk the question of whether the wicked have the right to forgiveness. \nPúblic familiar a partir de 8 anys\nPremi FETEN al Millor Espectacle Multidisciplinar 2025
URL:https://au-agenda.com/evento/illa-del-tresor/
LOCATION:L’Horta Teatre\, Sant Martí de Porres\, 17\, Valencia\, Valencia\, 46026\, España
CATEGORIES:Escena
END:VEVENT
END:VCALENDAR