BEGIN:VCALENDAR
VERSION:2.0
PRODID:-//AU Schedule - ECPv6.9.0//NONSGML v1.0//EN
CALSCALE:GREGORIAN
METHOD:PUBLISH
X-WR-CALNAME:AU Agenda
X-ORIGINAL-URL:https://au-agenda.com
X-WR-CALDESC:Events for AU Schedule
REFRESH-INTERVAL;VALUE=DURATION:PT1H
X-Robots-Tag:noindex
X-PUBLISHED-TTL:PT1H
BEGIN:VTIMEZONE
TZID:Europe/Madrid
BEGIN:DAYLIGHT
TZOFFSETFROM:+0100
TZOFFSETTO:+0200
TZNAME:CEST
DTSTART:20260329T010000
END:DAYLIGHT
BEGIN:STANDARD
TZOFFSETFROM:+0200
TZOFFSETTO:+0100
TZNAME:CET
DTSTART:20261025T010000
END:STANDARD
END:VTIMEZONE
BEGIN:VEVENT
DTSTART;TZID=Europe/Madrid:20260228T230000
DTEND;TZID=Europe/Madrid:20260228T230000
DTSTAMP:20260421T172002
CREATED:20260124T105121Z
LAST-MODIFIED:20260124T105121Z
UID:305381-1772319600-1772319600@au-agenda.com
SUMMARY:III Urban Night
DESCRIPTION:Después del éxito de las ediciones anteriores\, Urban Night returns on Saturday 28 February to continue marking the pulse of emerging urban music in Valencia. Una noche diseñada para que disfrutes de una nueva experiencia descubriendo los artistas locales que están pegando fuerte. Nuevas voces\, sonidos frescos y directos cargados de energía en un ambiente donde la música se vive de cerca y sin filtros. \n2 horas de conciertos con un line up que promete dejar huella: TUDUOFAVBB · DAID · SIMON · LA CUMBRE · ANDERTAKER. \nCada actuación es una oportunidad de conectar con futuras promesas del panorama urbano\, canciones que se te quedarán en la cabeza y vibes que te harán querer volver. Y cuando el directo termina… la noche no se apaga. \nDJ set final para cerrar por todo lo alto\, con una sesión preparada por Dj Clonex que nunca falla y que convierte Urban Night en una experiencia completa hasta el último minuto. \nHorario: 23:00 – 3:30
URL:https://au-agenda.com/evento/iii-urban-night/
LOCATION:Matisse Club\, Campoamor\, 60\, València
CATEGORIES:Música
END:VEVENT
END:VCALENDAR