BEGIN:VCALENDAR
VERSION:2.0
PRODID:-//AU Schedule - ECPv6.9.0//NONSGML v1.0//EN
CALSCALE:GREGORIAN
METHOD:PUBLISH
X-WR-CALNAME:AU Agenda
X-ORIGINAL-URL:https://au-agenda.com
X-WR-CALDESC:Events for AU Schedule
REFRESH-INTERVAL;VALUE=DURATION:PT1H
X-Robots-Tag:noindex
X-PUBLISHED-TTL:PT1H
BEGIN:VTIMEZONE
TZID:Europe/Madrid
BEGIN:DAYLIGHT
TZOFFSETFROM:+0100
TZOFFSETTO:+0200
TZNAME:CEST
DTSTART:20260329T010000
END:DAYLIGHT
BEGIN:STANDARD
TZOFFSETFROM:+0200
TZOFFSETTO:+0100
TZNAME:CET
DTSTART:20261025T010000
END:STANDARD
END:VTIMEZONE
BEGIN:VEVENT
DTSTART;TZID=Europe/Madrid:20260421T180000
DTEND;TZID=Europe/Madrid:20260421T180000
DTSTAMP:20260421T010836
CREATED:20260417T111514Z
LAST-MODIFIED:20260417T111514Z
UID:10034295-1776794400-1776794400@au-agenda.com
SUMMARY:III cycle of musical workshops OMBLIGO (with registration)
DESCRIPTION:La Fundación SGAE\, a través del Consejo Territorial de SGAE de la Comunidad Valenciana\, colabora con la III edición de OMBLIGO\, un ciclo de talleres de creación musical comisariado por la artista y gestora cultura Luna Valle\, and taught by young Valencian women. Dirigido a un público interesado en explorar la música desde la más absoluta creatividad\, imaginación y experimentación\, este proyecto nació con la voluntad de generar espacios de aprendizaje cercanos\, horizontales y libres de jerarquías.\n\nEl ciclo\, que se celebra en la Sala SGAE  Centre Cultural\, will open on tuesday 21 de abril con la sesión Puesta en escena\, taught by the artist Elvira del Rocío. Se abordará cómo transformar una actuación musical en una representación sensorial completa\, beyond mere sound. Thursday 23 de abril\, singer-songwriter Àgueda Segrelles will offer the workshop De l'arrel al cel: un vers rere l’altre\, sobre composición musical a partir de expresiones populares\, la memoria y la cotidianeidad.\n\nEl programa proseguirá durante los días 28 y 30 de abril\, with separate sessions around musical improvisation (by Naen) and introduction to DJing (by Ari)\, respectively. All workshops will begin at 18 horas y son de entrada libre\, hasta completar aforo\, Therefore, prior registration is recommended to confirm your place..
URL:https://au-agenda.com/evento/iii-ciclo-de-talleres-musicales-ombligo-con-inscripcion/2026-04-21/
LOCATION:SGAE\, Blanqueria\, 6\, Valencia\, Valencia\, 46003\, España
CATEGORIES:Taller
END:VEVENT
END:VCALENDAR