BEGIN:VCALENDAR
VERSION:2.0
PRODID:-//AU Schedule - ECPv6.9.0//NONSGML v1.0//EN
CALSCALE:GREGORIAN
METHOD:PUBLISH
X-WR-CALNAME:AU Agenda
X-ORIGINAL-URL:https://au-agenda.com
X-WR-CALDESC:Events for AU Schedule
REFRESH-INTERVAL;VALUE=DURATION:PT1H
X-Robots-Tag:noindex
X-PUBLISHED-TTL:PT1H
BEGIN:VTIMEZONE
TZID:Europe/Madrid
BEGIN:DAYLIGHT
TZOFFSETFROM:+0100
TZOFFSETTO:+0200
TZNAME:CEST
DTSTART:20260329T010000
END:DAYLIGHT
BEGIN:STANDARD
TZOFFSETFROM:+0200
TZOFFSETTO:+0100
TZNAME:CET
DTSTART:20261025T010000
END:STANDARD
END:VTIMEZONE
BEGIN:VEVENT
DTSTART;TZID=Europe/Madrid:20260424T190000
DTEND;TZID=Europe/Madrid:20260424T190000
DTSTAMP:20260424T183309
CREATED:20260408T075801Z
LAST-MODIFIED:20260408T075801Z
UID:313443-1777057200-1777057200@au-agenda.com
SUMMARY:II Read withScience: José Mª Bermúdez de Castro
DESCRIPTION:La Universitat Politècnica de València ha organizado la segunda edición de Leer conCiencia\, encuentros que fusionan literatura\, actualidad y divulgación científica\, and that this year they will be led by three exceptional speakers: el periodista José Luis Sastre\, the paleoanthropologist and co-director of the excavations of the sites in the Sierra de Atapuerca since 1991 José María Bermúdez de Castro and the journalist Paloma del Río. \nSerá José Luis Sastre quien abra el 17 April the second season of Leer conCiencia. El encuentro se celebrará a las 19h\, in the assembly hall of the Nexus building on the Vera campus of the UPV. Será conducido por Luis Zurano\, periodista del Área de Comunicación\, quien entablará un diálogo con Sastre sobre el proceso de creación de su nuevo libro\, sus recuerdos de los peores años del plomo y “hasta dónde estamos dispuestos a renunciar para defender un ideal”\, among many other issues. Tras la finalización del encuentro\, José Luis Sastre will sign his book for all interested people. Además\, tanto antes como después del evento\, habrá un punto de venta del libro\, gracias a la colaboración de la librería “La Traca” de Benimaclet. \nEl acceso será libre hasta completar aforo. Puedes reservar tu plaza en este formulario. \nJosé Mª Bermúdez de Castro\, he 24 de abril\nTras este primer encuentro\, el siguiente protagonista de “Leer conCiencia” será el paleoantropólogo José María Bermúdez de Castro\, co-director of the excavations of the sites in the Sierra de Atapuerca since 1991 and Prince of Asturias Award for Scientific and Technical Research 1997. Bermúdez de Castro hablará en la UPV sobre sus trabajos en Atapuerca\, his book “Homo antecessor: The birth of a species” and about human evolution. También sobre su trabajo en el campo de la divulgación\, in which it is one of the great references of the country. It will be the 24 de abril\, a las 18.30h\, also in the assembly hall of the Nexus building. Puedes inscribirte en este otro formulario. \nPaloma del Río\, he 28 de mayo\nY el jueves 28 de mayo Paloma del Río\, periodista española que más veces ha cubierto los Juegos Olímpicos\, will be the main protagonist of the third and last Read conCiencia of this course. Paloma del Río\, one of the pioneering women in sports information \, presentará en este encuentro su libro\, which is titled “That was not in my book about the Olympic Games”. Será también a partir de las 18.30h\, in the assembly hall of the Nexus building of the UPV. El acceso será libre también\, prior registration.
URL:https://au-agenda.com/evento/ii-leer-conciencia-jose-ma-bermudez-de-castro/
LOCATION:UPV\, Camí de Vera\, s/n\, Valencia\, Valencia\, 46022\, España
CATEGORIES:Presentació llibre/disc
ATTACH;FMTTYPE=image/jpeg:https://au-agenda.com/wp-content/uploads/2026/04/int_jose_luis_sastre_plomo_2026-2.jpg
END:VEVENT
END:VCALENDAR